BEGIN:VCALENDAR
VERSION:2.0
PRODID:-//ife - Netzwerk für Einzelfertiger - ECPv6.15.12.2//NONSGML v1.0//EN
CALSCALE:GREGORIAN
METHOD:PUBLISH
X-ORIGINAL-URL:https://www.ife-institut-einzelfertiger.de
X-WR-CALDESC:Veranstaltungen für ife - Netzwerk für Einzelfertiger
REFRESH-INTERVAL;VALUE=DURATION:PT1H
X-Robots-Tag:noindex
X-PUBLISHED-TTL:PT1H
BEGIN:VTIMEZONE
TZID:Europe/Berlin
BEGIN:DAYLIGHT
TZOFFSETFROM:+0100
TZOFFSETTO:+0200
TZNAME:CEST
DTSTART:20250330T010000
END:DAYLIGHT
BEGIN:STANDARD
TZOFFSETFROM:+0200
TZOFFSETTO:+0100
TZNAME:CET
DTSTART:20251026T010000
END:STANDARD
BEGIN:DAYLIGHT
TZOFFSETFROM:+0100
TZOFFSETTO:+0200
TZNAME:CEST
DTSTART:20260329T010000
END:DAYLIGHT
BEGIN:STANDARD
TZOFFSETFROM:+0200
TZOFFSETTO:+0100
TZNAME:CET
DTSTART:20261025T010000
END:STANDARD
BEGIN:DAYLIGHT
TZOFFSETFROM:+0100
TZOFFSETTO:+0200
TZNAME:CEST
DTSTART:20270328T010000
END:DAYLIGHT
BEGIN:STANDARD
TZOFFSETFROM:+0200
TZOFFSETTO:+0100
TZNAME:CET
DTSTART:20271031T010000
END:STANDARD
END:VTIMEZONE
BEGIN:VEVENT
DTSTART;TZID=Europe/Berlin:20260512T150000
DTEND;TZID=Europe/Berlin:20260512T160000
DTSTAMP:20260422T034452
CREATED:20250811T122919Z
LAST-MODIFIED:20251125T124528Z
UID:4572083-1778598000-1778601600@www.ife-institut-einzelfertiger.de
SUMMARY:Exklusives Austauschforum für den Sondermaschinen- und Anlagenbau
DESCRIPTION:[vc_row][vc_column][vc_column_text] \nMaßgeschneiderte Lösungen für komplexe Aufträge – gemeinsam anpacken.Maschinen- und Anlagenbauer\, die in Losgröße 1+ produzieren\, stehen tagtäglich vor besonderen Herausforderungen: hohe Investitionen\, lange Projektlaufzeiten und ständig wechselnde Rahmenbedingungen. Planungssicherheit? Kaum vorhanden. Flexibilität und Unternehmergeist sind gefragt – und zwar mehr denn je. \nWie gelingt es\, Projekte trotz Unwägbarkeiten effizient umzusetzen?In unserem exklusiven Austauschforum bringen wir Praktiker aus dem Sondermaschinen- und Anlagenbau zusammen. Im Mittelpunkt steht der offene Dialog: über Herausforderungen\, Lösungsansätze und Best Practices aus der Praxis. \nWas Sie erwartet: \n\nAustausch auf Augenhöhe mit Branchenkollegen\nDiskussion konkreter Praxisbeispiele\nImpulse zu Agilität\, Risikomanagement und Zusammenarbeit\nRaum für neue Partnerschaften und Ideen\n\nGemeinsam wollen wir Wege finden\, den Zusammenhalt in der Branche zu stärken – praxisnah\, lösungsorientiert und zukunftsgewandt. \nDie Teilnahme ist kostenlos und auf 12 Teilnehmende begrenzt – jetzt anmelden und dabei sein! »
URL:https://www.ife-institut-einzelfertiger.de/event/exklusives-austauschforum-fuer-den-sondermaschinen-und-anlagenbau/
LOCATION:Online\, Deutschland
CATEGORIES:home-events,Hompage-Highlight,Veranstaltungsunterseite
ATTACH;FMTTYPE=image/png:https://www.ife-institut-einzelfertiger.de/wp-content/uploads/2023/08/ife-Logo-2023-1-e1752577264216.png
END:VEVENT
BEGIN:VEVENT
DTSTART;TZID=Europe/Berlin:20260513T143000
DTEND;TZID=Europe/Berlin:20260513T160000
DTSTAMP:20260422T034452
CREATED:20260224T140336Z
LAST-MODIFIED:20260416T120743Z
UID:4573368-1778682600-1778688000@www.ife-institut-einzelfertiger.de
SUMMARY:Grenzen und Möglichkeiten von Cybersecurity bei einem Einzelfertiger – Ein Blick aus der Praxis
DESCRIPTION:Grenzen und Möglichkeiten von Cybersecurity bei einem Einzelfertiger – Ein Blick aus der Praxis\n\nSebastian Groos – COO & CIO von Achenbach Buschhütten einem weltweit agierenden Maschinen- und Anlagenbauer berichtet von einem bedeutenden IT-Turnaround. Hierbei zeigt er gezielt die Grenzen und Möglichkeiten von Cybersecurity bei einem Einzelfertiger auf. Begrenzte Budgets\, begrenzte Kapazitäten\, interne Zurückhaltungen und dennoch muss es gelingen. Ein spannender Umsetzungsbericht\, zu dem am Ende des Vortrags intensiv diskutiert werden kann. \nAchenbach Buschhütten ist ein weltweit führender Spezialist für High-Tech-Walzwerke und Schneidanlagen zur Verarbeitung von Aluminiumfolien und -bändern sowie weiterer NE-Metalle. Das in 8. Generation familiengeführte Unternehmen mit Sitz in Kreuztal-Buschhütten blickt auf über 570 Jahre Tradition zurück und vereint Präzisions-Maschinenbau „Made in Germany“ mit digitaler Innovationskraft. Der Fokus liegt vor allem auf der Herstellung sehr dünner Aluminiumfolien. Diese kommen in Verpackungen für Lebensmittel und Pharmaprodukte\, als Haushalts- oder Kondensatorfolie sowie als ultradünne Kathodenfolie für Lithium-Ionen-Batterien in Elektrofahrzeugen zum Einsatz. Mit eigener Automatisierungstechnik\, Drives\, der IoT-Plattform Achenbach OPTILINK® und einem Fokus auf Nachhaltigkeit bietet Achenbach ganzheitliche Lösungen für eine effiziente und vernetzte Aluminiumherstellung weltweit. \nAnmeldung\nDie Teilnahme ist kostenfrei. \nZur Anmeldung geht es hier »
URL:https://www.ife-institut-einzelfertiger.de/event/grenzen-und-moeglichkeiten-von-cybersecurity-bei-einem-einzelfertiger-ein-blick-aus-der-praxis/
LOCATION:Online\, Deutschland
CATEGORIES:home-events,Hompage-Highlight,Veranstaltungsunterseite
ATTACH;FMTTYPE=image/png:https://www.ife-institut-einzelfertiger.de/wp-content/uploads/2025/01/Achenbach_CMYK.png
END:VEVENT
BEGIN:VEVENT
DTSTART;TZID=Europe/Berlin:20260518T090000
DTEND;TZID=Europe/Berlin:20260518T120000
DTSTAMP:20260422T034452
CREATED:20260410T055736Z
LAST-MODIFIED:20260410T062928Z
UID:4573530-1779094800-1779105600@www.ife-institut-einzelfertiger.de
SUMMARY:KI verstehen. KI nutzen. KI automatisieren.
DESCRIPTION:KI verstehen. KI nutzen. KI automatisieren.\nKostenlose Workshop-Reihe für den Mittelstand — Vom ersten Prompt zum KI-Agenten\n\n\nDrei Stufen zur KI-Souveränität\nJede Stufe baut auf der vorherigen auf. Die kostenlose Workshop-Reihe gibt Ihnen einen Einstieg in jede Stufe. \nStufe 1\nChat & Assistent \nKI im Arbeitsalltag nutzen — Prompting\, Wissensassistenten\, Custom GPTs für Ihr Team. \nWeitere Informationen zur Veranstaltung und die Anmeldung finden Sie hier »
URL:https://www.ife-institut-einzelfertiger.de/event/ki-verstehen-ki-nutzen-ki-automatisieren/
LOCATION:Online\, Deutschland
CATEGORIES:home-events,Hompage-Highlight,Veranstaltungsunterseite
ATTACH;FMTTYPE=image/png:https://www.ife-institut-einzelfertiger.de/wp-content/uploads/2026/04/Kim-3.png
END:VEVENT
BEGIN:VEVENT
DTSTART;TZID=Europe/Berlin:20260520T133000
DTEND;TZID=Europe/Berlin:20260520T180000
DTSTAMP:20260422T034452
CREATED:20260331T134437Z
LAST-MODIFIED:20260402T075459Z
UID:4573505-1779283800-1779300000@www.ife-institut-einzelfertiger.de
SUMMARY:Wege aus dem Endlager-Dilemma
DESCRIPTION:Wege aus dem Endlager-Dilemma – Alternative Strategien zur Entsorgung von Kernbrennstoffen\nDie weltweiten Bestände an verbrauchten Kernbrennstoffen wachsen kontinuierlich – in Europa ebenso wie in den USA und zunehmend auch in Asien. Zugleich gewinnt die Kernenergie in zahlreichen Ländern wieder an Bedeutung. Die Frage der Entsorgung bleibt dabei weiterhin ungelöst. Belastbare Endlagerlösungen sind vielfach noch Jahrzehnte entfernt. \nVor diesem Hintergrund möchte die Veranstaltung einen fachlich fundierten Überblick über internationale Entwicklungen geben. Wie groß ist die globale Herausforderung? Welche Rolle spielt die Zwischenlagerung? Und welche technologischen Innovationen könnten zu weiterer Energieausbeute sowie einer deutlichen Reduzierung von Abfallmengen\, Radiotoxizität und Reststrahlzeiten beitragen? Wie sind die Entwicklungen politisch einzuordnen? \nProgramm \n\n13:30 Einlass und Registrierung\n14:00 Begrüßung und Einführung Christof von Branconi\, Vorstand Global Energy Solutions Axel Pieper\, Vorstand 4Pi-Solutions\n14:10 Ausgangslage: Bestände und Entwicklungstrends in Deutschland\, der EU-27 und global\, Referent/Referentin der OECD-NEA\n14:45 Zwischenlagerung heute und morgen: Konzepte\, Sicherheit und absehbare Entwicklungen\, Bernhard Leidinger\, Leidinger Technology\n15:20 Kaffeepause\n15:50 Innovationsraum: Technologische Optionen in den nächsten 5 bis 15 Jahren\, Prof. Dr. Bruno Merk\, University of Liverpool\n16:30 Unternehmensbeiträge: Konkrete Entwicklungen und Umsetzungsperspektiven\, Copenhagen Atomics A/S (Dänemark) Transmutex SA (Schweiz) Thorizon B. V. (Niederlande)\n17:30 Politische Einordnung\n18:00 Ausklang und Networking\n\nzum Programm-Download» \nAnmeldung bitte bis zum 20. April 2026 an: office@global-energy-solutions.org \nDie Teilnahme ist Kostenfrei \nOrt:\n„Die Wartehalle“\nJulie-Wolfthorn-Str. 1\n10115 Berlin
URL:https://www.ife-institut-einzelfertiger.de/event/wege-aus-dem-endlager-dilemma/
LOCATION:Die Wartehalle\, Julie-Wolfthorn-Str. 1\, Berlin\, Berlin\, 10115
CATEGORIES:Hompage-Highlight,Veranstaltungsunterseite
ATTACH;FMTTYPE=image/png:https://www.ife-institut-einzelfertiger.de/wp-content/uploads/2026/03/GES-4PI-Logos-1.png
END:VEVENT
BEGIN:VEVENT
DTSTART;TZID=Europe/Berlin:20260521T150000
DTEND;TZID=Europe/Berlin:20260521T160000
DTSTAMP:20260422T034452
CREATED:20250506T073912Z
LAST-MODIFIED:20251125T124640Z
UID:4570825-1779375600-1779379200@www.ife-institut-einzelfertiger.de
SUMMARY:Anwender vernetzen – Wissen stärken - ams.erp Usergroup
DESCRIPTION:[vc_row][vc_column][vc_column_text] \nSie nutzen ams.erp in Ihrem Unternehmen und wünschen sich einen offenen Austausch mit anderen Anwenderinnen und Anwendern? Dann sind Sie bei dieser Usergroup genau richtig. Hier geht es nicht um Produktpräsentationen oder Hersteller-Updates – sondern um das\, was im Alltag zählt:Lösungen\, Herausforderungen\, Tipps und echte Erfahrungen – aus der Praxis\, für die Praxis. \nWas Sie erwartet: \n\nOffener Austausch zu alltäglichen Prozessen mit ams.erp\nDiskussion typischer Herausforderungen und individueller Lösungsansätze\nPraxisberichte zu Modulen\, Schnittstellen\, Anpassungen oder Workarounds\nVernetzung mit anderen Anwendern – digital\, aber persönlich\nEine vertrauliche Umgebung\, um offen Fragen zu stellen und Wissen zu teilen\nOb Sie schon lange mit ams arbeiten oder noch relativ neu im System sind – hier profitieren alle vom gemeinsamen Wissen.\n\nZiel der Usergroup:Eine unabhängige Community-Plattform für den Erfahrungsaustausch\, die gegenseitige Unterstützung fördert und den Blick über den Tellerrand erlaubt. \n  \nDie Teilnahme ist kostenlos und auf 12 Teilnehmende begrenzt – jetzt anmelden und dabei sein! »
URL:https://www.ife-institut-einzelfertiger.de/event/anwender-vernetzen-wissen-staerken-ams-erp-usergroup/
LOCATION:Online\, Deutschland
CATEGORIES:home-events,Hompage-Highlight,Veranstaltungsunterseite
ATTACH;FMTTYPE=image/png:https://www.ife-institut-einzelfertiger.de/wp-content/uploads/2022/11/RZ_ams_Logo_23-e1728472504291.png
END:VEVENT
BEGIN:VEVENT
DTSTART;TZID=Europe/Berlin:20260526T123000
DTEND;TZID=Europe/Berlin:20260526T133000
DTSTAMP:20260422T034452
CREATED:20260410T060117Z
LAST-MODIFIED:20260410T063006Z
UID:4573534-1779798600-1779802200@www.ife-institut-einzelfertiger.de
SUMMARY:KI verstehen. KI nutzen. KI automatisieren.
DESCRIPTION:KI verstehen. KI nutzen. KI automatisieren.\nKostenlose Workshop-Reihe für den Mittelstand — Vom ersten Prompt zum KI-Agenten\n\n\nDrei Stufen zur KI-Souveränität\nJede Stufe baut auf der vorherigen auf. Die kostenlose Workshop-Reihe gibt Ihnen einen Einstieg in jede Stufe. \nStufe 2\nAutomation & Workflow \nProzesse automatisieren — Daten verbinden\, Workflows bauen\, repetitive Aufgaben eliminieren. \nWeitere Informationen zur Veranstaltung und die Anmeldung finden Sie hier »
URL:https://www.ife-institut-einzelfertiger.de/event/ki-verstehen-ki-nutzen-ki-automatisieren-2/
LOCATION:Online\, Deutschland
CATEGORIES:home-events,Hompage-Highlight,Veranstaltungsunterseite
ATTACH;FMTTYPE=image/png:https://www.ife-institut-einzelfertiger.de/wp-content/uploads/2026/04/Kim-3.png
END:VEVENT
END:VCALENDAR