BEGIN:VCALENDAR
VERSION:2.0
PRODID:-//ife - Netzwerk für Einzelfertiger - ECPv6.15.12.2//NONSGML v1.0//EN
CALSCALE:GREGORIAN
METHOD:PUBLISH
X-ORIGINAL-URL:https://www.ife-institut-einzelfertiger.de
X-WR-CALDESC:Veranstaltungen für ife - Netzwerk für Einzelfertiger
REFRESH-INTERVAL;VALUE=DURATION:PT1H
X-Robots-Tag:noindex
X-PUBLISHED-TTL:PT1H
BEGIN:VTIMEZONE
TZID:Europe/Berlin
BEGIN:DAYLIGHT
TZOFFSETFROM:+0100
TZOFFSETTO:+0200
TZNAME:CEST
DTSTART:20250330T010000
END:DAYLIGHT
BEGIN:STANDARD
TZOFFSETFROM:+0200
TZOFFSETTO:+0100
TZNAME:CET
DTSTART:20251026T010000
END:STANDARD
BEGIN:DAYLIGHT
TZOFFSETFROM:+0100
TZOFFSETTO:+0200
TZNAME:CEST
DTSTART:20260329T010000
END:DAYLIGHT
BEGIN:STANDARD
TZOFFSETFROM:+0200
TZOFFSETTO:+0100
TZNAME:CET
DTSTART:20261025T010000
END:STANDARD
BEGIN:DAYLIGHT
TZOFFSETFROM:+0100
TZOFFSETTO:+0200
TZNAME:CEST
DTSTART:20270328T010000
END:DAYLIGHT
BEGIN:STANDARD
TZOFFSETFROM:+0200
TZOFFSETTO:+0100
TZNAME:CET
DTSTART:20271031T010000
END:STANDARD
END:VTIMEZONE
BEGIN:VEVENT
DTSTART;VALUE=DATE:20260312
DTEND;VALUE=DATE:20260313
DTSTAMP:20260422T033444
CREATED:20260127T104303Z
LAST-MODIFIED:20260127T104529Z
UID:4573276-1773273600-1773359999@www.ife-institut-einzelfertiger.de
SUMMARY:ESG & Group Reporting Tech Summit 2026
DESCRIPTION:ESG & Group Reporting Tech Summit 2026\n\nDigitale Lösungen für die Nachhaltigkeits- und Konzernberichterstattung \n  \n\n\nProgramm\n\n\n\n\n\n\nUhrzeit\nProgrammpunkt\n\n\n\n\n09:15 – 09:30\nBegrüßung\n\n\n09:30 – 10:30\nVorträge – Teil 1\n\n\n10:30 – 11:00\nKaffeepause & Networking\n\n\n11:00 – 12:30\nVorträge – Teil 2\n\n\n12:30 – 13:30\nGemeinsames Mittagessen & Networking\n\n\n13:30 – 15:00\nVorträge – Teil 3\n\n\n15:00 – 15:30\nKaffeepause & Networking\n\n\n15:30 – 16:30\nVorträge – Teil 4\n\n\n16:30 – 16:45\nVerabschiedung\n\n\n\n\n\n  \nAnmeldung\nDie Teilnahme ist kostenfrei. \nWeitere Informationen zur Veranstaltung und die Anmeldung finden Sie hier »
URL:https://www.ife-institut-einzelfertiger.de/event/esg-group-reporting-tech-summit-2026/
LOCATION:Hochschule für Wirtschaft & Recht Berlin\, Badensche Str. 52\, 10825 Berlin\, Germany
CATEGORIES:home-events,Hompage-Highlight,Veranstaltungsunterseite
ATTACH;FMTTYPE=image/png:https://www.ife-institut-einzelfertiger.de/wp-content/uploads/2025/01/HWR-Berlin_Logo_CMYK.jpg
END:VEVENT
BEGIN:VEVENT
DTSTART;TZID=Europe/Berlin:20260319T150000
DTEND;TZID=Europe/Berlin:20260319T160000
DTSTAMP:20260422T033444
CREATED:20250626T122156Z
LAST-MODIFIED:20260211T134704Z
UID:4571589-1773932400-1773936000@www.ife-institut-einzelfertiger.de
SUMMARY:Exklusives Austauschforum für den Stahl- und Metallbau
DESCRIPTION:[vc_row][vc_column][vc_column_text] \nBauen unter Hochdruck – gemeinsam besser werden.\nStahl- und Metallbauprojekte sind komplex: Enge Zeitfenster\, hohe technische Anforderungen und viele Beteiligte auf der Baustelle lassen wenig Raum für Fehler. Während Vorgaben sich kurzfristig ändern\, bleiben Termine und Budgets bestehen. In diesem Spannungsfeld sind Erfahrung\, Flexibilität und vorausschauendes Handeln gefragt – mehr denn je. \nWie gelingt es\, Projekte trotz dieser Herausforderungen erfolgreich zu steuern?In unserem Austauschforum bringen wir Praktiker:innen aus dem Stahl- und Metallbau zusammen – zum offenen Dialog über das\, was wirklich zählt:Erfahrungen\, Strategien\, Lösungsansätze und neue Perspektiven aus der Praxis. \nDas erwartet Sie: \n\nFachlicher Austausch auf Augenhöhe\nDiskussion konkreter Projektbeispiele\nImpulse zu Schnittstellenmanagement\, Risikosteuerung und agiler Planung\nRaum für neue Ideen\, Partnerschaften und Impulse\n\nWir wollen gemeinsam anpacken – praxisnah\, lösungsorientiert\, zukunftsgerichtet. \n  \nDie Teilnahme ist kostenlos und auf 12 Teilnehmende begrenzt – jetzt anmelden und dabei sein! »
URL:https://www.ife-institut-einzelfertiger.de/event/exklusives-austauschforum-fuer-den-stahl-und-metallbau/
LOCATION:Online\, Deutschland
CATEGORIES:home-events,Hompage-Highlight,Veranstaltungsunterseite
ATTACH;FMTTYPE=image/png:https://www.ife-institut-einzelfertiger.de/wp-content/uploads/2023/08/ife-Logo-2023.png
END:VEVENT
END:VCALENDAR