BEGIN:VCALENDAR
VERSION:2.0
PRODID:-//ife - Netzwerk für Einzelfertiger - ECPv6.15.12.2//NONSGML v1.0//EN
CALSCALE:GREGORIAN
METHOD:PUBLISH
X-ORIGINAL-URL:https://www.ife-institut-einzelfertiger.de
X-WR-CALDESC:Veranstaltungen für ife - Netzwerk für Einzelfertiger
REFRESH-INTERVAL;VALUE=DURATION:PT1H
X-Robots-Tag:noindex
X-PUBLISHED-TTL:PT1H
BEGIN:VTIMEZONE
TZID:Europe/Berlin
BEGIN:DAYLIGHT
TZOFFSETFROM:+0100
TZOFFSETTO:+0200
TZNAME:CEST
DTSTART:20250330T010000
END:DAYLIGHT
BEGIN:STANDARD
TZOFFSETFROM:+0200
TZOFFSETTO:+0100
TZNAME:CET
DTSTART:20251026T010000
END:STANDARD
BEGIN:DAYLIGHT
TZOFFSETFROM:+0100
TZOFFSETTO:+0200
TZNAME:CEST
DTSTART:20260329T010000
END:DAYLIGHT
BEGIN:STANDARD
TZOFFSETFROM:+0200
TZOFFSETTO:+0100
TZNAME:CET
DTSTART:20261025T010000
END:STANDARD
BEGIN:DAYLIGHT
TZOFFSETFROM:+0100
TZOFFSETTO:+0200
TZNAME:CEST
DTSTART:20270328T010000
END:DAYLIGHT
BEGIN:STANDARD
TZOFFSETFROM:+0200
TZOFFSETTO:+0100
TZNAME:CET
DTSTART:20271031T010000
END:STANDARD
END:VTIMEZONE
BEGIN:VEVENT
DTSTART;TZID=Europe/Berlin:20260204T150000
DTEND;TZID=Europe/Berlin:20260204T160000
DTSTAMP:20260422T043533
CREATED:20230823T083958Z
LAST-MODIFIED:20251125T124158Z
UID:4564989-1770217200-1770220800@www.ife-institut-einzelfertiger.de
SUMMARY:Exklusives Austauschforum für den Sondermaschinen- und Anlagenbau
DESCRIPTION:[vc_row][vc_column][vc_column_text] \nMaßgeschneiderte Lösungen für komplexe Aufträge – gemeinsam anpacken.Maschinen- und Anlagenbauer\, die in Losgröße 1+ produzieren\, stehen tagtäglich vor besonderen Herausforderungen: hohe Investitionen\, lange Projektlaufzeiten und ständig wechselnde Rahmenbedingungen. Planungssicherheit? Kaum vorhanden. Flexibilität und Unternehmergeist sind gefragt – und zwar mehr denn je. \nWie gelingt es\, Projekte trotz Unwägbarkeiten effizient umzusetzen?In unserem exklusiven Austauschforum bringen wir Praktiker aus dem Sondermaschinen- und Anlagenbau zusammen. Im Mittelpunkt steht der offene Dialog: über Herausforderungen\, Lösungsansätze und Best Practices aus der Praxis. \nWas Sie erwartet: \n\nAustausch auf Augenhöhe mit Branchenkollegen\nDiskussion konkreter Praxisbeispiele\nImpulse zu Agilität\, Risikomanagement und Zusammenarbeit\nRaum für neue Partnerschaften und Ideen\n\nGemeinsam wollen wir Wege finden\, den Zusammenhalt in der Branche zu stärken – praxisnah\, lösungsorientiert und zukunftsgewandt. \nDie Teilnahme ist kostenlos und auf 12 Teilnehmende begrenzt – jetzt anmelden und dabei sein! »
URL:https://www.ife-institut-einzelfertiger.de/event/branchenaustausch-sondermaschinen-und-anlagenbau-3/
LOCATION:Online\, Deutschland
CATEGORIES:home-events,Hompage-Highlight,Veranstaltungsunterseite
ATTACH;FMTTYPE=image/png:https://www.ife-institut-einzelfertiger.de/wp-content/uploads/2023/08/ife-Logo-2023-1-e1752577264216.png
END:VEVENT
BEGIN:VEVENT
DTSTART;TZID=Europe/Berlin:20260210T150000
DTEND;TZID=Europe/Berlin:20260210T160000
DTSTAMP:20260422T043533
CREATED:20250616T071341Z
LAST-MODIFIED:20260129T115115Z
UID:4571563-1770735600-1770739200@www.ife-institut-einzelfertiger.de
SUMMARY:Anwender vernetzen – Wissen stärken - ams.erp Usergroup
DESCRIPTION:[vc_row][vc_column][vc_column_text] \nSie nutzen ams.erp in Ihrem Unternehmen und wünschen sich einen offenen Austausch mit anderen Anwenderinnen und Anwendern? Dann sind Sie bei dieser Usergroup genau richtig. Hier geht es nicht um Produktpräsentationen oder Hersteller-Updates – sondern um das\, was im Alltag zählt:Lösungen\, Herausforderungen\, Tipps und echte Erfahrungen – aus der Praxis\, für die Praxis. \nWas Sie erwartet: \n\nOffener Austausch zu alltäglichen Prozessen mit ams.erp\nDiskussion typischer Herausforderungen und individueller Lösungsansätze\nPraxisberichte zu Modulen\, Schnittstellen\, Anpassungen oder Workarounds\nVernetzung mit anderen Anwendern – digital\, aber persönlich\nEine vertrauliche Umgebung\, um offen Fragen zu stellen und Wissen zu teilen\nOb Sie schon lange mit ams arbeiten oder noch relativ neu im System sind – hier profitieren alle vom gemeinsamen Wissen.\n\nZiel der Usergroup:Eine unabhängige Community-Plattform für den Erfahrungsaustausch\, die gegenseitige Unterstützung fördert und den Blick über den Tellerrand erlaubt. \nDie Teilnahme ist kostenlos und auf 12 Teilnehmende begrenzt – jetzt anmelden und dabei sein! »
URL:https://www.ife-institut-einzelfertiger.de/event/anwender-vernetzen-wissen-staerken-ams-erp-usergroup-3/
LOCATION:Online\, Deutschland
CATEGORIES:home-events,Hompage-Highlight,Veranstaltungsunterseite
ATTACH;FMTTYPE=image/png:https://www.ife-institut-einzelfertiger.de/wp-content/uploads/2022/11/RZ_ams_Logo_23-e1728472504291.png
END:VEVENT
BEGIN:VEVENT
DTSTART;TZID=Europe/Berlin:20260217T130000
DTEND;TZID=Europe/Berlin:20260217T180000
DTSTAMP:20260422T043533
CREATED:20260119T105512Z
LAST-MODIFIED:20260120T153811Z
UID:4573232-1771333200-1771351200@www.ife-institut-einzelfertiger.de
SUMMARY:Der CO₂-Fußabdruck im Maschinen- und Anlagenbau – Von den gesetzlichen Vorschriften zur Praxis
DESCRIPTION:Die Westsächsische Hochschule Zwickau und die Universität Kassel laden herzlich zur ersten Transferveranstaltung des Forschungsprojektes »acCO2unt.log« ein. Die Bilanzierung von CO2-Emissionen wird für die Unternehmen des Maschinen- und Anlagenbaus zunehmend wichtig. Steigende gesetzliche Anforderungen und ein erhöhtes Nachhaltigkeitsbewusstsein rücken das Thema immer stärker in den Fokus. Doch wie lässt sich ein CO2-Fußabdruck in der Praxis effizient erfassen und dokumentieren? \nDie Westsächsische Hochschule Zwickau und die Universität Kassel laden Sie herzlich ein\, diesen Fragen auf den Grund zu gehen. Im Rahmen der ersten Transferveranstaltung zum Forschungsprojekt »acCO2unt.log« möchten wir mit Ihnen die Brücke von der Theorie zur unternehmerischen Praxis schlagen. In Vorträgen und Diskussionen werden die Herausforderungen und der Umgang mit gesetzlichen Berichtspflichten zur CO₂-Bilanzierung aus unternehmerischer Perspektive erörtert. Wissenschaft und Wirtschaft tauschen sich über praxisnahe Ansätze zur Erhebung des CO2-Fußabdrucks\, insbesondere von Produkten (Product Carbon Footprint)\, aus und diskutieren die Integration in bestehende betriebliche Informationssysteme. \nAnmeldung\nDie Teilnahme ist kostenfrei. \nWeitere Informationen zur Veranstaltung und die Anmeldung finden Sie hier »
URL:https://www.ife-institut-einzelfertiger.de/event/der-co%e2%82%82-fussabdruck-im-maschinen-und-anlagenbau-von-den-gesetzlichen-vorschriften-zur-praxis/
LOCATION:Westsächsische Hochschule Zwickau\, Keplerstraße 2\, Zwickau\, Sachsen\, 08056\, Germany
CATEGORIES:home-events,Hompage-Highlight,Veranstaltungsunterseite
ORGANIZER;CN="Wests%C3%A4chsische Hochschule Zwickau":MAILTO:wibke.kusturica@whz.de
END:VEVENT
END:VCALENDAR