BEGIN:VCALENDAR
VERSION:2.0
PRODID:-//ife - Netzwerk für Einzelfertiger - ECPv6.15.12.2//NONSGML v1.0//EN
CALSCALE:GREGORIAN
METHOD:PUBLISH
X-WR-CALNAME:ife - Netzwerk für Einzelfertiger
X-ORIGINAL-URL:https://www.ife-institut-einzelfertiger.de
X-WR-CALDESC:Veranstaltungen für ife - Netzwerk für Einzelfertiger
REFRESH-INTERVAL;VALUE=DURATION:PT1H
X-Robots-Tag:noindex
X-PUBLISHED-TTL:PT1H
BEGIN:VTIMEZONE
TZID:Europe/Berlin
BEGIN:DAYLIGHT
TZOFFSETFROM:+0100
TZOFFSETTO:+0200
TZNAME:CEST
DTSTART:20250330T010000
END:DAYLIGHT
BEGIN:STANDARD
TZOFFSETFROM:+0200
TZOFFSETTO:+0100
TZNAME:CET
DTSTART:20251026T010000
END:STANDARD
BEGIN:DAYLIGHT
TZOFFSETFROM:+0100
TZOFFSETTO:+0200
TZNAME:CEST
DTSTART:20260329T010000
END:DAYLIGHT
BEGIN:STANDARD
TZOFFSETFROM:+0200
TZOFFSETTO:+0100
TZNAME:CET
DTSTART:20261025T010000
END:STANDARD
BEGIN:DAYLIGHT
TZOFFSETFROM:+0100
TZOFFSETTO:+0200
TZNAME:CEST
DTSTART:20270328T010000
END:DAYLIGHT
BEGIN:STANDARD
TZOFFSETFROM:+0200
TZOFFSETTO:+0100
TZNAME:CET
DTSTART:20271031T010000
END:STANDARD
END:VTIMEZONE
BEGIN:VEVENT
DTSTART;TZID=Europe/Berlin:20260121T113000
DTEND;TZID=Europe/Berlin:20260121T123000
DTSTAMP:20260422T054612
CREATED:20251125T123734Z
LAST-MODIFIED:20251125T123734Z
UID:4572979-1768995000-1768998600@www.ife-institut-einzelfertiger.de
SUMMARY:Austauschforum zur E-Rechnung Pflicht - Wissen und Lösungen aus dem Netzwerk
DESCRIPTION:Die verpflichtende Einführung der elektronischen Rechnung stellt insbesondere den deutschen Mittelstand in der Einzelfertigung vor neue Herausforderungen. \n\nIn dem Austauschforum wollen wir die wichtigsten Fragen klären: \n\nWas bedeutet die E-Rechnungspflicht konkret für die Einzelfertigung?\nWie lassen sich die Anforderungen effizient in bestehende Prozesse integrieren?\nWelche Lösungen gibt es aus dem ams.erp-Netzwerk?\n\n  \nFreuen Sie sich auf Erfahrungsberichte und einen praxisnahen Austausch mit: \n\nBranchenspezialisten für Auftrags- und Projektfertigung\nExpert:innen zum Thema E-Rechnung\n\nDie Teilnahme ist kostenlos und auf 12 Teilnehmende begrenzt – jetzt anmelden und dabei sein! » 
URL:https://www.ife-institut-einzelfertiger.de/event/austauschforum-zur-e-rechnung-pflicht-wissen-und-loesungen-aus-dem-netzwerk-3/
LOCATION:Online\, Deutschland
CATEGORIES:home-events,Hompage-Highlight,Veranstaltungsunterseite
ATTACH;FMTTYPE=image/png:https://www.ife-institut-einzelfertiger.de/wp-content/uploads/2023/08/ife-Logo-2023.png
END:VEVENT
BEGIN:VEVENT
DTSTART;TZID=Europe/Berlin:20260121T170000
DTEND;TZID=Europe/Berlin:20260123T163000
DTSTAMP:20260422T054612
CREATED:20251126T150517Z
LAST-MODIFIED:20251127T082746Z
UID:4572989-1769014800-1769185800@www.ife-institut-einzelfertiger.de
SUMMARY:V&S Winter School
DESCRIPTION:V&S Winter School\nWettbewerbskraft reloaded\nTransformation im Mittelstand\nWirksame Transformation im Mittelstand\n\n\nWeil wir das in Deutschland dringend brauchen – darum geht’s in den zwei Tagen:\n\n\n\n\n\nEchte Wettbewerbsfähigkeit: Management für den richtigen Fokus.\nBessere Zusammenarbeit und aktivierte Potenziale der Mitarbeiter: Management für weniger Prozess-Theater und mehr echte Arbeit.\nWirtschaftlich wirksame Transformation bewerkstelligen: Management jenseits von Methoden- und Change-Mainstream.\nTransformation mit Wirkung: Engagement\, Zusammenarbeit\, Wertschöpfung\, Innovation und Ertrag.\nSpecial 2026: pragmatische KI für echte Produktivität.\n\n\n\n \n\n\n\n\n\n\n\nAgenda-Auszug\nMittwoch\, 21. Januar \n17.00 | Anreise \n18.00-19.30 | Abendessen \n19.30-21.00 | Einführung \nDonnerstag\, 22. Januar \nbis 8.30 | Sport\, Schwimmbad\, Frühstück … feel free \n8.30-10.00 | Warum ist Fluss wettbewerbsrelevant? \n10.00-10.30 | Pause \n10.30-12.30 | Die Essenz\, der Unterschied und die \ntypischen Denkfehler im Umgang mit \nLean\, TOC und Agile \n12.30-13.30 | Mittagessen \n… hier das vollständige Programm zum Download » \n\n\n\n\n\n\n  \nKosten & Anmeldung\nDieses Jahr freut das Vollmer & Scheffczyk-Team sich\, Sie wieder im Seehotel Niedernberg (Nähe Frankfurt) begrüßen zu dürfen! \n\n\n\n\nDie Teilnahmegebühr beträgt 1.900 € pro Person. (ife Mitgliedern wird 10% Rabatt gewährt) \nInkludiert sind neben der Teilnahme an der dreitägigen Winter School\, mehr als reichliche Verpflegung und eine Dokumentation im Nachgang. \nBei Fragen melden Sie sich gerne bei Nicole Tietz: +49 (0) 700 – 88637 000 \nMelden Sie sich gleich hier an »
URL:https://www.ife-institut-einzelfertiger.de/event/winter-school/
LOCATION:Seehotel Niedernberg (Nähe Frankfurt a.M.)\, Leerweg\, Niedernberg\, 63843\, Deutschland
CATEGORIES:home-events,Hompage-Highlight,Veranstaltungsunterseite
ATTACH;FMTTYPE=image/jpeg:https://www.ife-institut-einzelfertiger.de/wp-content/uploads/2019/02/VS_Logo_4C_RZ-1-e1700046855709.jpg
END:VEVENT
END:VCALENDAR