BEGIN:VCALENDAR
VERSION:2.0
PRODID:-//ife - Netzwerk für Einzelfertiger - ECPv6.15.12.2//NONSGML v1.0//EN
CALSCALE:GREGORIAN
METHOD:PUBLISH
X-ORIGINAL-URL:https://www.ife-institut-einzelfertiger.de
X-WR-CALDESC:Veranstaltungen für ife - Netzwerk für Einzelfertiger
REFRESH-INTERVAL;VALUE=DURATION:PT1H
X-Robots-Tag:noindex
X-PUBLISHED-TTL:PT1H
BEGIN:VTIMEZONE
TZID:Europe/Berlin
BEGIN:DAYLIGHT
TZOFFSETFROM:+0100
TZOFFSETTO:+0200
TZNAME:CEST
DTSTART:20240331T010000
END:DAYLIGHT
BEGIN:STANDARD
TZOFFSETFROM:+0200
TZOFFSETTO:+0100
TZNAME:CET
DTSTART:20241027T010000
END:STANDARD
BEGIN:DAYLIGHT
TZOFFSETFROM:+0100
TZOFFSETTO:+0200
TZNAME:CEST
DTSTART:20250330T010000
END:DAYLIGHT
BEGIN:STANDARD
TZOFFSETFROM:+0200
TZOFFSETTO:+0100
TZNAME:CET
DTSTART:20251026T010000
END:STANDARD
BEGIN:DAYLIGHT
TZOFFSETFROM:+0100
TZOFFSETTO:+0200
TZNAME:CEST
DTSTART:20260329T010000
END:DAYLIGHT
BEGIN:STANDARD
TZOFFSETFROM:+0200
TZOFFSETTO:+0100
TZNAME:CET
DTSTART:20261025T010000
END:STANDARD
END:VTIMEZONE
BEGIN:VEVENT
DTSTART;TZID=Europe/Berlin:20251205T090000
DTEND;TZID=Europe/Berlin:20251205T100000
DTSTAMP:20260422T070508
CREATED:20250513T071903Z
LAST-MODIFIED:20250513T071903Z
UID:4570923-1764925200-1764928800@www.ife-institut-einzelfertiger.de
SUMMARY:BPMN Modellierungs-Café
DESCRIPTION:Du wirst umfassend im Prozessmanagement qualifiziert.\nBPM wird interaktiv und lebendig vermittelt\, mit zahlreichen Einblicken in die Praxis und lehrreichen Anekdoten. \n  \nDas Ziel der BPM-Seminare ist es\, die Teilnehmenden auf ihre Aufgaben nach dem Seminar vorzubereiten. Dies gelingt am besten mit individuellen Inhalten und viel Interaktion. Theorie wird durch zahlreiche Übungen und praxisnahe Anekdoten lebendig vermittelt. \nDie BPM-Schulungen orientieren sich am BPM-Zyklus und umfassen Prozesserhebung\, Prozessdokumentation und Prozessmodellierung\, Prozessanalyse\, Prozesskonzeption\, Prozessumsetzung und Prozess-Controlling. \nTeilnehmende werden zur aktiven Prozessverbesserung und Prozessautomatisierung befähigt\, basierend auf den Modellierungssprachen BPMN\, DMN und CMMN (optimierendes Prozessmanagement). \nFür besondere Zielgruppen wie Führungskräfte\, Projektleiter oder Berater werden rollenfokussierte BPM-Seminare im Rahmen des transformierenden Prozessmanagements angeboten. Zudem erfolgt eine Vorbereitung auf international anerkannte Zertifizierungen. \n  \nAnmeldung\nDie Teilnahme ist kostenfrei. \nWeitere Informationen zur Veranstaltung und die Anmeldung finden Sie BPM Seminare vom Profi BPM Seminare vom Profi hier »
URL:https://www.ife-institut-einzelfertiger.de/event/bpmn-modellierungs-cafe-7/
LOCATION:Online\, Deutschland
CATEGORIES:home-events,Hompage-Highlight,Veranstaltungsunterseite
ATTACH;FMTTYPE=image/jpeg:https://www.ife-institut-einzelfertiger.de/wp-content/uploads/2020/03/Minautics_Logo-claim-1-e1754553778275.jpg
END:VEVENT
BEGIN:VEVENT
DTSTART;TZID=Europe/Berlin:20251208T143000
DTEND;TZID=Europe/Berlin:20251208T151500
DTSTAMP:20260422T070508
CREATED:20251125T123314Z
LAST-MODIFIED:20251125T131238Z
UID:4572975-1765204200-1765206900@www.ife-institut-einzelfertiger.de
SUMMARY:Praxisbeispiel KI: Next Level Vertrieb - End-to-End Angebotsautomatisierung
DESCRIPTION:KI-Impuls für Fach- und Führungskräfte\n  \nWorum geht es?\nIn diesem Webinar zeigen wir\, wie Künstliche Intelligenz Angebotsprozesse für komplexe Produkte und Leistungsverzeichnisse automatisiert – von der Anfrage bis zum freigegebenen Angebot. \nErleben Sie live\, wie KI: \n\naus E-Mails und Leistungsverzeichnissen Absicht und Kontext erkennt\,\nfehlende Angaben klärt und Freitext zuverlässig auf Artikelnummern mappt\,\nzwischen Standard- und Sonderanfertigungen unterscheidet und\nüber APIs Angebote mit aktuellen Preisen direkt ins ERP-System schreibt – inklusive Rückspiel ins Ticketsystem zur Freigabe.\n\nWir skizzieren den End-to-End-Prozess\, beleuchten die prozessuale Vorbereitung (Daten\, Schnittstellen\, Rollen) und teilen Learnings aus einem realen Industrieprojekt. \n  \nZielgruppe:\nDas Webinar richtet sich an Entscheider:innen aus dem Mittelstand – insbesondere an Geschäftsführungen\, Digitalverantwortliche\, HR- und Bereichsleitungen –\, die KI nicht nur einführen\, sondern auch sicher und wirkungsvoll steuern wollen. \n  \nTeilnahmekosten\nDies ist eine kostenfreie Veranstaltung der V&S GmbH und wird in ZOOM stattfinden. \nWeitere Informationen zur Veranstaltung finden Sie hier »
URL:https://www.ife-institut-einzelfertiger.de/event/praxisbeispiel-ki-next-level-vertrieb-end-to-end-angebotsautomatisierung/
LOCATION:Online\, Deutschland
CATEGORIES:home-events,Hompage-Highlight,Veranstaltungsunterseite
ATTACH;FMTTYPE=image/png:https://www.ife-institut-einzelfertiger.de/wp-content/uploads/2024/10/https___cdn.evbuc_.com_images_805344159_1962092522443_1_original-e1760534827554.png
END:VEVENT
END:VCALENDAR