BEGIN:VCALENDAR
VERSION:2.0
PRODID:-//ife - Netzwerk für Einzelfertiger - ECPv6.15.12.2//NONSGML v1.0//EN
CALSCALE:GREGORIAN
METHOD:PUBLISH
X-ORIGINAL-URL:https://www.ife-institut-einzelfertiger.de
X-WR-CALDESC:Veranstaltungen für ife - Netzwerk für Einzelfertiger
REFRESH-INTERVAL;VALUE=DURATION:PT1H
X-Robots-Tag:noindex
X-PUBLISHED-TTL:PT1H
BEGIN:VTIMEZONE
TZID:Europe/Berlin
BEGIN:DAYLIGHT
TZOFFSETFROM:+0100
TZOFFSETTO:+0200
TZNAME:CEST
DTSTART:20230326T010000
END:DAYLIGHT
BEGIN:STANDARD
TZOFFSETFROM:+0200
TZOFFSETTO:+0100
TZNAME:CET
DTSTART:20231029T010000
END:STANDARD
BEGIN:DAYLIGHT
TZOFFSETFROM:+0100
TZOFFSETTO:+0200
TZNAME:CEST
DTSTART:20240331T010000
END:DAYLIGHT
BEGIN:STANDARD
TZOFFSETFROM:+0200
TZOFFSETTO:+0100
TZNAME:CET
DTSTART:20241027T010000
END:STANDARD
BEGIN:DAYLIGHT
TZOFFSETFROM:+0100
TZOFFSETTO:+0200
TZNAME:CEST
DTSTART:20250330T010000
END:DAYLIGHT
BEGIN:STANDARD
TZOFFSETFROM:+0200
TZOFFSETTO:+0100
TZNAME:CET
DTSTART:20251026T010000
END:STANDARD
BEGIN:DAYLIGHT
TZOFFSETFROM:+0100
TZOFFSETTO:+0200
TZNAME:CEST
DTSTART:20260329T010000
END:DAYLIGHT
BEGIN:STANDARD
TZOFFSETFROM:+0200
TZOFFSETTO:+0100
TZNAME:CET
DTSTART:20261025T010000
END:STANDARD
END:VTIMEZONE
BEGIN:VEVENT
DTSTART;VALUE=DATE:20241102
DTEND;VALUE=DATE:20251113
DTSTAMP:20260422T082308
CREATED:20250908T095026Z
LAST-MODIFIED:20251015T132626Z
UID:4572619-1730505600-1762991999@www.ife-institut-einzelfertiger.de
SUMMARY:DDW-Delegationsreise 2025
DESCRIPTION:Die letzten Monate haben gezeigt: Die Märkte in Deutschland werden sich für viele Industriebereiche und Unternehmen – gerade für den Mittelstand – zunehmend schwieriger gestalten. Mehr als zuvor zählt daher die Intensivierung des Auslandsgeschäfts – und auch Auslandsstandorte ihrerseits sind an verstärkten Verbindungen zur deutschen Wirtschaft interessiert. Einzigartige Chancen dazu bietet wieder die diesjährige Delegationsreise nach China im November. Leser können sich anmelden. \n  \nWährend sich viele europäische Märkte zunehmend als herausfordernd erweisen\, bleibt China ein Schlüsselmarkt für Unternehmer aus Deutschland\, Österreich und der Schweiz. Wer sich heute rechtzeitig positioniert\, sichert sich entscheidende Vorteile bei Investitionen\, Produktionsverlagerung\, Vertriebsausbau oder Finanzierung. \nIm Mittelpunkt der Reise vom 2. bis 12. November stehen konkrete Geschäftsmöglichkeiten und Resultate. Den Teilnehmern der Delegationsreise werden dazu Zugang zu den höchsten Entscheidungsträgern in Politik\, Verwaltung\, Wirtschaft und Investoren in individuellen Matchingverfahren vermittelt. Die Regierung stellt sicher\, dass die Unternehmen\, mit denen man in Kontakt tritt\, nicht nur vertrauenswürdig\, sondern auch bestens vorbereitet sind\, um Unternehmen in China zu unterstützen. \n  \nTop-Kontakt im einzigartigen Rahmen der Delegationsreise\nZugleich repräsentieren die Teilnehmer die mittelständische Wirtschaft und Industrie des deutschsprachigen Raums gegenüber hochkarätigen Vertretern des Ziellandes. Dabei hat man die Möglichkeit zur Eigenpräsentation\, oder als Experte auf Podiumsdiskussionen oder durch Vorträge auf Kongressen aufzutreten – bis hin zu überregionalen Zeitungs- und Fernsehinterviews (wie hier in einem TV-Bericht des chinesischen Staatsfernsehens). \nDer diesjährige China-Besuch kann auf den sehr positiven Erfahrungen des letzten Jahres aufbauen\, die rundweg begeisterte Teilnehmer und wertvolle Geschäftskontakte verzeichnen konnte – siehe untenstehende Interviews. \nDie Anfrage zur Teilnahme an den Delegationen richtet sich an Inhaber\, Geschäftsführer und Führungskräfte mittelständischer oder Industrieunternehmen unterschiedlicher Branchen. Die Reisekosten werden weitgehend übernommen. Eine deutsche Betreuung vor Ort ist für den gesamten Reiseplan sichergestellt. \n\n  \n2. bis 12. November:\nProgramm\, Orte und Bewerbung\nDie diesjährige Delegationen führt in einige der wichtigsten Wirtschaftsregionen Chinas und globale und nationale Zentren für Finanzen\, Handel und Industrie\, so Shanghai\, Nanjing oder Wuxi. \nPartner der Delegationsreise sind neben DDW Die Deutsche Wirtschaft der Innovator des Jahres und der Bundesverband Auswandererberatung & Außenwirtschaftsförderung e.V. \nDiese Reise ist keine Standard-Veranstaltung. Jede Begegnung und jedes Treffen wird an die individuellen Anforderungen angepasst – ob man einen Produktionsaufbau in China plant\, Investoren sucht oder neue Vertriebskanäle erschließen möchte. In einem einzigartigen Rahmen als Delegation trifft man chinesische Top-Entscheidungsträger\, Regierungsvertreter und Wirtschaftsführer. \nDennoch kommen bei allen einzigartigen Business-Chancen das gemeinsame Erlebnis und kulturelle Eindrücke nicht zu kurz: Zur Delegationsgruppe gehören rund 25 gleichgesinnte mittelständische Unternehmerinnen und Unternehmer. Und die bildeten letztjährig eine begeisterte Gemeinschaft\, die bis heute trägt. \n  \nUnternehmensdelegation 2025:\n\nDatum: 2.11. bis 12.11.2025\nBranchenfokus: Produktion\, Automation\, Green Energy\, neue Werkstoffe und Automotive\nStädte: Shanghai\, Suzhou\, Taicang\, Nantong\, Wuxi\, Changzhou\, Nanjing und Qingdao\n\n  \nProgramm:\n\nVeranstaltung für Investition und Kooperation\nBesuch von Firmenbesuchen führender Unternehmen\, Technologiezentren\, Finanzinstitutionen\, Freihandelszonen\, Regierungsinstitutionen\, Produktionsstätten\, Innovationszentren\, Familienunternehmen u.v.m.\noffizielle Summits und Pressetermine\nGespräche mit potenziellen Kunden\, Partnern und Investoren\nAuthentische Sehenswürdigkeiten und kulinarische Erlebnisse\n\n  \nKosten:\n\nDie Kosten werden weitestgehend übernommen. Es verbleibt für die gesamte 10tägige Reise inklusive allen Flug-\, Reise- und Verzehrkosten sowie Unterbringung in meist 5-Sterne-Hotels ein Selbstkostenanteil von 5.900\,- Euro pro Person.\n\n  \n\nIhre Teilnahme:\n\nSchreiben Sie Ihren Teilnahmewunsch formlos an info@ife-institut-einzelfertiger.de.\nNennen Sie dabei bitte den / die Namen der Teilnehmer:innen und den Ihres Unternehmens.\nDa nur begrenzte Plätze verfügbar sind\, werden Sie von den Organisatoren zeitnah darüber informiert\, ob eine Teilnahme möglich ist. 
URL:https://www.ife-institut-einzelfertiger.de/event/ddw-delegationsreise-2025/
CATEGORIES:home-events,Hompage-Highlight,Veranstaltungsunterseite
ATTACH;FMTTYPE=image/webp:https://www.ife-institut-einzelfertiger.de/wp-content/uploads/2024/10/ddw-logo-24-klein-neu.webp
END:VEVENT
BEGIN:VEVENT
DTSTART;TZID=Europe/Berlin:20251103T133000
DTEND;TZID=Europe/Berlin:20251103T141500
DTSTAMP:20260422T082308
CREATED:20251014T075735Z
LAST-MODIFIED:20251015T134149Z
UID:4570127-1762176600-1762179300@www.ife-institut-einzelfertiger.de
SUMMARY:KI-Compliance & Governance
DESCRIPTION:KI-Compliance & Governance – Die neue Verantwortung in der Organisation\nKI-Compliance & Governance: Wer KI in die Organisation bringt\, muss auch ihre Regeln mitdenken. \nMit dem Einsatz von Künstlicher Intelligenz entstehen neue Anforderungen an Organisation\, Führung und Verantwortung. Wer KI in Unternehmensprozesse integriert\, muss auch die Rahmenbedingungen aktiv gestalten – rechtlich\, organisatorisch und kulturell. \nIn diesem Webinar beleuchten wir\, wie mittelständische Unternehmen strukturiert und verantwortungsvoll mit KI umgehen können. Im Mittelpunkt stehen Fragen der Governance\, Compliance und Umsetzbarkeit im betrieblichen Alltag. \n\n  \nWas erwartet mich?\n\nWas bedeutet KI-Governance auf Organisationsebene?\nWelche Pflichten und Handlungsfelder ergeben sich für Unternehmen?\nWelche gesetzlichen Anforderungen ergeben sich bspw. aus dem EU AI Act?\nuvm.\n\n  \nZielgruppe:\nDas Webinar richtet sich an Entscheider:innen aus dem Mittelstand – insbesondere an Geschäftsführungen\, Digitalverantwortliche\, HR- und Bereichsleitungen –\, die KI nicht nur einführen\, sondern auch sicher und wirkungsvoll steuern wollen.\n  \nTeilnahmekosten\nDies ist eine kostenfreie Veranstaltung der V&S GmbH und wird in ZOOM stattfinden. \nWeitere Informationen zur Veranstaltung finden Sie hier »
URL:https://www.ife-institut-einzelfertiger.de/event/ki-compliance-governance-die-neue-verantwortung-in-der-organisation/
LOCATION:Online\, Deutschland
CATEGORIES:Hompage-Highlight,Veranstaltungsunterseite
ATTACH;FMTTYPE=image/png:https://www.ife-institut-einzelfertiger.de/wp-content/uploads/2024/10/https___cdn.evbuc_.com_images_805344159_1962092522443_1_original-e1760534827554.png
END:VEVENT
BEGIN:VEVENT
DTSTART;TZID=Europe/Berlin:20251107T090000
DTEND;TZID=Europe/Berlin:20251107T100000
DTSTAMP:20260422T082308
CREATED:20250513T065906Z
LAST-MODIFIED:20250513T074637Z
UID:4570917-1762506000-1762509600@www.ife-institut-einzelfertiger.de
SUMMARY:BPMN Modellierungs-Café
DESCRIPTION:Du wirst umfassend im Prozessmanagement qualifiziert.\nBPM wird interaktiv und lebendig vermittelt\, mit zahlreichen Einblicken in die Praxis und lehrreichen Anekdoten. \n  \nDas Ziel der BPM-Seminare ist es\, die Teilnehmenden auf ihre Aufgaben nach dem Seminar vorzubereiten. Dies gelingt am besten mit individuellen Inhalten und viel Interaktion. Theorie wird durch zahlreiche Übungen und praxisnahe Anekdoten lebendig vermittelt. \nDie BPM-Schulungen orientieren sich am BPM-Zyklus und umfassen Prozesserhebung\, Prozessdokumentation und Prozessmodellierung\, Prozessanalyse\, Prozesskonzeption\, Prozessumsetzung und Prozess-Controlling. \nTeilnehmende werden zur aktiven Prozessverbesserung und Prozessautomatisierung befähigt\, basierend auf den Modellierungssprachen BPMN\, DMN und CMMN (optimierendes Prozessmanagement). \nFür besondere Zielgruppen wie Führungskräfte\, Projektleiter oder Berater werden rollenfokussierte BPM-Seminare im Rahmen des transformierenden Prozessmanagements angeboten. Zudem erfolgt eine Vorbereitung auf international anerkannte Zertifizierungen. \n  \nAnmeldung\nDie Teilnahme ist kostenfrei. \nWeitere Informationen zur Veranstaltung und die Anmeldung finden Sie hier »
URL:https://www.ife-institut-einzelfertiger.de/event/bpmn-modellierungs-cafe-6/
LOCATION:Online\, Deutschland
CATEGORIES:home-events,Hompage-Highlight,Veranstaltungsunterseite
ATTACH;FMTTYPE=image/jpeg:https://www.ife-institut-einzelfertiger.de/wp-content/uploads/2020/03/Minautics_Logo-claim-1-e1754553778275.jpg
END:VEVENT
BEGIN:VEVENT
DTSTART;TZID=Europe/Berlin:20251114T173000
DTEND;TZID=Europe/Berlin:20251114T210000
DTSTAMP:20260422T082308
CREATED:20250513T102658Z
LAST-MODIFIED:20250513T102658Z
UID:4570945-1763141400-1763154000@www.ife-institut-einzelfertiger.de
SUMMARY:Innovator des Jahres | Vergabe ife-Award
DESCRIPTION:  \nDie große Bühne für innovative Vorreiter\nNur Innovationen sichern nachhaltig die Leistungskraft unserer Unternehmen\, Wirtschaft und Gesellschaft. Und sie schaffen die Lösungen für die brennenden Herausforderungen unserer Zeit. Wer sind die Impulsgeber\, die mit ihren Konzepten\, Technologien und Lösungen voranschreiten? Eine Experten-Jury kürt jedes Jahr Unternehmen aus der ganzen Bandbreite unserer Wirtschaft. \n  \nVerleihung auf dem Festakt zum Innovator des Jahres der Deutschen Wirtschaft\nDer Award vom Netzwerk für Einzelfertiger wird in diesem Jahr erneut im Rahmen des Galaempfangs für den renommierten Preis der Deutschen Wirtschaft (DDW) „Innovator des Jahres 2025 »“ im Berlin Capital Club verliehen. Ein besonderer Festakt\, der von herausragenden Rednern\, prominenten Persönlichkeiten und berühmten Laudatoren begleitet wird. Bewerben Sie sich für den Innovationspreis LOSGRÖSSE 1+ und profitieren Sie von der großen Aufmerksamkeit\, die diesem prestigeträchtigen Event zuteil wird. \n\nImpressionen der Preisverleihung 2024\n \n  \nZum Ablauf des Festaktes: \nAb 17:30 Uhr\nEinlass / Red Carpet / thematischer Treffpunkt /Aperitif\nHILTON\, Großer Ballsaal\, Gendarmenmarkt\, Mohrenstraße 30\n19:00 Uhr\nStart des Bühnenprogramms und der Award Verleihungen\n21:00 Uhr\nAufgang zum Berlin Capital Club zum Get-together\nBERLIN CAPITAL CLUB\, Gendarmenmarkt\, Mohrenstraße 30\nOpen End\nAfter Party des Innovator-Festakts\nBERLIN CAPITAL CLUB \n  \nTeilnahmekosten und weitere Informationen\nAlle weiteren Informationen zu der Veranstaltung finden Sie hier » \nFür ife-Mitglieder und ams-Kunden bieten wir Ihnen Sonderkonditionen an.\nFordern Sie hier Ihre Sonderkonditionen an! »\n \n 
URL:https://www.ife-institut-einzelfertiger.de/event/innovator-des-jahres-vergabe-ife-award-2/
LOCATION:Hilton Berlin\, Mohrenstrasse 30\, Berlin\, 10117
CATEGORIES:home-events,Hompage-Highlight,Veranstaltungsunterseite
ATTACH;FMTTYPE=image/png:https://www.ife-institut-einzelfertiger.de/wp-content/uploads/2024/08/ddw-idj-e1754558703904.png
END:VEVENT
BEGIN:VEVENT
DTSTART;TZID=Europe/Berlin:20251124T150000
DTEND;TZID=Europe/Berlin:20251124T160000
DTSTAMP:20260422T082308
CREATED:20250513T080559Z
LAST-MODIFIED:20250513T080559Z
UID:4570938-1763996400-1764000000@www.ife-institut-einzelfertiger.de
SUMMARY:Wirtschaftlichkeitsberechnung einer Ende-zu-Ende-Workflow-Lösung
DESCRIPTION:Berechnung der Wirtschaftlichkeit einer Ende-zu-Ende-Workflow-lösung\nDie Berechnung der Wirtschaftlichkeit einer Ende-zu-Ende-Workflow-Lösung stellt Unternehmen vor eine anspruchsvolle Aufgabe. Die Komplexität moderner Geschäftsprozesse\, kombiniert mit den vielfältigen Auswirkungen einer Automatisierung\, macht es schwierig\, klare und belastbare Aussagen über den finanziellen Nutzen zu treffen. Dabei gilt es nicht nur\, direkte Kosten und Einsparungen zu berücksichtigen\, sondern auch langfristige Effekte und qualitative Vorteile\, die oft schwer zu quantifizieren sind. \n \nBjörn Richerzhagen\, CEO&Gründer der MINAUTICS GmbH\, vermittelt einen methodischen Ansatz\, um eine fundierte Wirtschaftlichkeitsanalyse durchzuführen. Ziel ist es\, dir und deinem Unternehmen eine praxisnahe Anleitung zur Verfügung zu stellen\, die bei der Bewertung von Automatisierungsprojekten unterstützt. Die vorgestellten Schritte sollen dir helfen\, komplexe Sachverhalte strukturiert zu analysieren und eine transparente Entscheidungsgrundlage zu schaffen. \n\n  \nAnmeldung\nDie Teilnahme ist kostenfrei. \nWeitere Informationen zur Veranstaltung und die Anmeldung finden Sie hier »
URL:https://www.ife-institut-einzelfertiger.de/event/wirtschaftlichkeitsberechnung-einer-ende-zu-ende-workflow-loesung-3/
LOCATION:Online\, Deutschland
CATEGORIES:home-events,Hompage-Highlight,Veranstaltungsunterseite
ATTACH;FMTTYPE=image/jpeg:https://www.ife-institut-einzelfertiger.de/wp-content/uploads/2020/03/Minautics_Logo-claim-1-e1754553778275.jpg
END:VEVENT
BEGIN:VEVENT
DTSTART;TZID=Europe/Berlin:20251126T150000
DTEND;TZID=Europe/Berlin:20251126T163000
DTSTAMP:20260422T082308
CREATED:20251001T060434Z
LAST-MODIFIED:20251001T061230Z
UID:4572743-1764169200-1764174600@www.ife-institut-einzelfertiger.de
SUMMARY:Exklusives Austauschforum für den Stahl- und Metallbau
DESCRIPTION:[vc_row][vc_column][vc_column_text] \nBauen unter Hochdruck – gemeinsam besser werden.\nStahl- und Metallbauprojekte sind komplex: Enge Zeitfenster\, hohe technische Anforderungen und viele Beteiligte auf der Baustelle lassen wenig Raum für Fehler. Während Vorgaben sich kurzfristig ändern\, bleiben Termine und Budgets bestehen. In diesem Spannungsfeld sind Erfahrung\, Flexibilität und vorausschauendes Handeln gefragt – mehr denn je. \nWie gelingt es\, Projekte trotz dieser Herausforderungen erfolgreich zu steuern?In unserem Austauschforum bringen wir Praktiker:innen aus dem Stahl- und Metallbau zusammen – zum offenen Dialog über das\, was wirklich zählt:Erfahrungen\, Strategien\, Lösungsansätze und neue Perspektiven aus der Praxis. \nDas erwartet Sie: \n\nFachlicher Austausch auf Augenhöhe\nDiskussion konkreter Projektbeispiele\nImpulse zu Schnittstellenmanagement\, Risikosteuerung und agiler Planung\nRaum für neue Ideen\, Partnerschaften und Impulse\n\nWir wollen gemeinsam anpacken – praxisnah\, lösungsorientiert\, zukunftsgerichtet. \n  \nDie Teilnahme ist kostenlos und auf 12 Teilnehmende begrenzt – jetzt anmelden und dabei sein! »
URL:https://www.ife-institut-einzelfertiger.de/event/exklusives-austauschforum-fuer-den-stahl-und-metallbau-2/
LOCATION:Online\, Deutschland
CATEGORIES:home-events,Hompage-Highlight,Veranstaltungsunterseite
ATTACH;FMTTYPE=image/png:https://www.ife-institut-einzelfertiger.de/wp-content/uploads/2023/08/ife-Logo-2023.png
END:VEVENT
BEGIN:VEVENT
DTSTART;TZID=Europe/Berlin:20251127T113000
DTEND;TZID=Europe/Berlin:20251127T123000
DTSTAMP:20260422T082308
CREATED:20250903T063720Z
LAST-MODIFIED:20251105T130128Z
UID:4572604-1764243000-1764246600@www.ife-institut-einzelfertiger.de
SUMMARY:Austauschforum zur E-Rechnung Pflicht - Wissen und Lösungen aus dem Netzwerk
DESCRIPTION:Die verpflichtende Einführung der elektronischen Rechnung ab dem 1. Januar 2025 stellt insbesondere den deutschen Mittelstand in der Einzelfertigung vor neue Herausforderungen. \n\nIn dem Austauschforum wollen wir die wichtigsten Fragen klären: \n\nWas bedeutet die E-Rechnungspflicht konkret für die Einzelfertigung?\nWie lassen sich die Anforderungen effizient in bestehende Prozesse integrieren?\nWelche Lösungen gibt es aus dem ams.erp-Netzwerk?\n\n  \nFreuen Sie sich auf Erfahrungsberichte und einen praxisnahen Austausch mit: \n\nBranchenspezialisten für Auftrags- und Projektfertigung\nExpert:innen zum Thema E-Rechnung\n\nDie Teilnahme ist kostenlos und auf 12 Teilnehmende begrenzt – jetzt anmelden und dabei sein! » 
URL:https://www.ife-institut-einzelfertiger.de/event/austauschforum-zur-e-rechnung-pflicht-wissen-und-loesungen-aus-dem-netzwerk-2/
LOCATION:Online\, Deutschland
CATEGORIES:home-events,Hompage-Highlight,Veranstaltungsunterseite
ATTACH;FMTTYPE=image/png:https://www.ife-institut-einzelfertiger.de/wp-content/uploads/2023/08/ife-Logo-2023.png
END:VEVENT
END:VCALENDAR