BEGIN:VCALENDAR
VERSION:2.0
PRODID:-//ife - Netzwerk für Einzelfertiger - ECPv6.15.12.2//NONSGML v1.0//EN
CALSCALE:GREGORIAN
METHOD:PUBLISH
X-WR-CALNAME:ife - Netzwerk für Einzelfertiger
X-ORIGINAL-URL:https://www.ife-institut-einzelfertiger.de
X-WR-CALDESC:Veranstaltungen für ife - Netzwerk für Einzelfertiger
REFRESH-INTERVAL;VALUE=DURATION:PT1H
X-Robots-Tag:noindex
X-PUBLISHED-TTL:PT1H
BEGIN:VTIMEZONE
TZID:Europe/Berlin
BEGIN:DAYLIGHT
TZOFFSETFROM:+0100
TZOFFSETTO:+0200
TZNAME:CEST
DTSTART:20230326T010000
END:DAYLIGHT
BEGIN:STANDARD
TZOFFSETFROM:+0200
TZOFFSETTO:+0100
TZNAME:CET
DTSTART:20231029T010000
END:STANDARD
BEGIN:DAYLIGHT
TZOFFSETFROM:+0100
TZOFFSETTO:+0200
TZNAME:CEST
DTSTART:20240331T010000
END:DAYLIGHT
BEGIN:STANDARD
TZOFFSETFROM:+0200
TZOFFSETTO:+0100
TZNAME:CET
DTSTART:20241027T010000
END:STANDARD
BEGIN:DAYLIGHT
TZOFFSETFROM:+0100
TZOFFSETTO:+0200
TZNAME:CEST
DTSTART:20250330T010000
END:DAYLIGHT
BEGIN:STANDARD
TZOFFSETFROM:+0200
TZOFFSETTO:+0100
TZNAME:CET
DTSTART:20251026T010000
END:STANDARD
BEGIN:DAYLIGHT
TZOFFSETFROM:+0100
TZOFFSETTO:+0200
TZNAME:CEST
DTSTART:20260329T010000
END:DAYLIGHT
BEGIN:STANDARD
TZOFFSETFROM:+0200
TZOFFSETTO:+0100
TZNAME:CET
DTSTART:20261025T010000
END:STANDARD
END:VTIMEZONE
BEGIN:VEVENT
DTSTART;VALUE=DATE:20241102
DTEND;VALUE=DATE:20251113
DTSTAMP:20260422T091927
CREATED:20250908T095026Z
LAST-MODIFIED:20251015T132626Z
UID:4572619-1730505600-1762991999@www.ife-institut-einzelfertiger.de
SUMMARY:DDW-Delegationsreise 2025
DESCRIPTION:Die letzten Monate haben gezeigt: Die Märkte in Deutschland werden sich für viele Industriebereiche und Unternehmen – gerade für den Mittelstand – zunehmend schwieriger gestalten. Mehr als zuvor zählt daher die Intensivierung des Auslandsgeschäfts – und auch Auslandsstandorte ihrerseits sind an verstärkten Verbindungen zur deutschen Wirtschaft interessiert. Einzigartige Chancen dazu bietet wieder die diesjährige Delegationsreise nach China im November. Leser können sich anmelden. \n  \nWährend sich viele europäische Märkte zunehmend als herausfordernd erweisen\, bleibt China ein Schlüsselmarkt für Unternehmer aus Deutschland\, Österreich und der Schweiz. Wer sich heute rechtzeitig positioniert\, sichert sich entscheidende Vorteile bei Investitionen\, Produktionsverlagerung\, Vertriebsausbau oder Finanzierung. \nIm Mittelpunkt der Reise vom 2. bis 12. November stehen konkrete Geschäftsmöglichkeiten und Resultate. Den Teilnehmern der Delegationsreise werden dazu Zugang zu den höchsten Entscheidungsträgern in Politik\, Verwaltung\, Wirtschaft und Investoren in individuellen Matchingverfahren vermittelt. Die Regierung stellt sicher\, dass die Unternehmen\, mit denen man in Kontakt tritt\, nicht nur vertrauenswürdig\, sondern auch bestens vorbereitet sind\, um Unternehmen in China zu unterstützen. \n  \nTop-Kontakt im einzigartigen Rahmen der Delegationsreise\nZugleich repräsentieren die Teilnehmer die mittelständische Wirtschaft und Industrie des deutschsprachigen Raums gegenüber hochkarätigen Vertretern des Ziellandes. Dabei hat man die Möglichkeit zur Eigenpräsentation\, oder als Experte auf Podiumsdiskussionen oder durch Vorträge auf Kongressen aufzutreten – bis hin zu überregionalen Zeitungs- und Fernsehinterviews (wie hier in einem TV-Bericht des chinesischen Staatsfernsehens). \nDer diesjährige China-Besuch kann auf den sehr positiven Erfahrungen des letzten Jahres aufbauen\, die rundweg begeisterte Teilnehmer und wertvolle Geschäftskontakte verzeichnen konnte – siehe untenstehende Interviews. \nDie Anfrage zur Teilnahme an den Delegationen richtet sich an Inhaber\, Geschäftsführer und Führungskräfte mittelständischer oder Industrieunternehmen unterschiedlicher Branchen. Die Reisekosten werden weitgehend übernommen. Eine deutsche Betreuung vor Ort ist für den gesamten Reiseplan sichergestellt. \n\n  \n2. bis 12. November:\nProgramm\, Orte und Bewerbung\nDie diesjährige Delegationen führt in einige der wichtigsten Wirtschaftsregionen Chinas und globale und nationale Zentren für Finanzen\, Handel und Industrie\, so Shanghai\, Nanjing oder Wuxi. \nPartner der Delegationsreise sind neben DDW Die Deutsche Wirtschaft der Innovator des Jahres und der Bundesverband Auswandererberatung & Außenwirtschaftsförderung e.V. \nDiese Reise ist keine Standard-Veranstaltung. Jede Begegnung und jedes Treffen wird an die individuellen Anforderungen angepasst – ob man einen Produktionsaufbau in China plant\, Investoren sucht oder neue Vertriebskanäle erschließen möchte. In einem einzigartigen Rahmen als Delegation trifft man chinesische Top-Entscheidungsträger\, Regierungsvertreter und Wirtschaftsführer. \nDennoch kommen bei allen einzigartigen Business-Chancen das gemeinsame Erlebnis und kulturelle Eindrücke nicht zu kurz: Zur Delegationsgruppe gehören rund 25 gleichgesinnte mittelständische Unternehmerinnen und Unternehmer. Und die bildeten letztjährig eine begeisterte Gemeinschaft\, die bis heute trägt. \n  \nUnternehmensdelegation 2025:\n\nDatum: 2.11. bis 12.11.2025\nBranchenfokus: Produktion\, Automation\, Green Energy\, neue Werkstoffe und Automotive\nStädte: Shanghai\, Suzhou\, Taicang\, Nantong\, Wuxi\, Changzhou\, Nanjing und Qingdao\n\n  \nProgramm:\n\nVeranstaltung für Investition und Kooperation\nBesuch von Firmenbesuchen führender Unternehmen\, Technologiezentren\, Finanzinstitutionen\, Freihandelszonen\, Regierungsinstitutionen\, Produktionsstätten\, Innovationszentren\, Familienunternehmen u.v.m.\noffizielle Summits und Pressetermine\nGespräche mit potenziellen Kunden\, Partnern und Investoren\nAuthentische Sehenswürdigkeiten und kulinarische Erlebnisse\n\n  \nKosten:\n\nDie Kosten werden weitestgehend übernommen. Es verbleibt für die gesamte 10tägige Reise inklusive allen Flug-\, Reise- und Verzehrkosten sowie Unterbringung in meist 5-Sterne-Hotels ein Selbstkostenanteil von 5.900\,- Euro pro Person.\n\n  \n\nIhre Teilnahme:\n\nSchreiben Sie Ihren Teilnahmewunsch formlos an info@ife-institut-einzelfertiger.de.\nNennen Sie dabei bitte den / die Namen der Teilnehmer:innen und den Ihres Unternehmens.\nDa nur begrenzte Plätze verfügbar sind\, werden Sie von den Organisatoren zeitnah darüber informiert\, ob eine Teilnahme möglich ist. 
URL:https://www.ife-institut-einzelfertiger.de/event/ddw-delegationsreise-2025/
CATEGORIES:home-events,Hompage-Highlight,Veranstaltungsunterseite
ATTACH;FMTTYPE=image/webp:https://www.ife-institut-einzelfertiger.de/wp-content/uploads/2024/10/ddw-logo-24-klein-neu.webp
END:VEVENT
BEGIN:VEVENT
DTSTART;TZID=Europe/Berlin:20251009T150000
DTEND;TZID=Europe/Berlin:20251009T160000
DTSTAMP:20260422T091927
CREATED:20230330T095330Z
LAST-MODIFIED:20251006T124022Z
UID:4563921-1760022000-1760025600@www.ife-institut-einzelfertiger.de
SUMMARY:CSRD SOFTWARE:  Notwendiges Übel oder sinnvolle Ergänzung?
DESCRIPTION:[vc_row][vc_column][vc_column_text] \nCSRD-Software: Zwischen Pflicht und Potenzial\n \nDie neue EU-Richtlinie zur Nachhaltigkeitsberichterstattung (CSRD) bringt viele Unternehmen unter Druck: Mangelnde Ressourcen\, komplexe Datenanforderungen und Unklarheiten bezüglich der regulatorischen Rahmenbedingungen. ESG-Software kann helfen\, doch ist sie wirklich eine Entlastung? \nFrau Sarah Kohlen\, Sustainability Specialist\, Institute for Energy\, Ecology and Economy GmbH (DFGE)\, zeigt in ihrem Vortrag auf: \n\nWelche Softwarelösungen gibt es für die CSRD-Berichterstattung?\nWas leisten diese Tools und wo stoßen sie an Grenzen?\nWorauf sollten Unternehmen bei der Auswahl achten?\n\nIm Anschluss bleibt Zeit für Fragen\, Austausch und Diskussion. \nMelden Sie sich gleich hier an » \nDie Veranstaltung ist kostenfrei!
URL:https://www.ife-institut-einzelfertiger.de/event/csrd-software-notwendiges-uebel-oder-sinnvolle-ergaenzung/
LOCATION:Online\, Deutschland
CATEGORIES:Hompage-Highlight,Veranstaltungsunterseite
ATTACH;FMTTYPE=image/png:https://www.ife-institut-einzelfertiger.de/wp-content/uploads/2023/08/ife-Logo-2023-1-e1752577264216.png
END:VEVENT
BEGIN:VEVENT
DTSTART;TZID=Europe/Berlin:20251010T090000
DTEND;TZID=Europe/Berlin:20251010T100000
DTSTAMP:20260422T091927
CREATED:20250513T065704Z
LAST-MODIFIED:20250513T074644Z
UID:4570915-1760086800-1760090400@www.ife-institut-einzelfertiger.de
SUMMARY:BPMN Modellierungs-Café
DESCRIPTION:Du wirst umfassend im Prozessmanagement qualifiziert.\nBPM wird interaktiv und lebendig vermittelt\, mit zahlreichen Einblicken in die Praxis und lehrreichen Anekdoten. \n  \nDas Ziel der BPM-Seminare ist es\, die Teilnehmenden auf ihre Aufgaben nach dem Seminar vorzubereiten. Dies gelingt am besten mit individuellen Inhalten und viel Interaktion. Theorie wird durch zahlreiche Übungen und praxisnahe Anekdoten lebendig vermittelt. \nDie BPM-Schulungen orientieren sich am BPM-Zyklus und umfassen Prozesserhebung\, Prozessdokumentation und Prozessmodellierung\, Prozessanalyse\, Prozesskonzeption\, Prozessumsetzung und Prozess-Controlling. \nTeilnehmende werden zur aktiven Prozessverbesserung und Prozessautomatisierung befähigt\, basierend auf den Modellierungssprachen BPMN\, DMN und CMMN (optimierendes Prozessmanagement). \nFür besondere Zielgruppen wie Führungskräfte\, Projektleiter oder Berater werden rollenfokussierte BPM-Seminare im Rahmen des transformierenden Prozessmanagements angeboten. Zudem erfolgt eine Vorbereitung auf international anerkannte Zertifizierungen. \n  \nAnmeldung\nDie Teilnahme ist kostenfrei. \nWeitere Informationen zur Veranstaltung und die Anmeldung finden Sie hier »
URL:https://www.ife-institut-einzelfertiger.de/event/bpmn-modellierungs-cafe-5/
LOCATION:Online\, Deutschland
CATEGORIES:home-events,Hompage-Highlight,Veranstaltungsunterseite
ATTACH;FMTTYPE=image/jpeg:https://www.ife-institut-einzelfertiger.de/wp-content/uploads/2020/03/Minautics_Logo-claim-1-e1754553778275.jpg
END:VEVENT
BEGIN:VEVENT
DTSTART;TZID=Europe/Berlin:20251030T170000
DTEND;TZID=Europe/Berlin:20251030T190000
DTSTAMP:20260422T091927
CREATED:20241211T135608Z
LAST-MODIFIED:20251013T054858Z
UID:4570018-1761843600-1761850800@www.ife-institut-einzelfertiger.de
SUMMARY:SDFS Productive Afterhour
DESCRIPTION:06. November 2025\n \n  \n  \nProductive Afterhour ​ \nFreuen Sie sich auf einen interessanten und geselligen Abend voller Innovationen und Impulse rund um ams.erp und interessantes Networking im Rahmen des Partnernetzwerks der SDFS in entspannter Atmosphäre mit leckerem Fingerfood und erfrischenden Getränken. \nhier geht es zur Anmeldung »
URL:https://www.ife-institut-einzelfertiger.de/event/sdfs-productive-afterhour/
LOCATION:Campus Buschhütten\, Siegener Str. 152\, 57223 Kreuztal
CATEGORIES:Hompage-Highlight,Veranstaltungsunterseite
ATTACH;FMTTYPE=image/png:https://www.ife-institut-einzelfertiger.de/wp-content/uploads/2024/06/SDFS_Logo_RGB-e1717488212841.png
ORGANIZER;CN="SDFS Smarte Demonstrationsfabrik Siegen GmbH":MAILTO:info@demofabrik-siegen.de
END:VEVENT
END:VCALENDAR