BEGIN:VCALENDAR
VERSION:2.0
PRODID:-//ife - Netzwerk für Einzelfertiger - ECPv6.15.12.2//NONSGML v1.0//EN
CALSCALE:GREGORIAN
METHOD:PUBLISH
X-WR-CALNAME:ife - Netzwerk für Einzelfertiger
X-ORIGINAL-URL:https://www.ife-institut-einzelfertiger.de
X-WR-CALDESC:Veranstaltungen für ife - Netzwerk für Einzelfertiger
REFRESH-INTERVAL;VALUE=DURATION:PT1H
X-Robots-Tag:noindex
X-PUBLISHED-TTL:PT1H
BEGIN:VTIMEZONE
TZID:Europe/Berlin
BEGIN:DAYLIGHT
TZOFFSETFROM:+0100
TZOFFSETTO:+0200
TZNAME:CEST
DTSTART:20230326T010000
END:DAYLIGHT
BEGIN:STANDARD
TZOFFSETFROM:+0200
TZOFFSETTO:+0100
TZNAME:CET
DTSTART:20231029T010000
END:STANDARD
BEGIN:DAYLIGHT
TZOFFSETFROM:+0100
TZOFFSETTO:+0200
TZNAME:CEST
DTSTART:20240331T010000
END:DAYLIGHT
BEGIN:STANDARD
TZOFFSETFROM:+0200
TZOFFSETTO:+0100
TZNAME:CET
DTSTART:20241027T010000
END:STANDARD
BEGIN:DAYLIGHT
TZOFFSETFROM:+0100
TZOFFSETTO:+0200
TZNAME:CEST
DTSTART:20250330T010000
END:DAYLIGHT
BEGIN:STANDARD
TZOFFSETFROM:+0200
TZOFFSETTO:+0100
TZNAME:CET
DTSTART:20251026T010000
END:STANDARD
BEGIN:DAYLIGHT
TZOFFSETFROM:+0100
TZOFFSETTO:+0200
TZNAME:CEST
DTSTART:20260329T010000
END:DAYLIGHT
BEGIN:STANDARD
TZOFFSETFROM:+0200
TZOFFSETTO:+0100
TZNAME:CET
DTSTART:20261025T010000
END:STANDARD
END:VTIMEZONE
BEGIN:VEVENT
DTSTART;VALUE=DATE:20241102
DTEND;VALUE=DATE:20251113
DTSTAMP:20260422T105150
CREATED:20250908T095026Z
LAST-MODIFIED:20251015T132626Z
UID:4572619-1730505600-1762991999@www.ife-institut-einzelfertiger.de
SUMMARY:DDW-Delegationsreise 2025
DESCRIPTION:Die letzten Monate haben gezeigt: Die Märkte in Deutschland werden sich für viele Industriebereiche und Unternehmen – gerade für den Mittelstand – zunehmend schwieriger gestalten. Mehr als zuvor zählt daher die Intensivierung des Auslandsgeschäfts – und auch Auslandsstandorte ihrerseits sind an verstärkten Verbindungen zur deutschen Wirtschaft interessiert. Einzigartige Chancen dazu bietet wieder die diesjährige Delegationsreise nach China im November. Leser können sich anmelden. \n  \nWährend sich viele europäische Märkte zunehmend als herausfordernd erweisen\, bleibt China ein Schlüsselmarkt für Unternehmer aus Deutschland\, Österreich und der Schweiz. Wer sich heute rechtzeitig positioniert\, sichert sich entscheidende Vorteile bei Investitionen\, Produktionsverlagerung\, Vertriebsausbau oder Finanzierung. \nIm Mittelpunkt der Reise vom 2. bis 12. November stehen konkrete Geschäftsmöglichkeiten und Resultate. Den Teilnehmern der Delegationsreise werden dazu Zugang zu den höchsten Entscheidungsträgern in Politik\, Verwaltung\, Wirtschaft und Investoren in individuellen Matchingverfahren vermittelt. Die Regierung stellt sicher\, dass die Unternehmen\, mit denen man in Kontakt tritt\, nicht nur vertrauenswürdig\, sondern auch bestens vorbereitet sind\, um Unternehmen in China zu unterstützen. \n  \nTop-Kontakt im einzigartigen Rahmen der Delegationsreise\nZugleich repräsentieren die Teilnehmer die mittelständische Wirtschaft und Industrie des deutschsprachigen Raums gegenüber hochkarätigen Vertretern des Ziellandes. Dabei hat man die Möglichkeit zur Eigenpräsentation\, oder als Experte auf Podiumsdiskussionen oder durch Vorträge auf Kongressen aufzutreten – bis hin zu überregionalen Zeitungs- und Fernsehinterviews (wie hier in einem TV-Bericht des chinesischen Staatsfernsehens). \nDer diesjährige China-Besuch kann auf den sehr positiven Erfahrungen des letzten Jahres aufbauen\, die rundweg begeisterte Teilnehmer und wertvolle Geschäftskontakte verzeichnen konnte – siehe untenstehende Interviews. \nDie Anfrage zur Teilnahme an den Delegationen richtet sich an Inhaber\, Geschäftsführer und Führungskräfte mittelständischer oder Industrieunternehmen unterschiedlicher Branchen. Die Reisekosten werden weitgehend übernommen. Eine deutsche Betreuung vor Ort ist für den gesamten Reiseplan sichergestellt. \n\n  \n2. bis 12. November:\nProgramm\, Orte und Bewerbung\nDie diesjährige Delegationen führt in einige der wichtigsten Wirtschaftsregionen Chinas und globale und nationale Zentren für Finanzen\, Handel und Industrie\, so Shanghai\, Nanjing oder Wuxi. \nPartner der Delegationsreise sind neben DDW Die Deutsche Wirtschaft der Innovator des Jahres und der Bundesverband Auswandererberatung & Außenwirtschaftsförderung e.V. \nDiese Reise ist keine Standard-Veranstaltung. Jede Begegnung und jedes Treffen wird an die individuellen Anforderungen angepasst – ob man einen Produktionsaufbau in China plant\, Investoren sucht oder neue Vertriebskanäle erschließen möchte. In einem einzigartigen Rahmen als Delegation trifft man chinesische Top-Entscheidungsträger\, Regierungsvertreter und Wirtschaftsführer. \nDennoch kommen bei allen einzigartigen Business-Chancen das gemeinsame Erlebnis und kulturelle Eindrücke nicht zu kurz: Zur Delegationsgruppe gehören rund 25 gleichgesinnte mittelständische Unternehmerinnen und Unternehmer. Und die bildeten letztjährig eine begeisterte Gemeinschaft\, die bis heute trägt. \n  \nUnternehmensdelegation 2025:\n\nDatum: 2.11. bis 12.11.2025\nBranchenfokus: Produktion\, Automation\, Green Energy\, neue Werkstoffe und Automotive\nStädte: Shanghai\, Suzhou\, Taicang\, Nantong\, Wuxi\, Changzhou\, Nanjing und Qingdao\n\n  \nProgramm:\n\nVeranstaltung für Investition und Kooperation\nBesuch von Firmenbesuchen führender Unternehmen\, Technologiezentren\, Finanzinstitutionen\, Freihandelszonen\, Regierungsinstitutionen\, Produktionsstätten\, Innovationszentren\, Familienunternehmen u.v.m.\noffizielle Summits und Pressetermine\nGespräche mit potenziellen Kunden\, Partnern und Investoren\nAuthentische Sehenswürdigkeiten und kulinarische Erlebnisse\n\n  \nKosten:\n\nDie Kosten werden weitestgehend übernommen. Es verbleibt für die gesamte 10tägige Reise inklusive allen Flug-\, Reise- und Verzehrkosten sowie Unterbringung in meist 5-Sterne-Hotels ein Selbstkostenanteil von 5.900\,- Euro pro Person.\n\n  \n\nIhre Teilnahme:\n\nSchreiben Sie Ihren Teilnahmewunsch formlos an info@ife-institut-einzelfertiger.de.\nNennen Sie dabei bitte den / die Namen der Teilnehmer:innen und den Ihres Unternehmens.\nDa nur begrenzte Plätze verfügbar sind\, werden Sie von den Organisatoren zeitnah darüber informiert\, ob eine Teilnahme möglich ist. 
URL:https://www.ife-institut-einzelfertiger.de/event/ddw-delegationsreise-2025/
CATEGORIES:home-events,Hompage-Highlight,Veranstaltungsunterseite
ATTACH;FMTTYPE=image/webp:https://www.ife-institut-einzelfertiger.de/wp-content/uploads/2024/10/ddw-logo-24-klein-neu.webp
END:VEVENT
BEGIN:VEVENT
DTSTART;TZID=Europe/Berlin:20250902T110000
DTEND;TZID=Europe/Berlin:20250902T120000
DTSTAMP:20260422T105150
CREATED:20250723T081746Z
LAST-MODIFIED:20250723T090055Z
UID:4571748-1756810800-1756814400@www.ife-institut-einzelfertiger.de
SUMMARY:Prozesse besser machen: KI trifft Automatisierung im Mittelstand
DESCRIPTION:  \nProzesse besser machen: KI trifft Automatisierung im Mittelstand\nKünstliche Intelligenz und Automatisierung verändern die Arbeitswelt – auch im Mittelstand. Wer heute Prozesse intelligent vernetzt und Routineaufgaben automatisiert\, schafft Freiräume für strategische Aufgaben und sichert sich entscheidende Wettbewerbsvorteile. Der Leser-Workshop „KI & Automation“ bringt Sie kompakt auf den Stand der Dinge. \nAm 02. September 2025\, von 11 bis 12 Uhr\, zeigen Ihnen Mariia Utz und David Zimmer von der KI-Beratung disruptive praxisnah\, wie Sie GenAI- und Automatisierungs-Tools verbinden\, um ihren Arbeitsalltag effizienter zu gestalten. In diesem Workshop geht es nicht darum\, IT-Berater zu werden\, sondern Sie für die vielfältigen Möglichkeiten der Automatisierung im eigenen Arbeitsalltag zu begeistern. Hier lernen Sie\, wie Sie Routineaufgaben reduzieren und so mehr Zeit für wertschöpfende Tätigkeiten gewinnen. \n\nWas erwartet Sie?\n\nWarum Automatisierung für mittelständische Unternehmen relevant ist: Sie erfahren\, wie sich Prozesse effizienter gestalten lassen – zum Beispiel in der Planung\, Dokumentation oder Zusammenarbeit im Team.\nTools und Technologien. Lernen Sie die führenden Low-Code-Tools wie n8n\, Zapier\, Make kennen.\nPraxisbeispiele aus dem Arbeitsalltag: Die Kollegen von disruptive zeigen live\, wie Sie einfache Automatisierungsprozesse bauen.\nAusblick und Umsetzung: Wir geben Ihnen Tipps für die ersten Schritte\, stellen Ihnen nützliche Ressourcen zur Verfügung und sprechen über wichtige Aspekte wie Sicherheit und Datenschutz bei Automatisierungen.\nWie immer gilt: Ihre Fragen sind willkommen!\nInklusive schriftlicher Dokumentation\n\n\nNutzen\n\nEpertenwissen zu Automatisierung im Mittelstand\nPraxisnahe Anwendung von Low-Code-Tools (n8n\, Zapier\, Make)\nLive-Beispiele zum Aufbau einfacher Automatisierungsprozesse\nHilfen zur Umsetzung inkl. Sicherheit und Datenschutz\n\n\nZielgruppe\n\nUnternehmensleitung\nGeschäftsführer:innen\nProzessmanager:innen\nPersonalleiter:innen\nKommunikationsleiter:innen\nMarketing- und Social Media Manager:innen\nInnovationsbeauftragte\n\n\nTeilnahmekosten und Anmeldung\nDie Teilnahmegebühr beträgt 120 Euro zzgl. 19% MwSt. \nWeitere Informationen und die Anmeldung zur Veranstaltung finden Sie hier »
URL:https://www.ife-institut-einzelfertiger.de/event/prozesse-besser-machen-ki-trifft-automatisierung-im-mittelstand/
LOCATION:Online\, Deutschland
CATEGORIES:home-events,Hompage-Highlight,Veranstaltungsunterseite
ATTACH;FMTTYPE=image/webp:https://www.ife-institut-einzelfertiger.de/wp-content/uploads/2024/10/ddw-logo-24-klein-neu.webp
END:VEVENT
BEGIN:VEVENT
DTSTART;TZID=Europe/Berlin:20250904T140000
DTEND;TZID=Europe/Berlin:20250904T150000
DTSTAMP:20260422T105150
CREATED:20250807T110808Z
LAST-MODIFIED:20250903T051245Z
UID:4571920-1756994400-1756998000@www.ife-institut-einzelfertiger.de
SUMMARY:Austauschforum zur E-Rechnung Pflicht - Wissen und Lösungen aus dem Netzwerk
DESCRIPTION:AUSGEBUCHT!\nMelden Sie sich hier für den nächsten Termin am 06.11.2025 von 11.30 Uhr – 12:30 Uhr an – jetzt anmelden und dabei sein! » \n  \nDie verpflichtende Einführung der elektronischen Rechnung ab dem 1. Januar 2025 stellt insbesondere den deutschen Mittelstand in der Einzelfertigung vor neue Herausforderungen. \n\nIn dem Austauschforum wollen wir die wichtigsten Fragen klären: \n\nWas bedeutet die E-Rechnungspflicht konkret für die Einzelfertigung?\nWie lassen sich die Anforderungen effizient in bestehende Prozesse integrieren?\nWelche Lösungen gibt es aus dem ams.erp-Netzwerk?\n\n  \nFreuen Sie sich auf Erfahrungsberichte und einen praxisnahen Austausch mit: \n\nBranchenspezialisten für Auftrags- und Projektfertigung\nExpert:innen zum Thema E-Rechnung\n\nDie Teilnahme ist kostenlos und auf 12 Teilnehmende begrenzt!
URL:https://www.ife-institut-einzelfertiger.de/event/austauschforum-zur-e-rechnung-pflicht-wissen-und-loesungen-aus-dem-netzwerk/
LOCATION:Online\, Deutschland
CATEGORIES:home-events,Hompage-Highlight,Veranstaltungsunterseite
ATTACH;FMTTYPE=image/png:https://www.ife-institut-einzelfertiger.de/wp-content/uploads/2023/08/ife-Logo-2023.png
END:VEVENT
BEGIN:VEVENT
DTSTART;TZID=Europe/Berlin:20250905T090000
DTEND;TZID=Europe/Berlin:20250905T100000
DTSTAMP:20260422T105150
CREATED:20250513T062950Z
LAST-MODIFIED:20250513T062950Z
UID:4570913-1757062800-1757066400@www.ife-institut-einzelfertiger.de
SUMMARY:BPMN Modellierungs-Café
DESCRIPTION:Du wirst umfassend im Prozessmanagement qualifiziert.\nBPM wird interaktiv und lebendig vermittelt\, mit zahlreichen Einblicken in die Praxis und lehrreichen Anekdoten. \n  \nDas Ziel der BPM-Seminare ist es\, die Teilnehmenden auf ihre Aufgaben nach dem Seminar vorzubereiten. Dies gelingt am besten mit individuellen Inhalten und viel Interaktion. Theorie wird durch zahlreiche Übungen und praxisnahe Anekdoten lebendig vermittelt. \nDie BPM-Schulungen orientieren sich am BPM-Zyklus und umfassen Prozesserhebung\, Prozessdokumentation und Prozessmodellierung\, Prozessanalyse\, Prozesskonzeption\, Prozessumsetzung und Prozess-Controlling. \nTeilnehmende werden zur aktiven Prozessverbesserung und Prozessautomatisierung befähigt\, basierend auf den Modellierungssprachen BPMN\, DMN und CMMN (optimierendes Prozessmanagement). \nFür besondere Zielgruppen wie Führungskräfte\, Projektleiter oder Berater werden rollenfokussierte BPM-Seminare im Rahmen des transformierenden Prozessmanagements angeboten. Zudem erfolgt eine Vorbereitung auf international anerkannte Zertifizierungen. \n  \nAnmeldung\nDie Teilnahme ist kostenfrei. \nWeitere Informationen zur Veranstaltung und die Anmeldung finden Sie hier »
URL:https://www.ife-institut-einzelfertiger.de/event/bpmn-modellierungs-cafe-4/
LOCATION:Online\, Deutschland
CATEGORIES:home-events,Hompage-Highlight,Veranstaltungsunterseite
ATTACH;FMTTYPE=image/jpeg:https://www.ife-institut-einzelfertiger.de/wp-content/uploads/2020/03/Minautics_Logo-claim-1-e1754553778275.jpg
END:VEVENT
BEGIN:VEVENT
DTSTART;VALUE=DATE:20250908
DTEND;VALUE=DATE:20250910
DTSTAMP:20260422T105150
CREATED:20241029T084449Z
LAST-MODIFIED:20250513T081408Z
UID:4569702-1757289600-1757462399@www.ife-institut-einzelfertiger.de
SUMMARY:Denkwerkstatt für Führungskräfte
DESCRIPTION:  \n08.-09. September 2025\n \nInhalte\nJede Firma entwickelt sich ständig weiter und passt sich an den Wettbewerbsdruck an. Führung stiftet den Rahmen für diese Entwicklung. In manchen Firmen mehr\, in anderen weniger…Theoretisch können also Führungskräfte neue\, erfolgreiche Muster der Zusammenarbeit etablieren. Und übrigens: Immer wenn Menschen anderen folgen nennen wir das Führung. Somit richtet sich die Denkwerkstatt an Führungskräfte nicht (nur) an Vorgesetzte. \n\n\n\nDer Trainingsplan\n\n\n\n\n\n2 x 2 Tage bei Herding GmbH\, Amberg\nImpulse und neue Perspektiven auf Führungsarbeit\nReflexion gemeinsam mit verschiedenen Führungskräften der Firma Herding\nTrainer: B. Löffler (V&S)\, F. Schünke (CTO Herding)\, B. Wennicke\nReflexionsgespräch im Nachgang\nTrainings-Zertifikat\n\n\n\n  \n  \nAnmeldung und Teilnahme\nDie Ausbildungskosten inklusive Mittagessen und Getränke betragen 1950\,00 € zzgl. MwSt. pro Person\, für ife-Mitglieder nur 1755\,00 €.\nMelden Sie sich an\, per Mail an info@ife-institut-einzelfertiger.de oder über unser Kontaktformular. \nAnmeldungen werden nach Anmeldeeingang berücksichtigt. \n  \nWeitere Infos finden Sie hier »
URL:https://www.ife-institut-einzelfertiger.de/event/denkwerkstatt-fuer-fuehrungskraefte-2/
LOCATION:Herding GmbH\, Amberg
CATEGORIES:home-events,Hompage-Highlight,Veranstaltungsunterseite
ATTACH;FMTTYPE=image/jpeg:https://www.ife-institut-einzelfertiger.de/wp-content/uploads/2022/04/vS-Herding-1.jpg
END:VEVENT
BEGIN:VEVENT
DTSTART;TZID=Europe/Berlin:20250908T150000
DTEND;TZID=Europe/Berlin:20250908T160000
DTSTAMP:20260422T105150
CREATED:20250513T075602Z
LAST-MODIFIED:20250513T075602Z
UID:4570936-1757343600-1757347200@www.ife-institut-einzelfertiger.de
SUMMARY:Wirtschaftlichkeitsberechnung einer Ende-zu-Ende-Workflow-Lösung
DESCRIPTION:Berechnung der Wirtschaftlichkeit einer Ende-zu-Ende-Workflow-lösung\nDie Berechnung der Wirtschaftlichkeit einer Ende-zu-Ende-Workflow-Lösung stellt Unternehmen vor eine anspruchsvolle Aufgabe. Die Komplexität moderner Geschäftsprozesse\, kombiniert mit den vielfältigen Auswirkungen einer Automatisierung\, macht es schwierig\, klare und belastbare Aussagen über den finanziellen Nutzen zu treffen. Dabei gilt es nicht nur\, direkte Kosten und Einsparungen zu berücksichtigen\, sondern auch langfristige Effekte und qualitative Vorteile\, die oft schwer zu quantifizieren sind. \n \nBjörn Richerzhagen\, CEO&Gründer der MINAUTICS GmbH\, vermittelt einen methodischen Ansatz\, um eine fundierte Wirtschaftlichkeitsanalyse durchzuführen. Ziel ist es\, dir und deinem Unternehmen eine praxisnahe Anleitung zur Verfügung zu stellen\, die bei der Bewertung von Automatisierungsprojekten unterstützt. Die vorgestellten Schritte sollen dir helfen\, komplexe Sachverhalte strukturiert zu analysieren und eine transparente Entscheidungsgrundlage zu schaffen. \n\n  \nAnmeldung\nDie Teilnahme ist kostenfrei. \nWeitere Informationen zur Veranstaltung und die Anmeldung finden Sie hier »
URL:https://www.ife-institut-einzelfertiger.de/event/wirtschaftlichkeitsberechnung-einer-ende-zu-ende-workflow-loesung-2/
LOCATION:Online\, Deutschland
CATEGORIES:home-events,Hompage-Highlight,Veranstaltungsunterseite
ATTACH;FMTTYPE=image/jpeg:https://www.ife-institut-einzelfertiger.de/wp-content/uploads/2020/03/Minautics_Logo-claim-1-e1754553778275.jpg
END:VEVENT
BEGIN:VEVENT
DTSTART;TZID=Europe/Berlin:20250917T100000
DTEND;TZID=Europe/Berlin:20250917T153000
DTSTAMP:20260422T105150
CREATED:20250812T133048Z
LAST-MODIFIED:20250911T074653Z
UID:4572096-1758103200-1758123000@www.ife-institut-einzelfertiger.de
SUMMARY:ERP-Event Siegen
DESCRIPTION:[vc_row][vc_column][vc_column_text] \nERP für Losgröße 1+\nDigitale Zukunft der Industrie: ERP neu gedacht\nIndustrieunternehmen stehen vor der Herausforderung\, effizienter\, flexibler und vernetzter zu arbeiten.\nAuf unserer Veranstaltung zeigen wir Ihnen\, wie ams.erp zur Schaltzentrale Ihrer digitalen Prozesse wird\, von offenen Schnittstellen und mobiler Nutzung bis hin zu KI-gestützter Automatisierung. \nErleben Sie praxisnahe Impulse\, konkrete Lösungen und echte Mehrwerte für Ihre industrielle Wertschöpfungskette und tauschen Sie sich mit Experten und Branchenkollegen persönlich aus. \n  \nAgenda  \n\n\n\n10:00\nCome Together\n\n\n10:30\nBegrüßung & Einführung\nMartin Denny\, Branchenmanager West\, ams.Solution AG\n\n\n10:40\nams.erp als Herzstück der digitalen Zukunft – Die Datendrehscheibe von morgen\nYannis Bermig\, Branchenmanager & KI-Experte\, ams.Solution AG\n\n\n\n11:10\nAutomatisieren & Intelligenter Entscheiden:\nWie KI und smarte Werkzeuge das ERP revolutionieren\nMarkus Rieche\, Presales Consultant\, ams.Solution AG\n\n\n\n11:40\nF&A und Networking\n\n\n12:00\n\nStrategische Weiterentwicklung \n(Zusammenfassung & Next Steps)\nMartin Hinrichs\, Prokurist Produktmanagement\, ams.Solution AG\n\n\n\n\n12:30\n\nMittagspause & Networking\n\n\n14:00\n\nOffene Schnittstellen\, echte Flexibilität – Mit APIs zum vernetzten ERP\nMarkus Rieche\, Presales Consultant\, ams.Solution AG\n\n\n\n14:30\nMobil & Grenzenlos. ERP mit ams.flex immer dort\, wo Sie es brauchen\nRonny Friedel\, Presales Consultant\, ams.Solution AG\n\n\n\n15:00\nFührung durch die Smarte Demofabrik Siegen\n\n\n15:30\nVoraussichtliches Ende\n\n\n\n  \nDie Veranstaltung ist kostenlos! \nHier geht es zur Anmeldung »
URL:https://www.ife-institut-einzelfertiger.de/event/erp-praxistag-siegen/
CATEGORIES:home-events,Hompage-Highlight,Veranstaltungsunterseite
ATTACH;FMTTYPE=image/png:https://www.ife-institut-einzelfertiger.de/wp-content/uploads/2022/11/RZ_ams_Logo_23-e1728472504291.png
END:VEVENT
BEGIN:VEVENT
DTSTART;VALUE=DATE:20250924
DTEND;VALUE=DATE:20250926
DTSTAMP:20260422T105150
CREATED:20250527T111443Z
LAST-MODIFIED:20250926T073226Z
UID:4571347-1758672000-1758844799@www.ife-institut-einzelfertiger.de
SUMMARY:ife-Kuratoriumssitzung
DESCRIPTION:[vc_row][vc_column][vc_column_text] \nIn interner Runde bereiten wir aktuell spannende Neuerungen vor: Mit frischen Ideen\, praxisnahen Impulsen und strategischem Weitblick arbeiten wir daran\, unser Netzwerk weiter zu stärken. Bleiben Sie gespannt – wir halten Sie auf dem Laufenden!
URL:https://www.ife-institut-einzelfertiger.de/event/ife-kuratoriumssitzung-3/
CATEGORIES:home-events,Hompage-Highlight,Veranstaltungsunterseite
ATTACH;FMTTYPE=image/png:https://www.ife-institut-einzelfertiger.de/wp-content/uploads/2023/08/ife-Logo-2023.png
END:VEVENT
BEGIN:VEVENT
DTSTART;TZID=Europe/Berlin:20250925T090000
DTEND;TZID=Europe/Berlin:20250925T160000
DTSTAMP:20260422T105150
CREATED:20250312T125500Z
LAST-MODIFIED:20250402T062449Z
UID:4570400-1758790800-1758816000@www.ife-institut-einzelfertiger.de
SUMMARY:fluss|aufwerts Praxistag – der Workout für den Arbeitsfluss
DESCRIPTION:[vc_row][vc_column][vc_column_text]\n  \nLeben ist Fließen\nEin Lean-Office Training beim fluss|aufwerts Praxistag verbessert Ihre Arbeitsorganisation und schafft wieder Freude am Job. An nur einem Tag erfahren Sie in praxisnahen Rollenspielen und Übungen\, wie Sie Verschwendung vermeiden. Ihre neuen Skills schaffen eine Veränderungskultur\, die direkt aus dem inneren Arbeitskreis entsteht.\nEffizienz\, Motivation und Freude sind das natürliche Ergebnis. \n\n  \nZukunft ist fließend\nNehmen Sie am fluss|aufwerts Praxistag in Wildeshausen teil. Wir freuen uns auf Ihre Anekdoten aus Ihrem Arbeitsalltag. Gute Laune können Sie voraussetzen!\n \nDer Zeitraum ist von 09:00 bis 16:00 Uhr\, bitte planen Sie ein wenig Reserve ein. Für Essen und Trinken wird gesorgt. \n  \nAnmeldung und Teilnahme\nDie Teilnahmegebühr beträgt 250 Euro zzgl. USt.\nMelden Sie sich an\, per Mail an ingo.koerner@aufwerts.org \n  \nWeitere Infos finden Sie hier »
URL:https://www.ife-institut-einzelfertiger.de/event/flussaufwerts-praxistag-der-workout-fuer-den-arbeitsfluss-10/
LOCATION:Altes Amtshaus\, Herrlichkeit 13\, Wildeshausen\, 27793
CATEGORIES:home-events,Hompage-Highlight,Veranstaltungsunterseite
ATTACH;FMTTYPE=image/png:https://www.ife-institut-einzelfertiger.de/wp-content/uploads/2021/12/Aufwerts-web-1.png
ORGANIZER;CN="aufwerts GmbH":MAILTO:hallo@aufwerts.org
END:VEVENT
END:VCALENDAR