BEGIN:VCALENDAR
VERSION:2.0
PRODID:-//ife - Netzwerk für Einzelfertiger - ECPv6.15.12.2//NONSGML v1.0//EN
CALSCALE:GREGORIAN
METHOD:PUBLISH
X-WR-CALNAME:ife - Netzwerk für Einzelfertiger
X-ORIGINAL-URL:https://www.ife-institut-einzelfertiger.de
X-WR-CALDESC:Veranstaltungen für ife - Netzwerk für Einzelfertiger
REFRESH-INTERVAL;VALUE=DURATION:PT1H
X-Robots-Tag:noindex
X-PUBLISHED-TTL:PT1H
BEGIN:VTIMEZONE
TZID:Europe/Berlin
BEGIN:DAYLIGHT
TZOFFSETFROM:+0100
TZOFFSETTO:+0200
TZNAME:CEST
DTSTART:20230326T010000
END:DAYLIGHT
BEGIN:STANDARD
TZOFFSETFROM:+0200
TZOFFSETTO:+0100
TZNAME:CET
DTSTART:20231029T010000
END:STANDARD
BEGIN:DAYLIGHT
TZOFFSETFROM:+0100
TZOFFSETTO:+0200
TZNAME:CEST
DTSTART:20240331T010000
END:DAYLIGHT
BEGIN:STANDARD
TZOFFSETFROM:+0200
TZOFFSETTO:+0100
TZNAME:CET
DTSTART:20241027T010000
END:STANDARD
BEGIN:DAYLIGHT
TZOFFSETFROM:+0100
TZOFFSETTO:+0200
TZNAME:CEST
DTSTART:20250330T010000
END:DAYLIGHT
BEGIN:STANDARD
TZOFFSETFROM:+0200
TZOFFSETTO:+0100
TZNAME:CET
DTSTART:20251026T010000
END:STANDARD
BEGIN:DAYLIGHT
TZOFFSETFROM:+0100
TZOFFSETTO:+0200
TZNAME:CEST
DTSTART:20260329T010000
END:DAYLIGHT
BEGIN:STANDARD
TZOFFSETFROM:+0200
TZOFFSETTO:+0100
TZNAME:CET
DTSTART:20261025T010000
END:STANDARD
END:VTIMEZONE
BEGIN:VEVENT
DTSTART;VALUE=DATE:20241102
DTEND;VALUE=DATE:20251113
DTSTAMP:20260422T163148
CREATED:20250908T095026Z
LAST-MODIFIED:20251015T132626Z
UID:4572619-1730505600-1762991999@www.ife-institut-einzelfertiger.de
SUMMARY:DDW-Delegationsreise 2025
DESCRIPTION:Die letzten Monate haben gezeigt: Die Märkte in Deutschland werden sich für viele Industriebereiche und Unternehmen – gerade für den Mittelstand – zunehmend schwieriger gestalten. Mehr als zuvor zählt daher die Intensivierung des Auslandsgeschäfts – und auch Auslandsstandorte ihrerseits sind an verstärkten Verbindungen zur deutschen Wirtschaft interessiert. Einzigartige Chancen dazu bietet wieder die diesjährige Delegationsreise nach China im November. Leser können sich anmelden. \n  \nWährend sich viele europäische Märkte zunehmend als herausfordernd erweisen\, bleibt China ein Schlüsselmarkt für Unternehmer aus Deutschland\, Österreich und der Schweiz. Wer sich heute rechtzeitig positioniert\, sichert sich entscheidende Vorteile bei Investitionen\, Produktionsverlagerung\, Vertriebsausbau oder Finanzierung. \nIm Mittelpunkt der Reise vom 2. bis 12. November stehen konkrete Geschäftsmöglichkeiten und Resultate. Den Teilnehmern der Delegationsreise werden dazu Zugang zu den höchsten Entscheidungsträgern in Politik\, Verwaltung\, Wirtschaft und Investoren in individuellen Matchingverfahren vermittelt. Die Regierung stellt sicher\, dass die Unternehmen\, mit denen man in Kontakt tritt\, nicht nur vertrauenswürdig\, sondern auch bestens vorbereitet sind\, um Unternehmen in China zu unterstützen. \n  \nTop-Kontakt im einzigartigen Rahmen der Delegationsreise\nZugleich repräsentieren die Teilnehmer die mittelständische Wirtschaft und Industrie des deutschsprachigen Raums gegenüber hochkarätigen Vertretern des Ziellandes. Dabei hat man die Möglichkeit zur Eigenpräsentation\, oder als Experte auf Podiumsdiskussionen oder durch Vorträge auf Kongressen aufzutreten – bis hin zu überregionalen Zeitungs- und Fernsehinterviews (wie hier in einem TV-Bericht des chinesischen Staatsfernsehens). \nDer diesjährige China-Besuch kann auf den sehr positiven Erfahrungen des letzten Jahres aufbauen\, die rundweg begeisterte Teilnehmer und wertvolle Geschäftskontakte verzeichnen konnte – siehe untenstehende Interviews. \nDie Anfrage zur Teilnahme an den Delegationen richtet sich an Inhaber\, Geschäftsführer und Führungskräfte mittelständischer oder Industrieunternehmen unterschiedlicher Branchen. Die Reisekosten werden weitgehend übernommen. Eine deutsche Betreuung vor Ort ist für den gesamten Reiseplan sichergestellt. \n\n  \n2. bis 12. November:\nProgramm\, Orte und Bewerbung\nDie diesjährige Delegationen führt in einige der wichtigsten Wirtschaftsregionen Chinas und globale und nationale Zentren für Finanzen\, Handel und Industrie\, so Shanghai\, Nanjing oder Wuxi. \nPartner der Delegationsreise sind neben DDW Die Deutsche Wirtschaft der Innovator des Jahres und der Bundesverband Auswandererberatung & Außenwirtschaftsförderung e.V. \nDiese Reise ist keine Standard-Veranstaltung. Jede Begegnung und jedes Treffen wird an die individuellen Anforderungen angepasst – ob man einen Produktionsaufbau in China plant\, Investoren sucht oder neue Vertriebskanäle erschließen möchte. In einem einzigartigen Rahmen als Delegation trifft man chinesische Top-Entscheidungsträger\, Regierungsvertreter und Wirtschaftsführer. \nDennoch kommen bei allen einzigartigen Business-Chancen das gemeinsame Erlebnis und kulturelle Eindrücke nicht zu kurz: Zur Delegationsgruppe gehören rund 25 gleichgesinnte mittelständische Unternehmerinnen und Unternehmer. Und die bildeten letztjährig eine begeisterte Gemeinschaft\, die bis heute trägt. \n  \nUnternehmensdelegation 2025:\n\nDatum: 2.11. bis 12.11.2025\nBranchenfokus: Produktion\, Automation\, Green Energy\, neue Werkstoffe und Automotive\nStädte: Shanghai\, Suzhou\, Taicang\, Nantong\, Wuxi\, Changzhou\, Nanjing und Qingdao\n\n  \nProgramm:\n\nVeranstaltung für Investition und Kooperation\nBesuch von Firmenbesuchen führender Unternehmen\, Technologiezentren\, Finanzinstitutionen\, Freihandelszonen\, Regierungsinstitutionen\, Produktionsstätten\, Innovationszentren\, Familienunternehmen u.v.m.\noffizielle Summits und Pressetermine\nGespräche mit potenziellen Kunden\, Partnern und Investoren\nAuthentische Sehenswürdigkeiten und kulinarische Erlebnisse\n\n  \nKosten:\n\nDie Kosten werden weitestgehend übernommen. Es verbleibt für die gesamte 10tägige Reise inklusive allen Flug-\, Reise- und Verzehrkosten sowie Unterbringung in meist 5-Sterne-Hotels ein Selbstkostenanteil von 5.900\,- Euro pro Person.\n\n  \n\nIhre Teilnahme:\n\nSchreiben Sie Ihren Teilnahmewunsch formlos an info@ife-institut-einzelfertiger.de.\nNennen Sie dabei bitte den / die Namen der Teilnehmer:innen und den Ihres Unternehmens.\nDa nur begrenzte Plätze verfügbar sind\, werden Sie von den Organisatoren zeitnah darüber informiert\, ob eine Teilnahme möglich ist. 
URL:https://www.ife-institut-einzelfertiger.de/event/ddw-delegationsreise-2025/
CATEGORIES:home-events,Hompage-Highlight,Veranstaltungsunterseite
ATTACH;FMTTYPE=image/webp:https://www.ife-institut-einzelfertiger.de/wp-content/uploads/2024/10/ddw-logo-24-klein-neu.webp
END:VEVENT
BEGIN:VEVENT
DTSTART;TZID=Europe/Berlin:20250509T090000
DTEND;TZID=Europe/Berlin:20250509T100000
DTSTAMP:20260422T163148
CREATED:20250422T122048Z
LAST-MODIFIED:20250422T122442Z
UID:4570688-1746781200-1746784800@www.ife-institut-einzelfertiger.de
SUMMARY:BPMN Modellierungs-Café
DESCRIPTION:Du wirst umfassend im Prozessmanagement qualifiziert.\nBPM wird interaktiv und lebendig vermittelt\, mit zahlreichen Einblicken in die Praxis und lehrreichen Anekdoten. \n  \nDas Ziel der BPM-Seminare ist es\, die Teilnehmenden auf ihre Aufgaben nach dem Seminar vorzubereiten. Dies gelingt am besten mit individuellen Inhalten und viel Interaktion. Theorie wird durch zahlreiche Übungen und praxisnahe Anekdoten lebendig vermittelt. \nDie BPM-Schulungen orientieren sich am BPM-Zyklus und umfassen Prozesserhebung\, Prozessdokumentation und Prozessmodellierung\, Prozessanalyse\, Prozesskonzeption\, Prozessumsetzung und Prozess-Controlling. \nTeilnehmende werden zur aktiven Prozessverbesserung und Prozessautomatisierung befähigt\, basierend auf den Modellierungssprachen BPMN\, DMN und CMMN (optimierendes Prozessmanagement). \nFür besondere Zielgruppen wie Führungskräfte\, Projektleiter oder Berater werden rollenfokussierte BPM-Seminare im Rahmen des transformierenden Prozessmanagements angeboten. Zudem erfolgt eine Vorbereitung auf international anerkannte Zertifizierungen. \n  \nAnmeldung\nDie Teilnahme ist kostenfrei. \nWeitere Informationen zur Veranstaltung und die Anmeldung finden Sie hier »
URL:https://www.ife-institut-einzelfertiger.de/event/bpmn-modellierungs-cafe/
LOCATION:Online\, Deutschland
CATEGORIES:home-events,Hompage-Highlight,Veranstaltungsunterseite
ATTACH;FMTTYPE=image/jpeg:https://www.ife-institut-einzelfertiger.de/wp-content/uploads/2020/03/Minautics_Logo-claim-1-e1754553778275.jpg
END:VEVENT
BEGIN:VEVENT
DTSTART;TZID=Europe/Berlin:20250515T093000
DTEND;TZID=Europe/Berlin:20250515T150000
DTSTAMP:20260422T163148
CREATED:20250107T112045Z
LAST-MODIFIED:20250107T112045Z
UID:4570094-1747301400-1747321200@www.ife-institut-einzelfertiger.de
SUMMARY:ERP Praxistag Osnabrück
DESCRIPTION:[vc_row][vc_column][vc_column_text] \nERP für Losgröße 1+\nSo funktioniert effizientes Projektmanagement\nSie möchten die organisatorischen Abläufe und Strukturen im Unternehmen verbessern und Ihre Geschäftsprozesse optimieren? \nDann brauchen Sie ein ERP-System\, das Ihre Projekte entlang der gesamten Wertschöpfungskette optimal unterstützt. \nUnsere branchenorientierte Business-Software ams.erp bildet die zentrale Datendrehscheibe für sämtliche Unternehmensprozesse. Die gewonnene Transparenz erhöht Ihre Planungssicherheit\, steigert die Profitabilität Ihres Unternehmens und damit Ihre Wettbewerbsfähigkeit\, für mehr Wachstum und eine sichere Zukunft. \nUnsere Praxisbeispiele zeigen Ihnen\, welchen Mehrwert Sie durch den Einsatz unserer ERP-Lösung für sich und Ihre Kunden schaffen können. \n  \nAgenda \n\n\n\n09:30\nCome Together\n\n\n10:00\nBegrüßung der Teilnehmer und Kurzvorstellung\n\n\n10:15\nVorstellung ams.erp | Das moderne und flexible Projektmanagement-ERP für Ihre effiziente Projektsteuerung und -planung.\n\n\n11:15\nKaffee- und Diskussionspause\n\n\n\n11:30\nErfolgreiche ERP-Einführung – eine Success Story\n\n\n12:15\n\nGesprächsrunde mit den Referenzkunden\n\n\n13:15\n\nMittagspause\n\n\n14:15\n\nVollständige Integration von CAD und PDM für mehr Produktivität in Konstruktion und Produktion I Service I DMS – Dokumentenmanagement\n\n\n15:00\n\nVoraussichtliches Ende des offiziellen Programms\n\n\n\n  \nDie Veranstaltung ist kostenlos! \nHier geht es zur Anmeldung »
URL:https://www.ife-institut-einzelfertiger.de/event/erp-praxistag-osnabrueck/
LOCATION:Vienna House Remarque Osnabrück\, Natruper-Tor-Wall 1\, Osnabrück\, 49076
CATEGORIES:home-events,Hompage-Highlight,Veranstaltungsunterseite
ATTACH;FMTTYPE=image/png:https://www.ife-institut-einzelfertiger.de/wp-content/uploads/2022/11/RZ_ams_Logo_23-e1728472504291.png
END:VEVENT
BEGIN:VEVENT
DTSTART;VALUE=DATE:20250522
DTEND;VALUE=DATE:20250523
DTSTAMP:20260422T163148
CREATED:20250312T072434Z
LAST-MODIFIED:20250519T124639Z
UID:4570380-1747872000-1747958399@www.ife-institut-einzelfertiger.de
SUMMARY:V&S Lager.Feuer
DESCRIPTION:Seehotel Niedernberg\nDenkanstöße und Gedankenaustausch auf Top-Management-Ebene\nWas erwartet Sie?\nImpulse – aus der Praxis für die Praxis – Vernetzung auf Augenhöhe. Wir bieten am V & S-Lager.Feuer bereits zum vierzehnten Mal eine Plattform\, um Lösungsideen und Denkanstöße für aktuelle und zukünftige Herausforderungen auszutauschen. \nWer ist da?\nEigentümer:innen\, Geschäftsführer:innen und Experten:innen aus der Praxis. \nSchwerpunkte: \n\n25 Jahre V&S – wenn das kein Grund ist …\nKultur: Ein Zombie streckt die Hand aus dem Grab\nIndien: in Sachen Optimismus nicht zu schlagen. Auch für den Mittelstand nützlich?\nKI: gesunder\, nutzenorientierter Pragmatismus statt Hype\nZukunft: Die Magie der Megatrends​\nViel Vernetzung mit „den neuen und vielen bekannten Gesichtern“\n\nAblauf und Programm \nAlle weiteren Infos zum Programm sowie den Ablauf finden Sie hier » \nAnmeldung und Kosten \nDie Teilnahmegebühr beträgt 890 €\nWir bitten um Anmeldung an: info@v-und-s.de oder bei: Nicole Tietz +49 (0) 700 / 88 63 70 00
URL:https://www.ife-institut-einzelfertiger.de/event/vs-lager-feuer/
LOCATION:Seehotel Niedernberg (Nähe Frankfurt a.M.)\, Leerweg\, Niedernberg\, 63843\, Deutschland
CATEGORIES:home-events,Hompage-Highlight,Veranstaltungsunterseite
ATTACH;FMTTYPE=image/jpeg:https://www.ife-institut-einzelfertiger.de/wp-content/uploads/2019/02/VS_Logo_4C_RZ-1-e1700046855709.jpg
END:VEVENT
END:VCALENDAR