BEGIN:VCALENDAR
VERSION:2.0
PRODID:-//ife - Netzwerk für Einzelfertiger - ECPv6.15.12.2//NONSGML v1.0//EN
CALSCALE:GREGORIAN
METHOD:PUBLISH
X-WR-CALNAME:ife - Netzwerk für Einzelfertiger
X-ORIGINAL-URL:https://www.ife-institut-einzelfertiger.de
X-WR-CALDESC:Veranstaltungen für ife - Netzwerk für Einzelfertiger
REFRESH-INTERVAL;VALUE=DURATION:PT1H
X-Robots-Tag:noindex
X-PUBLISHED-TTL:PT1H
BEGIN:VTIMEZONE
TZID:Europe/Berlin
BEGIN:DAYLIGHT
TZOFFSETFROM:+0100
TZOFFSETTO:+0200
TZNAME:CEST
DTSTART:20230326T010000
END:DAYLIGHT
BEGIN:STANDARD
TZOFFSETFROM:+0200
TZOFFSETTO:+0100
TZNAME:CET
DTSTART:20231029T010000
END:STANDARD
BEGIN:DAYLIGHT
TZOFFSETFROM:+0100
TZOFFSETTO:+0200
TZNAME:CEST
DTSTART:20240331T010000
END:DAYLIGHT
BEGIN:STANDARD
TZOFFSETFROM:+0200
TZOFFSETTO:+0100
TZNAME:CET
DTSTART:20241027T010000
END:STANDARD
BEGIN:DAYLIGHT
TZOFFSETFROM:+0100
TZOFFSETTO:+0200
TZNAME:CEST
DTSTART:20250330T010000
END:DAYLIGHT
BEGIN:STANDARD
TZOFFSETFROM:+0200
TZOFFSETTO:+0100
TZNAME:CET
DTSTART:20251026T010000
END:STANDARD
BEGIN:DAYLIGHT
TZOFFSETFROM:+0100
TZOFFSETTO:+0200
TZNAME:CEST
DTSTART:20260329T010000
END:DAYLIGHT
BEGIN:STANDARD
TZOFFSETFROM:+0200
TZOFFSETTO:+0100
TZNAME:CET
DTSTART:20261025T010000
END:STANDARD
END:VTIMEZONE
BEGIN:VEVENT
DTSTART;VALUE=DATE:20241102
DTEND;VALUE=DATE:20251113
DTSTAMP:20260422T193704
CREATED:20250908T095026Z
LAST-MODIFIED:20251015T132626Z
UID:4572619-1730505600-1762991999@www.ife-institut-einzelfertiger.de
SUMMARY:DDW-Delegationsreise 2025
DESCRIPTION:Die letzten Monate haben gezeigt: Die Märkte in Deutschland werden sich für viele Industriebereiche und Unternehmen – gerade für den Mittelstand – zunehmend schwieriger gestalten. Mehr als zuvor zählt daher die Intensivierung des Auslandsgeschäfts – und auch Auslandsstandorte ihrerseits sind an verstärkten Verbindungen zur deutschen Wirtschaft interessiert. Einzigartige Chancen dazu bietet wieder die diesjährige Delegationsreise nach China im November. Leser können sich anmelden. \n  \nWährend sich viele europäische Märkte zunehmend als herausfordernd erweisen\, bleibt China ein Schlüsselmarkt für Unternehmer aus Deutschland\, Österreich und der Schweiz. Wer sich heute rechtzeitig positioniert\, sichert sich entscheidende Vorteile bei Investitionen\, Produktionsverlagerung\, Vertriebsausbau oder Finanzierung. \nIm Mittelpunkt der Reise vom 2. bis 12. November stehen konkrete Geschäftsmöglichkeiten und Resultate. Den Teilnehmern der Delegationsreise werden dazu Zugang zu den höchsten Entscheidungsträgern in Politik\, Verwaltung\, Wirtschaft und Investoren in individuellen Matchingverfahren vermittelt. Die Regierung stellt sicher\, dass die Unternehmen\, mit denen man in Kontakt tritt\, nicht nur vertrauenswürdig\, sondern auch bestens vorbereitet sind\, um Unternehmen in China zu unterstützen. \n  \nTop-Kontakt im einzigartigen Rahmen der Delegationsreise\nZugleich repräsentieren die Teilnehmer die mittelständische Wirtschaft und Industrie des deutschsprachigen Raums gegenüber hochkarätigen Vertretern des Ziellandes. Dabei hat man die Möglichkeit zur Eigenpräsentation\, oder als Experte auf Podiumsdiskussionen oder durch Vorträge auf Kongressen aufzutreten – bis hin zu überregionalen Zeitungs- und Fernsehinterviews (wie hier in einem TV-Bericht des chinesischen Staatsfernsehens). \nDer diesjährige China-Besuch kann auf den sehr positiven Erfahrungen des letzten Jahres aufbauen\, die rundweg begeisterte Teilnehmer und wertvolle Geschäftskontakte verzeichnen konnte – siehe untenstehende Interviews. \nDie Anfrage zur Teilnahme an den Delegationen richtet sich an Inhaber\, Geschäftsführer und Führungskräfte mittelständischer oder Industrieunternehmen unterschiedlicher Branchen. Die Reisekosten werden weitgehend übernommen. Eine deutsche Betreuung vor Ort ist für den gesamten Reiseplan sichergestellt. \n\n  \n2. bis 12. November:\nProgramm\, Orte und Bewerbung\nDie diesjährige Delegationen führt in einige der wichtigsten Wirtschaftsregionen Chinas und globale und nationale Zentren für Finanzen\, Handel und Industrie\, so Shanghai\, Nanjing oder Wuxi. \nPartner der Delegationsreise sind neben DDW Die Deutsche Wirtschaft der Innovator des Jahres und der Bundesverband Auswandererberatung & Außenwirtschaftsförderung e.V. \nDiese Reise ist keine Standard-Veranstaltung. Jede Begegnung und jedes Treffen wird an die individuellen Anforderungen angepasst – ob man einen Produktionsaufbau in China plant\, Investoren sucht oder neue Vertriebskanäle erschließen möchte. In einem einzigartigen Rahmen als Delegation trifft man chinesische Top-Entscheidungsträger\, Regierungsvertreter und Wirtschaftsführer. \nDennoch kommen bei allen einzigartigen Business-Chancen das gemeinsame Erlebnis und kulturelle Eindrücke nicht zu kurz: Zur Delegationsgruppe gehören rund 25 gleichgesinnte mittelständische Unternehmerinnen und Unternehmer. Und die bildeten letztjährig eine begeisterte Gemeinschaft\, die bis heute trägt. \n  \nUnternehmensdelegation 2025:\n\nDatum: 2.11. bis 12.11.2025\nBranchenfokus: Produktion\, Automation\, Green Energy\, neue Werkstoffe und Automotive\nStädte: Shanghai\, Suzhou\, Taicang\, Nantong\, Wuxi\, Changzhou\, Nanjing und Qingdao\n\n  \nProgramm:\n\nVeranstaltung für Investition und Kooperation\nBesuch von Firmenbesuchen führender Unternehmen\, Technologiezentren\, Finanzinstitutionen\, Freihandelszonen\, Regierungsinstitutionen\, Produktionsstätten\, Innovationszentren\, Familienunternehmen u.v.m.\noffizielle Summits und Pressetermine\nGespräche mit potenziellen Kunden\, Partnern und Investoren\nAuthentische Sehenswürdigkeiten und kulinarische Erlebnisse\n\n  \nKosten:\n\nDie Kosten werden weitestgehend übernommen. Es verbleibt für die gesamte 10tägige Reise inklusive allen Flug-\, Reise- und Verzehrkosten sowie Unterbringung in meist 5-Sterne-Hotels ein Selbstkostenanteil von 5.900\,- Euro pro Person.\n\n  \n\nIhre Teilnahme:\n\nSchreiben Sie Ihren Teilnahmewunsch formlos an info@ife-institut-einzelfertiger.de.\nNennen Sie dabei bitte den / die Namen der Teilnehmer:innen und den Ihres Unternehmens.\nDa nur begrenzte Plätze verfügbar sind\, werden Sie von den Organisatoren zeitnah darüber informiert\, ob eine Teilnahme möglich ist. 
URL:https://www.ife-institut-einzelfertiger.de/event/ddw-delegationsreise-2025/
CATEGORIES:home-events,Hompage-Highlight,Veranstaltungsunterseite
ATTACH;FMTTYPE=image/webp:https://www.ife-institut-einzelfertiger.de/wp-content/uploads/2024/10/ddw-logo-24-klein-neu.webp
END:VEVENT
BEGIN:VEVENT
DTSTART;VALUE=DATE:20250306
DTEND;VALUE=DATE:20250307
DTSTAMP:20260422T193704
CREATED:20250219T093936Z
LAST-MODIFIED:20250219T115856Z
UID:4570260-1741219200-1741305599@www.ife-institut-einzelfertiger.de
SUMMARY:ESG Tech Summit
DESCRIPTION:2. ESG Tech Summit\nAm 06. März 2025 veranstalten Prof. Dr. Sandy Eggert (Hochschule für Wirtschaft und Recht Berlin) und Prof. Dr. Peter Preuss (FOM Hochschule für Oekonomie und Management) gemeinsam mit dem Institut für Nachhaltigkeit der HWR Berlin den 2. ESG Tech Summit. \nDer ESG Tech Summit 2025 bietet einen umfassenden Überblick über alle Themen rund um die ESG-Berichterstattung sowie über den Einsatz geeigneter IT-Tools. \nEs werden spannende Vorträge von Expertinnen und Experten aus Forschung und Unternehmensberatung sowie von Softwareherstellern und -dienstleistern erwartet. Darüber hinaus bietet die Veranstaltung die Möglichkeit zum intensiven Austausch über aktuelle Herausforderungen im Bereich ESG und den damit verbundenen Nachhaltigkeitsanforderungen. \n  \nAnmeldung\nDie Teilnahme ist kostenfrei. \nWeitere Informationen zur Veranstaltung und die Anmeldung finden Sie hier »
URL:https://www.ife-institut-einzelfertiger.de/event/esg-tech-summit/
LOCATION:Campus Schöneberg\, Badensche Straße 50–51\, Haus B Aula\, 10825 Berlin\, Germany
CATEGORIES:home-events,Hompage-Highlight,Veranstaltungsunterseite
ATTACH;FMTTYPE=image/png:https://www.ife-institut-einzelfertiger.de/wp-content/uploads/2025/01/HWR-Berlin_Logo_CMYK.jpg
END:VEVENT
BEGIN:VEVENT
DTSTART;VALUE=DATE:20250319
DTEND;VALUE=DATE:20250321
DTSTAMP:20260422T193704
CREATED:20241029T084327Z
LAST-MODIFIED:20250107T123625Z
UID:4569700-1742342400-1742515199@www.ife-institut-einzelfertiger.de
SUMMARY:Denkwerkstatt für Führungskräfte
DESCRIPTION:19.-20. März 2025\n \nInhalte\nJede Firma entwickelt sich ständig weiter und passt sich an den Wettbewerbsdruck an. Führung stiftet den Rahmen für diese Entwicklung. In manchen Firmen mehr\, in anderen weniger…Theoretisch können also Führungskräfte neue\, erfolgreiche Muster der Zusammenarbeit etablieren. Und übrigens: Immer wenn Menschen anderen folgen nennen wir das Führung. Somit richtet sich die Denkwerkstatt an Führungskräfte nicht (nur) an Vorgesetzte. \n\n\n\nDer Trainingsplan\n\n\n\n\n\n2 x 2 Tage bei Herding GmbH\, Amberg\nImpulse und neue Perspektiven auf Führungsarbeit\nReflexion gemeinsam mit verschiedenen Führungskräften der Firma Herding\nTrainer: B. Löffler (V&S)\, F. Schünke (CTO Herding)\, B. Wennicke\nReflexionsgespräch im Nachgang\nTrainings-Zertifikat\n\n\n\n  \n  \nAnmeldung und Teilnahme\nDie Ausbildungskosten inklusive Mittagessen und Getränke betragen 1950\,00 € zzgl. MwSt. pro Person\, für ife-Mitglieder nur 1755\,00 €.\nMelden Sie sich an\, per Mail an info@ife-institut-einzelfertiger.de. \nAnmeldungen werden nach Anmeldeeingang berücksichtigt. \n  \nWeitere Infos finden Sie hier »[/vc_column_text][/vc_column][/vc_row]
URL:https://www.ife-institut-einzelfertiger.de/event/denkwerkstatt-fuer-fuehrungskraefte/
LOCATION:Herding GmbH\, Amberg
CATEGORIES:home-events,Hompage-Highlight,Veranstaltungsunterseite
ATTACH;FMTTYPE=image/jpeg:https://www.ife-institut-einzelfertiger.de/wp-content/uploads/2022/04/vS-Herding-1.jpg
END:VEVENT
BEGIN:VEVENT
DTSTART;TZID=Europe/Berlin:20250321T083000
DTEND;TZID=Europe/Berlin:20250321T091500
DTSTAMP:20260422T193704
CREATED:20250312T084720Z
LAST-MODIFIED:20250402T061743Z
UID:4570394-1742545800-1742548500@www.ife-institut-einzelfertiger.de
SUMMARY:KI in Unternehmen einführen: Wie Sie Akzeptanz schaffen und Ängste abbauen.
DESCRIPTION:  \nWorum geht‘s?\nDie Einführung von Künstlicher Intelligenz (KI) in Unternehmen bietet enorme Chancen\, stößt jedoch häufig auf Zurückhaltung oder Ängste seitens der Mitarbeitenden. Um KI erfolgreich zu integrieren\, ist es entscheidend\, psychologische Hürden zu verstehen und gezielt anzugehen. Eine durchdachte Kommunikation und die Einbindung der Belegschaft sind dabei zentrale Faktoren. \nIn diesem Webinar erfahren Sie\, warum Mitarbeitende oft skeptisch gegenüber KI sind und wie Sie durch klare Kommunikation und transparente Prozesse Vertrauen aufbauen können. Darüber hinaus erarbeiten wir gemeinsam Best Practices\, wie Sie Ihre Mitarbeitenden aktiv in den Veränderungsprozess einbinden und langfristige Akzeptanz schaffen. \n  \nWas erwartet mich?\n\nPsychologische Einblicke: Warum KI oft auf Skepsis stößt und wie Sie Ängste gezielt abbauen können\nBest Practices KI-Transformation: Wie Sie Ihre Mitarbeitenden an Bord bekommen\nTeam-Integration fördern: Tipps\, wie Sie Mitarbeitende aktiv einbinden und Akzeptanz nachhaltig sichern\nStrategien für den Erfolg: Handlungsempfehlungen für eine reibungslose und positive KI-Einführung in Ihrem Unternehmen\n\n  \nZielgruppe:\nDieses Webinar richtet sich an Geschäftsführer\, IT-Leiter\, Compliance-Beauftragte und alle Fachkräfte\, die an der Integration von KI-Technologien im mittelständischen Unternehmen beteiligt sind. \n  \nTeilnahmekosten\nDies ist eine kostenfreie Veranstaltung der V&S GmbH und wird in ZOOM stattfinden. \nÜber Ihre verbindliche Anmeldung per Mail freut sich: Nicole Tietz \nOder telefonisch unter: 0700 / 88 63 7000\n \nWeitere Informationen zur Veranstaltung finden Sie hier »
URL:https://www.ife-institut-einzelfertiger.de/event/ki-in-unternehmen-einfuehren-wie-sie-akzeptanz-schaffen-und-aengste-abbauen/
LOCATION:Online\, Deutschland
CATEGORIES:home-events,Hompage-Highlight,Veranstaltungsunterseite
ATTACH;FMTTYPE=image/jpeg:https://www.ife-institut-einzelfertiger.de/wp-content/uploads/2019/02/VS_Logo_4C_RZ-1-e1700046855709.jpg
END:VEVENT
BEGIN:VEVENT
DTSTART;TZID=Europe/Berlin:20250325T093000
DTEND;TZID=Europe/Berlin:20250325T113000
DTSTAMP:20260422T193704
CREATED:20250306T120937Z
LAST-MODIFIED:20250402T061450Z
UID:4570321-1742895000-1742902200@www.ife-institut-einzelfertiger.de
SUMMARY:DDW-Webinar: Einfache Sprache – einfach verständlich
DESCRIPTION:  \nDDW-Webinar: Einfache Sprache – einfach verständlich\nAm 28. Juni 2025 tritt das Barrierefreiheitsstärkungsgesetz in Kraft. Es verpflichtet Unternehmen unter anderem dazu\, digitale Texte für Verbraucherinnen und Verbraucher verständlicher zu formulieren. Das DDW-Online-Webinar erklärt die wichtigsten Punkte der Einfachen Sprache. Und zeigt anhand praktischer Beispiele\, was das für Unternehmenstexte bedeutet. \n  \nOb Website\, App\, Online-Shop\, Produktinformation\, Gebrauchsanleitung oder AGB: Sie müssen überprüft und nach den Grundsätzen der Einfachen Sprache überarbeitet werden. Um digitale Barrieren abzubauen und so mehr Menschen einen Zugang zu Produkten und Dienstleistungen zu ermöglichen. \nIst dies ein nur eine weitere bürokratische Hürde? Oder bietet mehr Barrierefreiheit Unternehmen auch Vorteile? Und wie geht man das Thema in der Praxis am besten an? Müssen auch B2B-Texte entsprechend angepasst werden? \nDas kompakte Online-Webinar gibt Antworten auf all diese Fragen und hilft Ihnen das Thema richtig einzuordnen. Praxisnahe Tipps helfen dabei\, in die Umsetzung zu kommen.\n  \nTeilnahmekosten und Anmeldung\nDie Teilnahmegebühr beträgt 190 Euro zzgl. 19% MwSt.\n \nWeitere Informationen und die Anmeldung zur Veranstaltung finden Sie hier »
URL:https://www.ife-institut-einzelfertiger.de/event/ddw-webinar-einfache-sprache-einfach-verstaendlich/
LOCATION:Online\, Deutschland
CATEGORIES:home-events,Hompage-Highlight,Veranstaltungsunterseite
ATTACH;FMTTYPE=image/webp:https://www.ife-institut-einzelfertiger.de/wp-content/uploads/2024/10/ddw-logo-24-klein-neu.webp
END:VEVENT
BEGIN:VEVENT
DTSTART;TZID=Europe/Berlin:20250327T093000
DTEND;TZID=Europe/Berlin:20250327T150000
DTSTAMP:20260422T193704
CREATED:20221101T100035Z
LAST-MODIFIED:20250107T111045Z
UID:3227998-1743067800-1743087600@www.ife-institut-einzelfertiger.de
SUMMARY:ERP Praxistag Heilbronn
DESCRIPTION:[vc_row][vc_column][vc_column_text] \nERP für Losgröße 1+\nSo funktioniert effizientes Projektmanagement\nSie möchten die organisatorischen Abläufe und Strukturen im Unternehmen verbessern und Ihre Geschäftsprozesse optimieren? \nDann brauchen Sie ein ERP-System\, das Ihre Projekte entlang der gesamten Wertschöpfungskette optimal unterstützt. \nUnsere branchenorientierte Business-Software ams.erp bildet die zentrale Datendrehscheibe für sämtliche Unternehmensprozesse. Die gewonnene Transparenz erhöht Ihre Planungssicherheit\, steigert die Profitabilität Ihres Unternehmens und damit Ihre Wettbewerbsfähigkeit\, für mehr Wachstum und eine sichere Zukunft. \nUnsere Praxisbeispiele zeigen Ihnen\, welchen Mehrwert Sie durch den Einsatz unserer ERP-Lösung für sich und Ihre Kunden schaffen können. \n  \nAgenda \n\n\n\n09:30\nCome Together\n\n\n10:00\nBegrüßung der Teilnehmer und Kurzvorstellung\n\n\n10:15\nVorstellung ams.erp | Das moderne und flexible Projektmanagement-ERP für Ihre effiziente Projektsteuerung und -planung.\n\n\n11:15\nKaffee- und Diskussionspause\n\n\n\n11:30\nErfolgreiche ERP-Einführung – eine Success Story\n\n\n12:15\n\nGesprächsrunde mit den Referenzkunden\n\n\n13:15\n\nMittagspause\n\n\n14:15\n\nVollständige Integration von CAD und PDM für mehr Produktivität in Konstruktion und Produktion I Service I DMS – Dokumentenmanagement\n\n\n15:00\n\nVoraussichtliches Ende des offiziellen Programms\n\n\n\n  \nDie Veranstaltung ist kostenlos! \nHier geht es zur Anmeldung »
URL:https://www.ife-institut-einzelfertiger.de/event/ams-erp-praxistage/
LOCATION:PARKHOTEL HEILBRONN\, Gartenstraße 1\, Heilbronn\, Baden-Württemberg\, 74072
CATEGORIES:home-events,Hompage-Highlight,Veranstaltungsunterseite
ATTACH;FMTTYPE=image/png:https://www.ife-institut-einzelfertiger.de/wp-content/uploads/2022/11/RZ_ams_Logo_23-e1728472504291.png
END:VEVENT
END:VCALENDAR