BEGIN:VCALENDAR
VERSION:2.0
PRODID:-//ife - Netzwerk für Einzelfertiger - ECPv6.15.12.2//NONSGML v1.0//EN
CALSCALE:GREGORIAN
METHOD:PUBLISH
X-ORIGINAL-URL:https://www.ife-institut-einzelfertiger.de
X-WR-CALDESC:Veranstaltungen für ife - Netzwerk für Einzelfertiger
REFRESH-INTERVAL;VALUE=DURATION:PT1H
X-Robots-Tag:noindex
X-PUBLISHED-TTL:PT1H
BEGIN:VTIMEZONE
TZID:Europe/Berlin
BEGIN:DAYLIGHT
TZOFFSETFROM:+0100
TZOFFSETTO:+0200
TZNAME:CEST
DTSTART:20230326T010000
END:DAYLIGHT
BEGIN:STANDARD
TZOFFSETFROM:+0200
TZOFFSETTO:+0100
TZNAME:CET
DTSTART:20231029T010000
END:STANDARD
BEGIN:DAYLIGHT
TZOFFSETFROM:+0100
TZOFFSETTO:+0200
TZNAME:CEST
DTSTART:20240331T010000
END:DAYLIGHT
BEGIN:STANDARD
TZOFFSETFROM:+0200
TZOFFSETTO:+0100
TZNAME:CET
DTSTART:20241027T010000
END:STANDARD
BEGIN:DAYLIGHT
TZOFFSETFROM:+0100
TZOFFSETTO:+0200
TZNAME:CEST
DTSTART:20250330T010000
END:DAYLIGHT
BEGIN:STANDARD
TZOFFSETFROM:+0200
TZOFFSETTO:+0100
TZNAME:CET
DTSTART:20251026T010000
END:STANDARD
END:VTIMEZONE
BEGIN:VEVENT
DTSTART;TZID=Europe/Berlin:20240919T103000
DTEND;TZID=Europe/Berlin:20240919T111500
DTSTAMP:20260423T030654
CREATED:20240603T055738Z
LAST-MODIFIED:20240724T080459Z
UID:4567448-1726741800-1726744500@www.ife-institut-einzelfertiger.de
SUMMARY:KI-Impuls für Fach- und Führungskräfte
DESCRIPTION:Einführung in die Grundlagen der KI-gestützten Dokumentenverwaltung\n  \nWorum geht‘s?\nDieses Webinar richtet sich an Fach- und Führungskräfte\, die lernen möchten\, wie sie KI zur effizienten Verwaltung und Organisation von Dokumenten nutzen können. Der Fokus liegt auf der Anwendung einfacher KI-Tools\, die Dokumente automatisch durchsuchen\, kategorisieren und relevante Informationen extrahieren können. Das Webinar bietet praxisnahe Einblicke in die technischen Möglichkeiten\, zeigt Anwendungsbeispiele aus der Praxis und beleuchtet ethische sowie rechtliche Aspekte der Datennutzung. \n  \nWas erwartet mich?\n• Einführung: Vorstellung der KI-Technologietrends und ihrer Möglichkeiten.\n• Live-Demonstrationen: Anschauliche Beispiele\, wie ChatGPT administrative Aufgaben automatisieren kann.\n• Diskussion der Vorteile: Erörterung der Potenziale von ChatGPT für Effizienzsteigerung und Zeitersparnis. \n  \nWas nehme ich mit?\n• Konkretes Verständnis für die Anwendung von KI\, wie ChatGPT\, in der Automatisierung von Aufgaben.\n• Wissen über die Effizienz- und Effektivitätssteigerung durch KI-Integration.\n• Motivation\, digitale Transformation im eigenen Arbeitsumfeld voranzutreiben.\n• Exklusive Angebote für eine vertiefende Weiterbildung im Rahmen eines Tages- oder Mehrtages-Seminars. \n  \nTeilnahmekosten\nDies ist eine kostenfreie Veranstaltung der V&S GmbH und wird in ZOOM stattfinden. \nÜber Ihre verbindliche Anmeldung per Mail freut sich: Nicole Tietz \nOder telefonisch unter: 0700 / 88 63 7000 \nWeitere Informationen zur Veranstaltung finden Sie hier »
URL:https://www.ife-institut-einzelfertiger.de/event/ki-impuls-fuer-fach-und-fuehrungskraefte-4/
LOCATION:Online\, Deutschland
CATEGORIES:home-events,Hompage-Highlight,Veranstaltungsunterseite
ATTACH;FMTTYPE=image/jpeg:https://www.ife-institut-einzelfertiger.de/wp-content/uploads/2019/02/VS_Logo_4C_RZ-1-e1700046855709.jpg
END:VEVENT
BEGIN:VEVENT
DTSTART;TZID=Europe/Berlin:20240924T090000
DTEND;TZID=Europe/Berlin:20240924T160000
DTSTAMP:20260423T030654
CREATED:20240320T133002Z
LAST-MODIFIED:20240607T084158Z
UID:4566653-1727168400-1727193600@www.ife-institut-einzelfertiger.de
SUMMARY:fluss|aufwerts Praxistag – der Workout für den Arbeitsfluss
DESCRIPTION:[vc_row][vc_column][vc_column_text] \nLeben ist Fließen\nEin Lean-Office Training beim fluss|aufwerts Praxistag verbessert Ihre Arbeitsorganisation und schafft wieder Freude am Job.\nAn nur einem Tag erfahren Sie in praxisnahen Rollenspielen und Übungen\, wie Sie Verschwendung vermeiden.\nIhre neuen Skills schaffen eine Veränderungskultur\, die direkt aus dem inneren Arbeitskreis entsteht. \n\nZukunft ist fließend\nNehmen Sie am fluss|aufwerts Praxistag in Oldenburg teil. Wir freuen uns auf Ihre Anekdoten aus Ihrem Arbeitsalltag. Gute Laune können Sie voraussetzen! \nDer Zeitraum ist von 09:00 bis 16:00 Uhr\, bitte planen Sie ein wenig Reserve ein. Für Essen und Trinken wird gesorgt. \n  \nAnmeldung und Teilnahme\nDie Teilnahmegebühr beträgt 250 Euro zzgl. 19% USt.\nMelden Sie sich an\, per Mail an ingo.koerner@aufwerts.org \n  \nWeitere Infos finden Sie hier »
URL:https://www.ife-institut-einzelfertiger.de/event/flussaufwerts-praxistag-der-workout-fuer-den-arbeitsfluss-7/
LOCATION:Patentkrug\, Wilhelmshavener Heerstraße 359\, Oldenburg\, Niedersachsen\, 26125\, Deutschland
CATEGORIES:home-events,Hompage-Highlight,Veranstaltungsunterseite
ATTACH;FMTTYPE=image/png:https://www.ife-institut-einzelfertiger.de/wp-content/uploads/2021/12/Aufwerts-web-1.png
ORGANIZER;CN="aufwerts GmbH":MAILTO:hallo@aufwerts.org
END:VEVENT
END:VCALENDAR