BEGIN:VCALENDAR
VERSION:2.0
PRODID:-//ife - Netzwerk für Einzelfertiger - ECPv6.15.12.2//NONSGML v1.0//EN
CALSCALE:GREGORIAN
METHOD:PUBLISH
X-WR-CALNAME:ife - Netzwerk für Einzelfertiger
X-ORIGINAL-URL:https://www.ife-institut-einzelfertiger.de
X-WR-CALDESC:Veranstaltungen für ife - Netzwerk für Einzelfertiger
REFRESH-INTERVAL;VALUE=DURATION:PT1H
X-Robots-Tag:noindex
X-PUBLISHED-TTL:PT1H
BEGIN:VTIMEZONE
TZID:Europe/Berlin
BEGIN:DAYLIGHT
TZOFFSETFROM:+0100
TZOFFSETTO:+0200
TZNAME:CEST
DTSTART:20230326T010000
END:DAYLIGHT
BEGIN:STANDARD
TZOFFSETFROM:+0200
TZOFFSETTO:+0100
TZNAME:CET
DTSTART:20231029T010000
END:STANDARD
BEGIN:DAYLIGHT
TZOFFSETFROM:+0100
TZOFFSETTO:+0200
TZNAME:CEST
DTSTART:20240331T010000
END:DAYLIGHT
BEGIN:STANDARD
TZOFFSETFROM:+0200
TZOFFSETTO:+0100
TZNAME:CET
DTSTART:20241027T010000
END:STANDARD
BEGIN:DAYLIGHT
TZOFFSETFROM:+0100
TZOFFSETTO:+0200
TZNAME:CEST
DTSTART:20250330T010000
END:DAYLIGHT
BEGIN:STANDARD
TZOFFSETFROM:+0200
TZOFFSETTO:+0100
TZNAME:CET
DTSTART:20251026T010000
END:STANDARD
END:VTIMEZONE
BEGIN:VEVENT
DTSTART;TZID=Europe/Berlin:20240823T083000
DTEND;TZID=Europe/Berlin:20240823T091500
DTSTAMP:20260423T040742
CREATED:20240320T131129Z
LAST-MODIFIED:20240724T075925Z
UID:4566635-1724401800-1724404500@www.ife-institut-einzelfertiger.de
SUMMARY:KI-Impuls für Fach- und Führungskräfte
DESCRIPTION:Grundlagen der KI-gestützten Datenanalyse und Entscheidungsfindung\n  \nWorum geht‘s?\nDieses Webinar richtet sich an Fach- und Führungskräfte\, die ein grundlegendes Verständnis für den Einsatz von Künstlicher Intelligenz in der Datenanalyse und Entscheidungsfindung entwickeln möchten. Es bietet einen umfassenden Überblick über die Prinzipien der KI\, ihre Anwendungsmöglichkeiten und den Mehrwert\, den sie in der Unternehmensführung bietet. Die Teilnehmer*innen lernen\, wie sie KI-Tools einsetzen können\, um große Datenmengen effizient zu analysieren\, fundierte Entscheidungen zu treffen und die Unternehmensleistung zu verbessern. Dabei werden praxisnahe Beispiele und einfache Implementierungsschritte vorgestellt\, die ohne tiefgehende technische Kenntnisse anwendbar sind. Zusätzlich wird auf ethische und rechtliche Aspekte eingegangen\, die bei der Nutzung von KI in der Datenanalyse berücksichtigt werden müssen. \n  \nWas erwartet mich?\n• Einführung: Vorstellung der KI-Technologietrends und ihrer Möglichkeiten.\n• Live-Demonstrationen: Anschauliche Beispiele\, wie ChatGPT administrative Aufgaben automatisieren kann.\n• Diskussion der Vorteile: Erörterung der Potenziale von ChatGPT für Effizienzsteigerung und Zeitersparnis. \n  \nWas nehme ich mit?\n• Konkretes Verständnis für die Anwendung von KI\, wie ChatGPT\, in der Automatisierung von Aufgaben.\n• Wissen über die Effizienz- und Effektivitätssteigerung durch KI-Integration.\n• Motivation\, digitale Transformation im eigenen Arbeitsumfeld voranzutreiben.\n• Exklusive Angebote für eine vertiefende Weiterbildung im Rahmen eines Tages- oder Mehrtages-Seminars. \n  \nTeilnahmekosten\nDies ist eine kostenfreie Veranstaltung der V&S GmbH und wird in ZOOM stattfinden. \nÜber Ihre verbindliche Anmeldung per Mail freut sich: Nicole Tietz \nOder telefonisch unter: 0700 / 88 63 7000 \nWeitere Informationen zur Veranstaltung finden Sie hier »
URL:https://www.ife-institut-einzelfertiger.de/event/ki-impuls-fuer-fach-und-fuehrungskraefte-2/
LOCATION:Online\, Deutschland
CATEGORIES:home-events,Hompage-Highlight,Veranstaltungsunterseite
ATTACH;FMTTYPE=image/jpeg:https://www.ife-institut-einzelfertiger.de/wp-content/uploads/2019/02/VS_Logo_4C_RZ-1-e1700046855709.jpg
END:VEVENT
BEGIN:VEVENT
DTSTART;VALUE=DATE:20240829
DTEND;VALUE=DATE:20240830
DTSTAMP:20260423T040742
CREATED:20240604T074659Z
LAST-MODIFIED:20240821T111640Z
UID:4567481-1724889600-1724975999@www.ife-institut-einzelfertiger.de
SUMMARY:SDFS IMPULSFORUM 2024
DESCRIPTION:  \nZUKUNFT DER PRODUKTION — TECH TRENDS & INSIGHTS\nSüdwestfalen als Heimat von über 165 Weltmarktführern ist die drittgrößte Industrieregion in Deutschland. Seit Jahrzehnten überzeugt die regionale produzierende Industrie mit hochinnovativen Produkten und versteht sich im globalen Wettbewerb als Technologieführer und Innovationstreiber. Der demografische Wandel\, die Dekarbonisierung sowie die rasante Entwicklung von digitalen Technologien erfordern weiterhin einen visionären Blick in die Zukunft\, jedoch mit deutlich kürzeren Transformationszyklen.\nDas SDFS IMPULSFORUM 2024 bringt Sie mit Impulsgebern aus Industrie und Wissenschaft an einem der innovativsten Wirtschaftsstandorte Deutschlands zusammen\, um aktuelle und zukünftige Entwicklungen und Technologien zu diskutieren und in die Zukunft der Produktion einzutauchen.\nLassen Sie sich von spannenden Keynotes inspirieren\, erhalten Sie themenspezifische Insights zu den neuesten Tech Trends und erleben Sie diese hautnah in der begleitenden Industriemesse. Ein stimmungsvolles Get-together sowie ausreichend Möglichkeiten zum Netzwerken bieten Raum für\nden Austausch mit gleichgesinnten Visionären. \nTermin\n29. AUGUST 2024\, CAMPUS BUSCHHÜTTEN\, KREUZTAL \nTeilnahmekosten\nAlle weiteren Informationen zur Veranstaltung finden Sie hier »\nWir freuen uns auf Ihren Besuch!
URL:https://www.ife-institut-einzelfertiger.de/event/sdfs-impulsforum-2024/
LOCATION:Campus Buschhütten\, Siegener Str. 152\, 57223 Kreuztal
CATEGORIES:home-events,Hompage-Highlight,Veranstaltungsunterseite
ATTACH;FMTTYPE=image/png:https://www.ife-institut-einzelfertiger.de/wp-content/uploads/2024/06/SDFS_Logo_RGB-e1717488212841.png
ORGANIZER;CN="SDFS Smarte Demonstrationsfabrik Siegen GmbH":MAILTO:info@demofabrik-siegen.de
END:VEVENT
BEGIN:VEVENT
DTSTART;TZID=Europe/Berlin:20240829T100000
DTEND;TZID=Europe/Berlin:20240829T110000
DTSTAMP:20260423T040742
CREATED:20240805T135240Z
LAST-MODIFIED:20240821T112136Z
UID:4568989-1724925600-1724929200@www.ife-institut-einzelfertiger.de
SUMMARY:Investitionen flexibel finanzieren & Fördermittel für den Mittelstand einbinden
DESCRIPTION:Webinar\nDie schlechte Konjunktur der letzten Monaten hat das Investitionsvolumen gedrückt: Durch die wirtschaftlichen Unsicherheiten stellten viele Unternehmer größere Projekte eher zurück. \nWie kann trotz der eher ungünstigen Umstände eine solide und passgenaue Finanzierung von Investitionen gelingen? Welche Möglichkeiten gibt es hierbei für Unternehmen? \nEin paar Anstöße zu diesen Fragen möchten Ihnen die GFL – Gesellschaften für Liquidität gemeinsam mit ihrem Kooperationspartner Rüddenklau & Partner Finanzmanagement in diesem Webinar geben: \nDie GFL zeigt Ihnen auf\, wie Sie Investitionen über Leasing oder Mietkauf flexibel finanzieren können\, worin hierbei die Unterschiede liegen und auf was es bei diesen Finanzierungslösungen zu achten gilt. \nRüddenklau und Partner wird zudem erläutern\, welche Fördermittel Ihnen für Ihr Investitionsvorhaben zur Verfügung stehen und wie Sie diese unkompliziert finden und beantragen können. \n  \nDie Teilnahme ist kostenlos. \nMelden Sie sich gleich hier an »
URL:https://www.ife-institut-einzelfertiger.de/event/investitionen-flexibel-finanzieren-foerdermittel-fuer-den-mittelstand-einbinden/
LOCATION:Online\, Deutschland
CATEGORIES:home-events,Veranstaltungsunterseite
ATTACH;FMTTYPE=image/png:https://www.ife-institut-einzelfertiger.de/wp-content/uploads/2015/07/3_Logo_GFL_RGB_165x45-1.png
ORGANIZER;CN="GFL Makler und Beratungsgesellschaft mbH":MAILTO:info@gfl-broker.de
END:VEVENT
END:VCALENDAR