BEGIN:VCALENDAR
VERSION:2.0
PRODID:-//ife - Netzwerk für Einzelfertiger - ECPv6.15.12.2//NONSGML v1.0//EN
CALSCALE:GREGORIAN
METHOD:PUBLISH
X-ORIGINAL-URL:https://www.ife-institut-einzelfertiger.de
X-WR-CALDESC:Veranstaltungen für ife - Netzwerk für Einzelfertiger
REFRESH-INTERVAL;VALUE=DURATION:PT1H
X-Robots-Tag:noindex
X-PUBLISHED-TTL:PT1H
BEGIN:VTIMEZONE
TZID:Europe/Berlin
BEGIN:DAYLIGHT
TZOFFSETFROM:+0100
TZOFFSETTO:+0200
TZNAME:CEST
DTSTART:20230326T010000
END:DAYLIGHT
BEGIN:STANDARD
TZOFFSETFROM:+0200
TZOFFSETTO:+0100
TZNAME:CET
DTSTART:20231029T010000
END:STANDARD
BEGIN:DAYLIGHT
TZOFFSETFROM:+0100
TZOFFSETTO:+0200
TZNAME:CEST
DTSTART:20240331T010000
END:DAYLIGHT
BEGIN:STANDARD
TZOFFSETFROM:+0200
TZOFFSETTO:+0100
TZNAME:CET
DTSTART:20241027T010000
END:STANDARD
BEGIN:DAYLIGHT
TZOFFSETFROM:+0100
TZOFFSETTO:+0200
TZNAME:CEST
DTSTART:20250330T010000
END:DAYLIGHT
BEGIN:STANDARD
TZOFFSETFROM:+0200
TZOFFSETTO:+0100
TZNAME:CET
DTSTART:20251026T010000
END:STANDARD
END:VTIMEZONE
BEGIN:VEVENT
DTSTART;TZID=Europe/Berlin:20240718T103000
DTEND;TZID=Europe/Berlin:20240718T111500
DTSTAMP:20260423T050336
CREATED:20240320T130845Z
LAST-MODIFIED:20240607T084158Z
UID:4566632-1721298600-1721301300@www.ife-institut-einzelfertiger.de
SUMMARY:KI-Impuls für Fach- und Führungskräfte
DESCRIPTION:Worum geht‘s?\nDieses Impuls-Webinar gibt einen Einblick\, wie ChatGPT-4 Turbo\, MS Copilot\, Google Gemini 1.5 etc.\, administrative Prozesse revolutionieren können. Es zeigt auf\, wie Routineaufgaben durch Automatisierung effizienter gestaltet werden\, wodurch Fachkräfte Zeitressourcen für komplexere Aufgaben freisetzen können. \n  \nWen interessiert‘s?\nFach- und Führungskräfte\, die daran interessiert sind\, wie KI-Technologie die Effizienz und Effektivität ihrer Arbeit verbessern kann. \nWas erwartet mich?\n• Einführung: Vorstellung der KI-Technologietrends und ihrer Möglichkeiten.\n• Live-Demonstrationen: Anschauliche Beispiele\, wie ChatGPT administrative Aufgaben automatisieren kann.\n• Diskussion der Vorteile: Erörterung der Potenziale von ChatGPT für Effizienzsteigerung und Zeitersparnis. \n  \nWas nehme ich mit?\n• Konkretes Verständnis für die Anwendung von KI\, wie ChatGPT\, in der Automatisierung von Aufgaben.\n• Wissen über die Effizienz- und Effektivitätssteigerung durch KI-Integration.\n• Motivation\, digitale Transformation im eigenen Arbeitsumfeld voranzutreiben.\n• Exklusive Angebote für eine vertiefende Weiterbildung im Rahmen eines Tages- oder Mehrtages-Seminars. \nTeilnahmekosten\nDies ist eine kostenfreie Veranstaltung der V&S GmbH und wird in ZOOM stattfinden. \nÜber Ihre verbindliche Anmeldung per Mail freut sich: Nicole Tietz \nOder telefonisch unter: 0700 / 88 63 7000 \nWeitere Informationen zur Veranstaltung finden Sie hier »
URL:https://www.ife-institut-einzelfertiger.de/event/ki-impuls-fuer-fach-und-fuehrungskraefte/
LOCATION:Online\, Deutschland
CATEGORIES:home-events,Hompage-Highlight,Veranstaltungsunterseite
ATTACH;FMTTYPE=image/jpeg:https://www.ife-institut-einzelfertiger.de/wp-content/uploads/2019/02/VS_Logo_4C_RZ-1-e1700046855709.jpg
END:VEVENT
END:VCALENDAR