BEGIN:VCALENDAR
VERSION:2.0
PRODID:-//ife - Netzwerk für Einzelfertiger - ECPv6.15.12.2//NONSGML v1.0//EN
CALSCALE:GREGORIAN
METHOD:PUBLISH
X-ORIGINAL-URL:https://www.ife-institut-einzelfertiger.de
X-WR-CALDESC:Veranstaltungen für ife - Netzwerk für Einzelfertiger
REFRESH-INTERVAL;VALUE=DURATION:PT1H
X-Robots-Tag:noindex
X-PUBLISHED-TTL:PT1H
BEGIN:VTIMEZONE
TZID:Europe/Berlin
BEGIN:DAYLIGHT
TZOFFSETFROM:+0100
TZOFFSETTO:+0200
TZNAME:CEST
DTSTART:20230326T010000
END:DAYLIGHT
BEGIN:STANDARD
TZOFFSETFROM:+0200
TZOFFSETTO:+0100
TZNAME:CET
DTSTART:20231029T010000
END:STANDARD
BEGIN:DAYLIGHT
TZOFFSETFROM:+0100
TZOFFSETTO:+0200
TZNAME:CEST
DTSTART:20240331T010000
END:DAYLIGHT
BEGIN:STANDARD
TZOFFSETFROM:+0200
TZOFFSETTO:+0100
TZNAME:CET
DTSTART:20241027T010000
END:STANDARD
BEGIN:DAYLIGHT
TZOFFSETFROM:+0100
TZOFFSETTO:+0200
TZNAME:CEST
DTSTART:20250330T010000
END:DAYLIGHT
BEGIN:STANDARD
TZOFFSETFROM:+0200
TZOFFSETTO:+0100
TZNAME:CET
DTSTART:20251026T010000
END:STANDARD
END:VTIMEZONE
BEGIN:VEVENT
DTSTART;TZID=Europe/Berlin:20240604T103000
DTEND;TZID=Europe/Berlin:20240604T111500
DTSTAMP:20260423T055836
CREATED:20240320T131507Z
LAST-MODIFIED:20240603T055250Z
UID:4566642-1717497000-1717499700@www.ife-institut-einzelfertiger.de
SUMMARY:KI-Impuls für Fach- und Führungskräfte
DESCRIPTION:Worum geht‘s?\nDieses Impuls-Webinar gibt einen Einblick\, wie ChatGPT-4 Turbo\, MS Copilot\, Google Gemini 1.5 etc.\, administrative Prozesse revolutionieren können. Es zeigt auf\, wie Routineaufgaben durch Automatisierung effizienter gestaltet werden\, wodurch Fachkräfte Zeitressourcen für komplexere Aufgaben freisetzen können. \n  \nWen interessiert‘s?\nFach- und Führungskräfte\, die daran interessiert sind\, wie KI-Technologie die Effizienz und Effektivität ihrer Arbeit verbessern kann. \nWas erwartet mich?\n• Einführung: Vorstellung der KI-Technologietrends und ihrer Möglichkeiten.\n• Live-Demonstrationen: Anschauliche Beispiele\, wie ChatGPT administrative Aufgaben automatisieren kann.\n• Diskussion der Vorteile: Erörterung der Potenziale von ChatGPT für Effizienzsteigerung und Zeitersparnis. \n  \nWas nehme ich mit?\n• Konkretes Verständnis für die Anwendung von KI\, wie ChatGPT\, in der Automatisierung von Aufgaben.\n• Wissen über die Effizienz- und Effektivitätssteigerung durch KI-Integration.\n• Motivation\, digitale Transformation im eigenen Arbeitsumfeld voranzutreiben.\n• Exklusive Angebote für eine vertiefende Weiterbildung im Rahmen eines Tages- oder Mehrtages-Seminars. \nTeilnahmekosten\nDies ist eine kostenfreie Veranstaltung der V&S GmbH und wird in ZOOM stattfinden. \nÜber Ihre verbindliche Anmeldung per Mail freut sich: Nicole Tietz \nOder telefonisch unter: 0700 / 88 63 7000 \nWeitere Informationen zur Veranstaltung finden Sie hier »
URL:https://www.ife-institut-einzelfertiger.de/event/ki-impuls-fuer-fach-und-fuehrungskraefte-3/
LOCATION:Online\, Deutschland
CATEGORIES:Hompage-Highlight,Veranstaltungsunterseite
ATTACH;FMTTYPE=image/jpeg:https://www.ife-institut-einzelfertiger.de/wp-content/uploads/2019/02/VS_Logo_4C_RZ-1-e1700046855709.jpg
END:VEVENT
BEGIN:VEVENT
DTSTART;TZID=Europe/Berlin:20240611T090000
DTEND;TZID=Europe/Berlin:20240611T160000
DTSTAMP:20260423T055836
CREATED:20240320T132724Z
LAST-MODIFIED:20240607T084158Z
UID:4566651-1718096400-1718121600@www.ife-institut-einzelfertiger.de
SUMMARY:fluss|aufwerts Praxistag – der Workout für den Arbeitsfluss
DESCRIPTION:[vc_row][vc_column][vc_column_text] \nLeben ist Fließen\nEin Lean-Office Training beim fluss|aufwerts Praxistag verbessert Ihre Arbeitsorganisation und schafft wieder Freude am Job.\nAn nur einem Tag erfahren Sie in praxisnahen Rollenspielen und Übungen\, wie Sie Verschwendung vermeiden.\nIhre neuen Skills schaffen eine Veränderungskultur\, die direkt aus dem inneren Arbeitskreis entsteht. \n\nZukunft ist fließend\nNehmen Sie am fluss|aufwerts Praxistag in Oldenburg teil. Wir freuen uns auf Ihre Anekdoten aus Ihrem Arbeitsalltag. Gute Laune können Sie voraussetzen! \nDer Zeitraum ist von 09:00 bis 16:00 Uhr\, bitte planen Sie ein wenig Reserve ein. Für Essen und Trinken wird gesorgt. \n  \nAnmeldung und Teilnahme\nDie Teilnahmegebühr beträgt 250 Euro zzgl. 19% USt.\nMelden Sie sich an\, per Mail an ingo.koerner@aufwerts.org \n  \nWeitere Infos finden Sie hier »
URL:https://www.ife-institut-einzelfertiger.de/event/flussaufwerts-praxistag-der-workout-fuer-den-arbeitsfluss-6/
LOCATION:Patentkrug\, Wilhelmshavener Heerstraße 359\, Oldenburg\, Niedersachsen\, 26125\, Deutschland
CATEGORIES:home-events,Hompage-Highlight,Veranstaltungsunterseite
ATTACH;FMTTYPE=image/png:https://www.ife-institut-einzelfertiger.de/wp-content/uploads/2021/12/Aufwerts-web-1.png
ORGANIZER;CN="aufwerts GmbH":MAILTO:hallo@aufwerts.org
END:VEVENT
BEGIN:VEVENT
DTSTART;TZID=Europe/Berlin:20240613T090000
DTEND;TZID=Europe/Berlin:20240613T160000
DTSTAMP:20260423T055836
CREATED:20240320T125342Z
LAST-MODIFIED:20240607T084158Z
UID:4566620-1718269200-1718294400@www.ife-institut-einzelfertiger.de
SUMMARY:KI-Praxis-Workshop für Fach- und Führungskräfte
DESCRIPTION:Entdecken Sie die transformative Kraft der Künstlichen Intelligenz in Ihrem Berufsalltag.\nDer „KI Practitioner: KI-Praxis-Workshop für Fach- und Führungskräfte“ ist speziell darauf ausgerichtet\, Sie nicht nur mit den neuesten KI-Technologietrends (ChatGPT-4 Turbo\, MS Copilot\, Midjourney etc.) vertraut zu machen\, sondern Ihnen auch praktische Werkzeuge an die Hand zu geben\, um diese Technologien effektiv in Ihrem beruflichen Umfeld einzusetzen. \nDas erwartet Sie\nVerstehen und Anwenden generativer Sprachmodelle: Lernen Sie\, wie Sie die wesentlichen Funktionen und Erweiterungen von KI-Sprachmodellen für einfache Datenanalysen und Bildgenerierung nutzen können. \nEchte Expertise abrufen: Erwerben Sie Fähigkeiten im Promten und der Anwendung von Rollen-Generatoren\, um den KI-Assistenten gezielt als Fachexperten in Ihrer beruflichen Rolle einzusetzen. \nKomplexe Aufgaben meistern: Entdecken Sie\, wie Sie mit Hilfe eines Prompt-Generators anspruchsvolle Herausforderungen bewältigen können. \nBewusstsein für Grenzen und Risiken: Sensibilisieren Sie sich für die ethischen Aspekte\, Grenzen und potenzielle Risiken beim Einsatz generativer Sprachmodelle. \nPersonalisierter KI-Assistent: Konfigurieren Sie Ihren eigenen KI-Assistenten\, der speziell auf Ihre beruflichen Anforderungen zugeschnitten ist. \nWie läuft das ab?\n• Termin: 9:00 bis 16:00 Uhr\n• Format: Vollständig remote über zoom für Flexibilität und Komfort\n• Technische Voraussetzungen: Informationen und Unterstützung vor\nWorkshop-Beginn\n• Interaktives Lernen: Moderne Kommunikationstools für ein interaktives Lernerlebnis\n• Materialien: Digitale Unterlagen und Ressourcen\n• Netzwerkmöglichkeiten: Gelegenheiten zum Networking und\nErfahrungsaustausch \n  \nWas nehme ich mit?\nNeben einem offiziellen Teilnahmezertifikat erlangen Sie ein tiefes Verständnis für die Funktionsweise und Einsatzmöglichkeiten von generativen Sprachmodellen wie ChatGPT und anderen KI-Tools. Nutzen Sie die Gelegenheit zum Networking und Erfahrungsaustausch mit anderen Fach- und Führungskräften. Machen Sie sich die neuesten KI-Innovationen zu eigen und transformieren Sie Ihre Arbeitsweise. \nTeilnahmekosten\n690\,- zzgl. MWST\, für ife-Mitglieder wird ein Rabatt in Höhe von 15% mit dem Code: ife_15 gewährt. \nÜber Ihre verbindliche Anmeldung per Mail freut sich: Nicole Tietz \nOder telefonisch unter: 0700 / 88 63 7000 \n\nWeitere Informationen zur Veranstaltung finden Sie hier »
URL:https://www.ife-institut-einzelfertiger.de/event/ki-praxis-workshop-fuer-fach-und-fuehrungskraefte/
LOCATION:Online\, Deutschland
CATEGORIES:home-events,Hompage-Highlight,Veranstaltungsunterseite
ATTACH;FMTTYPE=image/jpeg:https://www.ife-institut-einzelfertiger.de/wp-content/uploads/2019/02/VS_Logo_4C_RZ-1-e1700046855709.jpg
END:VEVENT
BEGIN:VEVENT
DTSTART;TZID=Europe/Berlin:20240613T180000
DTEND;TZID=Europe/Berlin:20240613T200000
DTSTAMP:20260423T055836
CREATED:20240603T141231Z
LAST-MODIFIED:20240607T084158Z
UID:4567470-1718301600-1718308800@www.ife-institut-einzelfertiger.de
SUMMARY:Coaching Führungskräfte - Selbstbewusstsein - Dein Weg zum Erfolg
DESCRIPTION:„Immer gleiche Muster\, immer gleiche Verhaltensweisen und immer gleiche Handlungen führen zu immer gleichen Ergebnissen.“  Möchte man (noch) erfolgreicher werden\, darf man etwas ändern.\n \nBei dieser BVMW Veranstaltung erklärt Hanne Jäger\, Inhaberin der Circle of Life Akademie in Meerbusch\, wie durch das „sich selbst bewusst machen“ Verhaltensweisen geändert werden können und durch positives Denken klar definierte Ziele erfolgreich erreicht werden können.\n  \nTeilnahmekosten\nDie Veranstaltung ist kostenfrei.\n \nWeitere Informationen zur Veranstaltung und die Anmeldung finden Sie hier »
URL:https://www.ife-institut-einzelfertiger.de/event/coaching-fuehrungskraefte-selbstbewusstsein-dein-weg-zum-erfolg/
LOCATION:Strümper Str. 19\, 40670 Meerbusch
CATEGORIES:home-events,Hompage-Highlight,Veranstaltungsunterseite
ATTACH;FMTTYPE=image/png:https://www.ife-institut-einzelfertiger.de/wp-content/uploads/2024/06/UqdWqOw8EPcJgL6-240x240-1.png
ORGANIZER;CN="Der Mittelstand%2C BVMW e.V.":MAILTO:info@bvmw.de
END:VEVENT
BEGIN:VEVENT
DTSTART;TZID=Europe/Berlin:20240619T100000
DTEND;TZID=Europe/Berlin:20240619T110000
DTSTAMP:20260423T055836
CREATED:20240610T090542Z
LAST-MODIFIED:20240610T090542Z
UID:4567910-1718791200-1718794800@www.ife-institut-einzelfertiger.de
SUMMARY:Wie gelingt eine problemlose Schadenabrechnung
DESCRIPTION:Details\nJahrelang hatten Schadenfälle kaum eine Bedeutung. Doch nun steigt die Zahl der Insolvenzen und damit auch der Schäden. Doch was tun\, wenn ein Kunde insolvent ist? \nWelche Informationen braucht der Insolvenzverwalter\, welche der Kreditversicherer? Und wie erreicht man\, dass die Abwicklung über den Versicherer möglichst reibungslos über die Bühne geht? \nAll diese Fragen greifen wir am Mittwoch\, 19. Juni\, um 10 Uhr in unserem neuen Webinar auf. In einer dreiviertel Stunde möchten wir Sie mit den Grundzügen der Schadenabrechnung vertraut machen und Ihnen die Fallstricke aufzeigen\, die zu den häufigsten Problemen führen. \n  \nTeilnahmekosten\nDie Veranstaltung ist kostenfrei. \nWeitere Informationen zur Veranstaltung und die Anmeldung finden Sie hier »
URL:https://www.ife-institut-einzelfertiger.de/event/wie-gelingt-eine-problemlose-schadenabrechnung/
LOCATION:Online\, Deutschland
CATEGORIES:home-events,Hompage-Highlight,Veranstaltungsunterseite
ATTACH;FMTTYPE=image/jpeg:https://www.ife-institut-einzelfertiger.de/wp-content/uploads/2020/11/GFL_Wort-Bild-Marke_rgb72-2.jpg
ORGANIZER;CN="GFL Makler und Beratungsgesellschaft mbH":MAILTO:info@gfl-broker.de
END:VEVENT
BEGIN:VEVENT
DTSTART;TZID=Europe/Berlin:20240627T100000
DTEND;TZID=Europe/Berlin:20240627T110000
DTSTAMP:20260423T055836
CREATED:20240607T060352Z
LAST-MODIFIED:20240607T095223Z
UID:4567586-1719482400-1719486000@www.ife-institut-einzelfertiger.de
SUMMARY:Abwehr chinesischer Industriespionage
DESCRIPTION:[vc_row][vc_column][vc_column_text] \nWebinar\nDie Spionagefälle der letzten Wochen haben Unternehmen für die chinesische Industriespionage sensibilisiert\, viele wollen jetzt ihre Risikokompetenz erhöhen. Entsprechend groß ist das Interesse an tragfähigen Strategien\, effizienten Methoden und wirkungsvollen Instrumenten der Spionageabwehr. In dem Webinar am 27.Juni  um 10:00 Uhr geben wir dazu Empfehlungen aus unserer 20-jährigen Beratungspraxis.   \n  \nDie Teilnahme ist kostenlos. \nMelden Sie sich gleich hier an »
URL:https://www.ife-institut-einzelfertiger.de/event/abwehr-chinesischer-industriespionage/
LOCATION:Online\, Deutschland
CATEGORIES:home-events,Hompage-Highlight,Veranstaltungsunterseite
ATTACH;FMTTYPE=image/png:https://www.ife-institut-einzelfertiger.de/wp-content/uploads/2023/09/Logo-Transparent-e1694586053765.png
ORGANIZER;CN="CHINABRAND CONSULTING":MAILTO:info@chinabrand.de
END:VEVENT
END:VCALENDAR