BEGIN:VCALENDAR
VERSION:2.0
PRODID:-//ife - Netzwerk für Einzelfertiger - ECPv6.15.12.2//NONSGML v1.0//EN
CALSCALE:GREGORIAN
METHOD:PUBLISH
X-ORIGINAL-URL:https://www.ife-institut-einzelfertiger.de
X-WR-CALDESC:Veranstaltungen für ife - Netzwerk für Einzelfertiger
REFRESH-INTERVAL;VALUE=DURATION:PT1H
X-Robots-Tag:noindex
X-PUBLISHED-TTL:PT1H
BEGIN:VTIMEZONE
TZID:Europe/Berlin
BEGIN:DAYLIGHT
TZOFFSETFROM:+0100
TZOFFSETTO:+0200
TZNAME:CEST
DTSTART:20230326T010000
END:DAYLIGHT
BEGIN:STANDARD
TZOFFSETFROM:+0200
TZOFFSETTO:+0100
TZNAME:CET
DTSTART:20231029T010000
END:STANDARD
BEGIN:DAYLIGHT
TZOFFSETFROM:+0100
TZOFFSETTO:+0200
TZNAME:CEST
DTSTART:20240331T010000
END:DAYLIGHT
BEGIN:STANDARD
TZOFFSETFROM:+0200
TZOFFSETTO:+0100
TZNAME:CET
DTSTART:20241027T010000
END:STANDARD
BEGIN:DAYLIGHT
TZOFFSETFROM:+0100
TZOFFSETTO:+0200
TZNAME:CEST
DTSTART:20250330T010000
END:DAYLIGHT
BEGIN:STANDARD
TZOFFSETFROM:+0200
TZOFFSETTO:+0100
TZNAME:CET
DTSTART:20251026T010000
END:STANDARD
END:VTIMEZONE
BEGIN:VEVENT
DTSTART;TZID=Europe/Berlin:20240410T090000
DTEND;TZID=Europe/Berlin:20240411T160000
DTSTAMP:20260423T080141
CREATED:20200221T122630Z
LAST-MODIFIED:20240321T123830Z
UID:4566664-1712739600-1712851200@www.ife-institut-einzelfertiger.de
SUMMARY:Kongress für Einzelfertiger 2024
DESCRIPTION:10.-11. April 2024\n\nVan der Valk Hotel Düsseldorf\nEinzigartig im deutschsprachigen Raum: der branchenübergreifende Kongress für Einzelfertiger. Hier bringen Expertinnen und Experten aus der Praxis\, der Beratung und der Wissenschaft ihre Erfahrungen zusammen. Sie fördern den Austausch über alle relevanten Themen im Markt der Losgröße 1+. \nDenn mittelständische Produktionsunternehmen\, die auf Kundenwunsch fertigen\, sind besonders. Sie sind einzigartig\, innovativ und häufig technisch marktführend. \nOb automatisierte Produktion\, nachhaltige Klimakonzepte\, effiziente Lieferketten\, neue Digitalisierungspotentiale und Chancen durch den Einsatz künstlicher Intelligenz – auf dem Kongress für Einzelfertiger werden aktuelle Trends und Herausforderungen diskutiert und Lösungen für den Zielmarkt präsentiert. \nNutzen Sie die Gelegenheit zum Erfahrungsaustausch!
URL:https://www.ife-institut-einzelfertiger.de/event/kongress-fuer-einzelfertiger-2024/
LOCATION:Online\, Deutschland
CATEGORIES:Hompage-Highlight,Veranstaltungsunterseite
ATTACH;FMTTYPE=image/png:https://www.ife-institut-einzelfertiger.de/wp-content/uploads/2023/08/ife_RZ_Keyvisual_Intelligenz-neu_Seite_1-1.png
END:VEVENT
BEGIN:VEVENT
DTSTART;VALUE=DATE:20240415
DTEND;VALUE=DATE:20240420
DTSTAMP:20260423T080141
CREATED:20240117T100222Z
LAST-MODIFIED:20240607T095658Z
UID:4566267-1713139200-1713571199@www.ife-institut-einzelfertiger.de
SUMMARY:Delegationsreisen auf Einladung der gastgebenden Länder
DESCRIPTION:DDW veranstaltet 2024 eine Reihe von Delegationsreisen auf Einladung der gastgebenden Länder\nDie letzten Monate haben gezeigt: Die Märkte in Deutschland werden sich für viele Industriebereiche und Unternehmen – gerade für den Mittelstand – zunehmend schwieriger gestalten. Mehr als zuvor zählt daher die Intensivierung des Auslandsgeschäfts – und auch Auslandsstandorte ihrerseits sind an verstärkten Verbindungen zur deutschen Wirtschaft interessiert. \nFür das Erörtern wirtschaftlicher Perspektiven\, konkreten Netzwerkaufbau\, Geschäftskontakte\, aber auch ein kulturelles Kennenlernen werden auf Einladung verschiedener Auslandsstandorte Delegationsreisen aus dem Leserkreis stattfinden. \nDie Anfrage zur Teilnahme an den Delegationen richtet sich an Inhaber\, Geschäftsführer und Führungskräfte mittelständischer oder Industrieunternehmen unterschiedlicher Branchen. Die Reisekosten werden i.d.R. vollständig übernommen. Die Delegationen werden werden für jede Destination neu zusammengestellt. \n  \nApril: China\nDie ersten beiden Delegationen des Jahres in die beiden wichtigsten Wirtschaftsregionen Chinas. \nFür Unternehmen aus Deutschland\, Österreich und der Schweiz sind die Möglichkeiten in China nach wie vor enorm und das Land steht immer noch an der Spitze der Auslandsmöglichkeiten. \nDie Reise organisiert DDW zusammen mit dem Bundesverband Auswandererberatung & Außenwirtschaftsförderung e.V. (BVAA e.V.) sowie dem Shanghai Sino-German Industrial Promotion Center. \nSämtliche Reisekosten werden für die Teilnehmer übernommen (bis auf Flug nach/von China). \nAuf der Delegationsreise werden die Möglichkeiten der Expansion ins Ausland und die Kooperation mit ausländischen Partnern vorgestellt.  Dazu gibt es die Gelegenheit\, die unterschiedlichen Standorte kennenzulernen und Netzwerke zu knüpfen: Nicht nur für die Möglichkeit der Produktion in oder des Vertriebs nach China\, sondern insbesondere auch zur Akquise potenzieller Investoren aus China. \n  \nUnternehmensdelegation 1:\n\nDatum: 15.04.2024 bis 19.04.2024\nBranchenfokus: Maschinenbau\, Automobil und Automation\nStädte: Shanghai\, Jiaxing (Provinz Zhejiang)\, Zhenjiang(Provinz Jiangsu) und Suqian (Provinz Jiangsu)\n\n\nUnternehmensdelegation 2:\n\nDatum: 23.04.2024 bis 29.04.2024\nBranchenfokus: Chemie\, Pharma\, New Material\, erneuerbare Energie und Bauindustrie\nStädte: Ningbo (Provinz Zhejiang)\, Huzhou (Provinz Zhejiang)\, Taicang (Provinz Jiangsu)\, Qingdao(Shandong)\n\n\nProgramm:\n\nVeranstaltung für Investition und Kooperation\nFirmenbesuche\nGespräche mit potenziellen Kunden\, Partnern und Investoren\nAuthentische Sehenswürdigkeiten und kulinarische Erlebnisse\n\n  \nIhre Teilnahme:\n\nSchreiben Sie Ihren Teilnahmewunsch formlos an corporate@die-deutsche-wirtschaft.de.\nNennen Sie dabei bitte den / die Namen der Teilnehmer und Ihres Unternehmens sowie für welche Reise/n Sie sich anmelden möchten.\nDa nur begrenzte Plätze verfügbar sind\, werden Sie von den Organisatoren zeitnah darüber informiert\, ob eine Teilnahme möglich ist. 
URL:https://www.ife-institut-einzelfertiger.de/event/delegationsreisen-auf-einladung-der-gastgebenden-laender/
CATEGORIES:Archiv,Hompage-Highlight,Veranstaltungsunterseite
ATTACH;FMTTYPE=image/png:https://www.ife-institut-einzelfertiger.de/wp-content/uploads/2024/01/china.png
END:VEVENT
BEGIN:VEVENT
DTSTART;TZID=Europe/Berlin:20240416T150000
DTEND;TZID=Europe/Berlin:20240416T160000
DTSTAMP:20260423T080141
CREATED:20231113T080646Z
LAST-MODIFIED:20240607T095658Z
UID:4565725-1713279600-1713283200@www.ife-institut-einzelfertiger.de
SUMMARY:Globale Perspektiven: Austausch Klima und Nachhaltigkeit
DESCRIPTION:[vc_row][vc_column][vc_column_text] \nKlima und Nachhaltigkeit im Dialog\nGemeinsam gestalten wir eine nachhaltige Zukunft – ein Austausch für den Planeten und kommende Generationen! \nTreten Sie ein in eine Welt des Austauschs und der Inspiration! Unser Programm „Globale Perspektiven“ lädt Sie ein\, sich mit Gleichgesinnten zu vernetzen und gemeinsam innovative Wege für den Klimaschutz zu erkunden. Tauchen Sie ein in fesselnde Diskussionen\, teilen Sie Ihre einzigartigen Perspektiven und entdecken Sie nachhaltige Lösungen\, die die Zukunft gestalten. Werden Sie Teil des Dialogs\, der die Welt verändern kann – für eine grünere und nachhaltigere Zukunft! \n  \nDie Veranstaltung ist kostenlos! \nMelden Sie sich gleich hier an »
URL:https://www.ife-institut-einzelfertiger.de/event/globale-perspektiven-austausch-klima-und-nachhaltigkeit/
LOCATION:Online\, Deutschland
CATEGORIES:Archiv,Hompage-Highlight,Veranstaltungsunterseite
END:VEVENT
BEGIN:VEVENT
DTSTART;TZID=Europe/Berlin:20240423T090000
DTEND;TZID=Europe/Berlin:20240423T160000
DTSTAMP:20260423T080141
CREATED:20240320T125910Z
LAST-MODIFIED:20240322T104424Z
UID:4566626-1713862800-1713888000@www.ife-institut-einzelfertiger.de
SUMMARY:KI-Praxis-Workshop für Fach- und Führungskräfte
DESCRIPTION:Entdecken Sie die transformative Kraft der Künstlichen Intelligenz in Ihrem Berufsalltag.\nDer „KI Practitioner: KI-Praxis-Workshop für Fach- und Führungskräfte“ ist speziell darauf ausgerichtet\, Sie nicht nur mit den neuesten KI-Technologietrends (ChatGPT-4 Turbo\, MS Copilot\, Midjourney etc.) vertraut zu machen\, sondern Ihnen auch praktische Werkzeuge an die Hand zu geben\, um diese Technologien effektiv in Ihrem beruflichen Umfeld einzusetzen.\n  \nDas erwartet Sie\nVerstehen und Anwenden generativer Sprachmodelle: Lernen Sie\, wie Sie die wesentlichen Funktionen und Erweiterungen von KI-Sprachmodellen für einfache Datenanalysen und Bildgenerierung nutzen können. \nEchte Expertise abrufen: Erwerben Sie Fähigkeiten im Promten und der Anwendung von Rollen-Generatoren\, um den KI-Assistenten gezielt als Fachexperten in Ihrer beruflichen Rolle einzusetzen. \nKomplexe Aufgaben meistern: Entdecken Sie\, wie Sie mit Hilfe eines Prompt-Generators anspruchsvolle Herausforderungen bewältigen können. \nBewusstsein für Grenzen und Risiken: Sensibilisieren Sie sich für die ethischen Aspekte\, Grenzen und potenzielle Risiken beim Einsatz generativer Sprachmodelle. \nPersonalisierter KI-Assistent: Konfigurieren Sie Ihren eigenen KI-Assistenten\, der speziell auf Ihre beruflichen Anforderungen zugeschnitten ist.\n  \nWen interessiert‘s?\nAlle Büro- und Wissensarbeits-Professionals\, die praktische KI im Alltag\nnutzen und sich mit neuesten Technologietrends auseinandersetzen möchten.\n  \nWie läuft das ab?\n• Termin: 9:00 bis 16:00 Uhr\n• Format: Vollständig remote über zoom für Flexibilität und Komfort\n• Technische Voraussetzungen: Informationen und Unterstützung vor\nWorkshop-Beginn\n• Interaktives Lernen: Moderne Kommunikationstools für ein interaktives Lernerlebnis\n• Materialien: Digitale Unterlagen und Ressourcen\n• Netzwerkmöglichkeiten: Gelegenheiten zum Networking und\nErfahrungsaustausch \n  \nWas nehme ich mit?\nNeben einem offiziellen Teilnahmezertifikat erlangen Sie ein tiefes Verständnis für die Funktionsweise und Einsatzmöglichkeiten von generativen Sprachmodellen wie ChatGPT und anderen KI-Tools. Nutzen Sie die Gelegenheit zum Networking und Erfahrungsaustausch mit anderen Fach- und Führungskräften. Machen Sie sich die neuesten KI-Innovationen zu eigen und transformieren Sie Ihre Arbeitsweise.\n  \nTeilnahmekosten\n690\,- zzgl. MWST\, für ife-Mitglieder wird ein Rabatt in Höhe von 15% mit dem Code: ife_15 gewährt. \nÜber Ihre verbindliche Anmeldung per Mail freut sich: Nicole Tietz \nOder telefonisch unter: 0700 / 88 63 7000 \n\nWeitere Informationen zur Veranstaltung finden Sie hier »
URL:https://www.ife-institut-einzelfertiger.de/event/ki-praxis-workshop-fuer-fach-und-fuehrungskraefte-2/
LOCATION:Online\, Deutschland
CATEGORIES:Hompage-Highlight,Veranstaltungsunterseite
ATTACH;FMTTYPE=image/jpeg:https://www.ife-institut-einzelfertiger.de/wp-content/uploads/2019/02/VS_Logo_4C_RZ-1-e1700046855709.jpg
END:VEVENT
END:VCALENDAR