BEGIN:VCALENDAR
VERSION:2.0
PRODID:-//ife - Netzwerk für Einzelfertiger - ECPv6.15.12.2//NONSGML v1.0//EN
CALSCALE:GREGORIAN
METHOD:PUBLISH
X-WR-CALNAME:ife - Netzwerk für Einzelfertiger
X-ORIGINAL-URL:https://www.ife-institut-einzelfertiger.de
X-WR-CALDESC:Veranstaltungen für ife - Netzwerk für Einzelfertiger
REFRESH-INTERVAL;VALUE=DURATION:PT1H
X-Robots-Tag:noindex
X-PUBLISHED-TTL:PT1H
BEGIN:VTIMEZONE
TZID:Europe/Berlin
BEGIN:DAYLIGHT
TZOFFSETFROM:+0100
TZOFFSETTO:+0200
TZNAME:CEST
DTSTART:20220327T010000
END:DAYLIGHT
BEGIN:STANDARD
TZOFFSETFROM:+0200
TZOFFSETTO:+0100
TZNAME:CET
DTSTART:20221030T010000
END:STANDARD
BEGIN:DAYLIGHT
TZOFFSETFROM:+0100
TZOFFSETTO:+0200
TZNAME:CEST
DTSTART:20230326T010000
END:DAYLIGHT
BEGIN:STANDARD
TZOFFSETFROM:+0200
TZOFFSETTO:+0100
TZNAME:CET
DTSTART:20231029T010000
END:STANDARD
BEGIN:DAYLIGHT
TZOFFSETFROM:+0100
TZOFFSETTO:+0200
TZNAME:CEST
DTSTART:20240331T010000
END:DAYLIGHT
BEGIN:STANDARD
TZOFFSETFROM:+0200
TZOFFSETTO:+0100
TZNAME:CET
DTSTART:20241027T010000
END:STANDARD
END:VTIMEZONE
BEGIN:VEVENT
DTSTART;TZID=Europe/Berlin:20230921T100000
DTEND;TZID=Europe/Berlin:20230921T110000
DTSTAMP:20260423T160859
CREATED:20230904T130520Z
LAST-MODIFIED:20240607T095659Z
UID:4565228-1695290400-1695294000@www.ife-institut-einzelfertiger.de
SUMMARY:Know-how-Schutz in China
DESCRIPTION:[vc_row][vc_column][vc_column_text] \nWebinar\nDas neue Anti-Spionagesetz ist ein zweischneidiges Schwert: Es schützt chinesische Unternehmen vor ausländischer Industriespionage\, die weitgehenden Ermittlungen und Kontrollen der Behörden erleichtern aber auch den unerwünschten Abfluss von Know-how aus ausländischen Unternehmen. Das Webinar am 21. September 2023 um 10:00 Uhr zeigt Strategien\, Maßnahmen und Instrumente des Know-how-Schutzes in China. \n  \nDie Teilnahme ist kostenlos. \nMelden Sie sich gleich hier an »
URL:https://www.ife-institut-einzelfertiger.de/event/know-how-schutz-in-china/
LOCATION:Online\, Deutschland
CATEGORIES:Archiv,Hompage-Highlight,Veranstaltungsunterseite
ATTACH;FMTTYPE=image/png:https://www.ife-institut-einzelfertiger.de/wp-content/uploads/2023/09/Logo-Transparent-e1694586053765.png
ORGANIZER;CN="CHINABRAND CONSULTING":MAILTO:info@chinabrand.de
END:VEVENT
BEGIN:VEVENT
DTSTART;TZID=Europe/Berlin:20230921T100000
DTEND;TZID=Europe/Berlin:20230921T120000
DTSTAMP:20260423T160859
CREATED:20230406T130119Z
LAST-MODIFIED:20240607T095659Z
UID:4564022-1695290400-1695297600@www.ife-institut-einzelfertiger.de
SUMMARY:Energiewende im Mittelstand Wasserstoff & Co.
DESCRIPTION:[vc_row][vc_column][vc_column_text] \nOpen Space\nFormat\n\n2 Stunden Webinar\n15 – 30min Impuls von Expert:innen aus der Praxis\nSpeed-Dating: schnelle\, unkomplizierte Vernetzung\nvertiefende Gespräche in Kleingruppen\nwertvoll und kostenlos\n\nInhalte\nDie Energiewende ist unausweichlich.\nWas jetzt notwendig und hilfreich wäre\, ist Vernetzung. Denn es gibt bereits viele Ansätze\, Ideen und erprobte Experimente.\nUnser Ziel ist es\, voneinander zu Lernen. \nViele sehen Chancen. Viele haben Ideen anzubieten. Viele wissen schon etwas über die Umsetzung. Einige haben Fragen\, manche Antworten.\nPragmatische\, breite und schnelle Vernetzung ist das\, was der Mittelstand jetzt braucht. \nPlanung\n21.09.2023\n„Schon mal an den Wind gedacht? – Windenergie für die Industrie“\nAnsgar Boeker\, Geschäftsführer\, Boeker Ingenieurbüro GmbH\, \n„Windkraft Grundlage für die Energiewende\, Realität und Potentiale“\nEike Dölschner\, Dölschner Consulting \n  \nDownload der vollständigen Einladung und des Programms » \n\nAnmeldung und Kosten\nDie Teilnahme ist kostenfrei\nMelden Sie sich an\, per Mail an tietz@v-und-s.de \n 
URL:https://www.ife-institut-einzelfertiger.de/event/energiewende-im-mittelstand-wasserstoff-co/
LOCATION:Online\, Deutschland
CATEGORIES:Archiv,Hompage-Highlight,Veranstaltungsunterseite
ATTACH;FMTTYPE=image/jpeg:https://www.ife-institut-einzelfertiger.de/wp-content/uploads/2019/02/VS_Logo_4C_RZ-1-e1700046855709.jpg
END:VEVENT
BEGIN:VEVENT
DTSTART;VALUE=DATE:20230928
DTEND;VALUE=DATE:20230929
DTSTAMP:20260423T160859
CREATED:20230602T082220Z
LAST-MODIFIED:20240607T095659Z
UID:4564419-1695859200-1695945599@www.ife-institut-einzelfertiger.de
SUMMARY:Level Up HR Wertschöpfung statt Wertschätzung
DESCRIPTION:[vc_row][vc_column][vc_column_text] \n28. September 2023 Hannover\n \nDas Event\n\nImpulsvortrag mit Denk-Werkzeugkasten\nIrritation des eigenen Denkmodells\nErfahrungsberichte\nDenkwerkstatt um eigene Themen zu bearbeiten\nintensiver Austausch\n\nAnmeldung und Teilnahme\nDie Teilnahmegebühren betragen für das Event in Hannover 350€ zzgl. MwSt. pro Person inkl. Verpflegung. \nMelden Sie sich hier an » \n  \nWeitere Infos finden Sie hier »[/vc_column_text][/vc_column][/vc_row]
URL:https://www.ife-institut-einzelfertiger.de/event/level-up-hr-wertschoepfung-statt-wertschaetzung/
LOCATION:Hannover
CATEGORIES:Archiv,Hompage-Highlight,Veranstaltungsunterseite
ATTACH;FMTTYPE=image/jpeg:https://www.ife-institut-einzelfertiger.de/wp-content/uploads/2022/04/vS-Herding-1.jpg
END:VEVENT
END:VCALENDAR