BEGIN:VCALENDAR
VERSION:2.0
PRODID:-//ife - Netzwerk für Einzelfertiger - ECPv6.15.12.2//NONSGML v1.0//EN
CALSCALE:GREGORIAN
METHOD:PUBLISH
X-WR-CALNAME:ife - Netzwerk für Einzelfertiger
X-ORIGINAL-URL:https://www.ife-institut-einzelfertiger.de
X-WR-CALDESC:Veranstaltungen für ife - Netzwerk für Einzelfertiger
REFRESH-INTERVAL;VALUE=DURATION:PT1H
X-Robots-Tag:noindex
X-PUBLISHED-TTL:PT1H
BEGIN:VTIMEZONE
TZID:Europe/Berlin
BEGIN:DAYLIGHT
TZOFFSETFROM:+0100
TZOFFSETTO:+0200
TZNAME:CEST
DTSTART:20220327T010000
END:DAYLIGHT
BEGIN:STANDARD
TZOFFSETFROM:+0200
TZOFFSETTO:+0100
TZNAME:CET
DTSTART:20221030T010000
END:STANDARD
BEGIN:DAYLIGHT
TZOFFSETFROM:+0100
TZOFFSETTO:+0200
TZNAME:CEST
DTSTART:20230326T010000
END:DAYLIGHT
BEGIN:STANDARD
TZOFFSETFROM:+0200
TZOFFSETTO:+0100
TZNAME:CET
DTSTART:20231029T010000
END:STANDARD
BEGIN:DAYLIGHT
TZOFFSETFROM:+0100
TZOFFSETTO:+0200
TZNAME:CEST
DTSTART:20240331T010000
END:DAYLIGHT
BEGIN:STANDARD
TZOFFSETFROM:+0200
TZOFFSETTO:+0100
TZNAME:CET
DTSTART:20241027T010000
END:STANDARD
END:VTIMEZONE
BEGIN:VEVENT
DTSTART;TZID=Europe/Berlin:20230613T090000
DTEND;TZID=Europe/Berlin:20230613T160000
DTSTAMP:20260423T193938
CREATED:20230602T063333Z
LAST-MODIFIED:20240607T084158Z
UID:4564413-1686646800-1686672000@www.ife-institut-einzelfertiger.de
SUMMARY:fluss|aufwerts Praxistag – der Workout für den Arbeitsfluss
DESCRIPTION:[vc_row][vc_column][vc_column_text] \nLeben ist Fließen\nEin Lean-Office Training beim fluss|aufwerts Praxistag verbessert Ihre Arbeitsorganisation und schafft wieder Freude am Job.\nAn nur einem Tag erfahren Sie in praxisnahen Rollenspielen und Übungen\, wie Sie Verschwendung vermeiden.\nIhre neuen Skills schaffen eine Veränderungskultur\, die direkt aus dem inneren Arbeitskreis entsteht. \n\nZukunft ist fließend\nNehmen Sie am fluss|aufwerts Praxistag in Oldenburg teil. Wir freuen uns auf Ihre Anekdoten aus Ihrem Arbeitsalltag. Gute Laune können Sie voraussetzen! \nDer Zeitraum ist von 09:00 bis 16:00 Uhr\, bitte planen Sie ein wenig Reserve ein. Für Essen und Trinken wird gesorgt. \n  \nAnmeldung und Teilnahme\nDie Teilnahmegebühr beträgt 250 Euro zzgl. 19% USt.\nMelden Sie sich an\, per Mail an ingo.koerner@aufwerts.org \n  \nWeitere Infos finden Sie hier »
URL:https://www.ife-institut-einzelfertiger.de/event/flussaufwerts-praxistag-der-workout-fuer-den-arbeitsfluss-4/
LOCATION:Patentkrug\, Wilhelmshavener Heerstraße 359\, Oldenburg\, Niedersachsen\, 26125\, Deutschland
CATEGORIES:home-events,Hompage-Highlight,Veranstaltungsunterseite
ATTACH;FMTTYPE=image/png:https://www.ife-institut-einzelfertiger.de/wp-content/uploads/2021/12/Aufwerts-web-1.png
ORGANIZER;CN="aufwerts GmbH":MAILTO:hallo@aufwerts.org
END:VEVENT
BEGIN:VEVENT
DTSTART;TZID=Europe/Berlin:20230629T100000
DTEND;TZID=Europe/Berlin:20230629T110000
DTSTAMP:20260423T193938
CREATED:20230606T061638Z
LAST-MODIFIED:20240607T095659Z
UID:4564439-1688032800-1688036400@www.ife-institut-einzelfertiger.de
SUMMARY:Antispionage-Gesetz in China
DESCRIPTION:[vc_row][vc_column][vc_column_text] \nWebinar\nChina verschärft seinen Datenschutz. Um die Weitergabe chinesischer Daten ins Ausland zu verhindern hat Peking das nationale Spionagegesetz verschärft. In der Folge kommt es zu Ermittlungen\, Durchsuchungen\, Verhaftungen und Schließungen von Büros ausländischer Unternehmen\, die Daten grenzüberschreitend transferieren. CHINABRAND beantwortet am 29. Juni 2023 um 10:00 Uhr in einem aktuellen Webinar diese Fragen: \nIn diesem Webinar informiert CHINABRAND über: \n\nWie sieht das neue Antispionage-Gesetz im Detail aus?\nWie ist das Gesetz zu bewerten?\nWelche Kategorien von Daten und Informationen sind betroffen?\nWelche Maßnahmen sollten europäische Unternehmen in China jetzt ergreifen?\n\n  \nDie Teilnahme ist kostenfrei. \nMelden Sie sich gleich hier an »
URL:https://www.ife-institut-einzelfertiger.de/event/antispionage-gesetz-in-china/
LOCATION:Online\, Deutschland
CATEGORIES:Archiv,Hompage-Highlight,Veranstaltungsunterseite
ATTACH;FMTTYPE=image/png:https://www.ife-institut-einzelfertiger.de/wp-content/uploads/2023/04/Logo-Transparent-e1707483039467.png
ORGANIZER;CN="CHINABRAND CONSULTING":MAILTO:info@chinabrand.de
END:VEVENT
END:VCALENDAR