BEGIN:VCALENDAR
VERSION:2.0
PRODID:-//ife - Netzwerk für Einzelfertiger - ECPv6.15.12.2//NONSGML v1.0//EN
CALSCALE:GREGORIAN
METHOD:PUBLISH
X-ORIGINAL-URL:https://www.ife-institut-einzelfertiger.de
X-WR-CALDESC:Veranstaltungen für ife - Netzwerk für Einzelfertiger
REFRESH-INTERVAL;VALUE=DURATION:PT1H
X-Robots-Tag:noindex
X-PUBLISHED-TTL:PT1H
BEGIN:VTIMEZONE
TZID:Europe/Berlin
BEGIN:DAYLIGHT
TZOFFSETFROM:+0100
TZOFFSETTO:+0200
TZNAME:CEST
DTSTART:20220327T010000
END:DAYLIGHT
BEGIN:STANDARD
TZOFFSETFROM:+0200
TZOFFSETTO:+0100
TZNAME:CET
DTSTART:20221030T010000
END:STANDARD
BEGIN:DAYLIGHT
TZOFFSETFROM:+0100
TZOFFSETTO:+0200
TZNAME:CEST
DTSTART:20230326T010000
END:DAYLIGHT
BEGIN:STANDARD
TZOFFSETFROM:+0200
TZOFFSETTO:+0100
TZNAME:CET
DTSTART:20231029T010000
END:STANDARD
BEGIN:DAYLIGHT
TZOFFSETFROM:+0100
TZOFFSETTO:+0200
TZNAME:CEST
DTSTART:20240331T010000
END:DAYLIGHT
BEGIN:STANDARD
TZOFFSETFROM:+0200
TZOFFSETTO:+0100
TZNAME:CET
DTSTART:20241027T010000
END:STANDARD
END:VTIMEZONE
BEGIN:VEVENT
DTSTART;TZID=Europe/Berlin:20230510T160000
DTEND;TZID=Europe/Berlin:20230510T173000
DTSTAMP:20260423T205839
CREATED:20230306T145908Z
LAST-MODIFIED:20240607T095659Z
UID:4560073-1683734400-1683739800@www.ife-institut-einzelfertiger.de
SUMMARY:Branchenaustausch: Stahl- und Metallbau
DESCRIPTION:[vc_row][vc_column][vc_column_text] \nAus der Branche – Für die Branche\nEnergiekrise\, gestörte Lieferketten\, Arbeitskräftemangel\, ein Krieg mitten in Europa und dazu das Gebot\, den CO2-Ausstoß drastisch zu reduzieren \nAktuell steht die Stahl- und Metallbaubranche vor riesigen Herausforderungen. Welche Maßnahmen sollte man vor diesem Hintergrund ergreifen\, um langfristig erfolgreich zu bleiben? \nDiese und weitere Fragen möchten wir mit Ihnen im Rahmen eines exklusiven Austauschforums erörtern. Wir bieten Ihnen den Raum für eine praxisbezogene Diskussion mit unterschiedlichen Teilnehmern aus der Stahl- und Metallbranche. Gemeinsam wollen wir Lösungen finden\, um den Zusammenhalt innerhalb der Branche zu stärken. \n  \nDie Veranstaltung ist kostenlos! \nMelden Sie sich gleich hier an »
URL:https://www.ife-institut-einzelfertiger.de/event/branchenaustausch-stahl-und-metallbau-2-2/
CATEGORIES:Archiv,Hompage-Highlight,Veranstaltungsunterseite
END:VEVENT
BEGIN:VEVENT
DTSTART;VALUE=DATE:20230512
DTEND;VALUE=DATE:20230513
DTSTAMP:20260423T205839
CREATED:20230406T123921Z
LAST-MODIFIED:20240607T095659Z
UID:4564016-1683849600-1683935999@www.ife-institut-einzelfertiger.de
SUMMARY:Lager.Feuer
DESCRIPTION:[vc_row][vc_column][vc_column_text] \nSeehotel Niedernberg\nDenkanstöße und Gedankenaustausch auf Top-Management-Ebene\nWas erwartet Sie\nImpulse – aus der Praxis für die Praxis – Vernetzung auf Augenhöhe. Wir bieten am V & S-Lager.Feuer bereits zum vierzehnten Mal eine Plattform\, um Lösungsideen und Denkanstöße für aktuelle und zukünftige Herausforderungen auszutauschen. \nWer ist da?\nEigentümer:innen\, Geschäftsführer:innen und Experten:innen aus der Praxis. \nWas nehmen Sie mit?\nHervorragende Firmen lernen schneller als andere. Sie als Entscheider:in haben darauf ganz erheblichen Einfluss. Dafür bekommen Sie „die volle Packung Praxis“. \n\nDownload der vollständigen Einladung und des Programms » \n  \n\n\n\n09:00\nBegrüßung\n\n\n09:30\nVortrag I\nMarkus Hermann (Co-Founder und Managing Director bei der China Macro Group)\nChina – Ambitionen und Herausforderungen\n\n\n10:30\nVortrag II\nSven Kreisel (Abteilungsleiter im Sondermaschinenbau bei Bosch)\nRecruiting neu gedacht – finden statt suchen\n\n\n11:30\nWorld Café\nImpuls – „Produktive Irritation“ mit anschließendem World Café\n› Recruiting & Fachkräftemangel\n› Transformation im Mittelstand\n› Pragmatische Strategie\n› Shop Floor Management\n› Digitalisierung\n› Markt China\n\n\n13:00\nMittagessen\n\n\n14:00\n\nVortrag III\nHendrik Pahlsmeyer (Head of Systems Engineering)\nErfolgreiche Transformation aus einer sehr persönlichen Perspektive\n\n\n15:00\n\nDer rote Faden\nmit Benno Löffler\n\n\n15:30\nEvent\ngezielte\, schnelle Vernetzung\n\n\n17:00\n\nGrillbuffet\n\n\n\n  \nAnmeldung und Kosten\nDie Teilnahmegebühr beträgt 890 €\nWir bitten um Anmeldung bis zum 1. Mai 2023 an: info@v-und-s.de  oder\nbei: Nicole Tietz +49 (0) 700 / 88 63 70 00 \nDie Anzahl der Teilnehmer vor Ort ist auf 50 begrenzt.
URL:https://www.ife-institut-einzelfertiger.de/event/lager-feuer/
LOCATION:Seehotel Niedernberg (Nähe Frankfurt a.M.)\, Leerweg\, Niedernberg\, 63843\, Deutschland
CATEGORIES:Archiv,Hompage-Highlight,Veranstaltungsunterseite
ATTACH;FMTTYPE=image/jpeg:https://www.ife-institut-einzelfertiger.de/wp-content/uploads/2019/02/VS_Logo_4C_RZ-1-e1700046855709.jpg
END:VEVENT
END:VCALENDAR