BEGIN:VCALENDAR
VERSION:2.0
PRODID:-//ife - Netzwerk für Einzelfertiger - ECPv6.15.12.2//NONSGML v1.0//EN
CALSCALE:GREGORIAN
METHOD:PUBLISH
X-WR-CALNAME:ife - Netzwerk für Einzelfertiger
X-ORIGINAL-URL:https://www.ife-institut-einzelfertiger.de
X-WR-CALDESC:Veranstaltungen für ife - Netzwerk für Einzelfertiger
REFRESH-INTERVAL;VALUE=DURATION:PT1H
X-Robots-Tag:noindex
X-PUBLISHED-TTL:PT1H
BEGIN:VTIMEZONE
TZID:Europe/Berlin
BEGIN:DAYLIGHT
TZOFFSETFROM:+0100
TZOFFSETTO:+0200
TZNAME:CEST
DTSTART:20220327T010000
END:DAYLIGHT
BEGIN:STANDARD
TZOFFSETFROM:+0200
TZOFFSETTO:+0100
TZNAME:CET
DTSTART:20221030T010000
END:STANDARD
BEGIN:DAYLIGHT
TZOFFSETFROM:+0100
TZOFFSETTO:+0200
TZNAME:CEST
DTSTART:20230326T010000
END:DAYLIGHT
BEGIN:STANDARD
TZOFFSETFROM:+0200
TZOFFSETTO:+0100
TZNAME:CET
DTSTART:20231029T010000
END:STANDARD
BEGIN:DAYLIGHT
TZOFFSETFROM:+0100
TZOFFSETTO:+0200
TZNAME:CEST
DTSTART:20240331T010000
END:DAYLIGHT
BEGIN:STANDARD
TZOFFSETFROM:+0200
TZOFFSETTO:+0100
TZNAME:CET
DTSTART:20241027T010000
END:STANDARD
END:VTIMEZONE
BEGIN:VEVENT
DTSTART;TZID=Europe/Berlin:20230418T100000
DTEND;TZID=Europe/Berlin:20230418T120000
DTSTAMP:20260423T220507
CREATED:20230406T131238Z
LAST-MODIFIED:20240607T095659Z
UID:4564028-1681812000-1681819200@www.ife-institut-einzelfertiger.de
SUMMARY:Ist das Kunst oder kann das weg?
DESCRIPTION:[vc_row][vc_column][vc_column_text] \nWebinar\n18. April\, 10-12 Uhr \n„OKR. AGIL. LEAN. Ist das Kunst oder kann das weg?“ \n \nErgebnis-Orientierung\, also OKR\, hohe Beweglichkeit\, also agil und Effizienz\, also lean können nicht schlecht sein. \nWerden sie aber „methodisch gedacht und gemacht“ dann entfalten sie kaum Wirkung. Im Gegenteil: Sie machen Arbeit ohne Nutzen. \nDie Perspektiven\, um als Firma von Methodik massiv zu profitieren\, werden wir im Webinar diskutieren. Drei Fragen werden uns leiten: \n\nWie kann man einen kritischen\, aber produktiven Blick auf OKR\, Agile und Lean in der eigenen Organisation entwickeln.\nWie lernen Organisationen wirklich? Welchen Rahmen kann das Management dafür stiften?\nWie stößt man Veränderung so an\, dass Energie und echte Verbesserung entsteht?\n\n  \nAnmeldung \nDies ist eine kostenfreie V&S-Veranstaltung. \nÜber Ihre verbindliche Anmeldung per Mail freut sich:Nicole Tietz oder telefonisch unter: 0700 / 88 63 7000 \n  \nWeitere Infos finden Sie hier »[/vc_column_text][/vc_column][/vc_row]
URL:https://www.ife-institut-einzelfertiger.de/event/ist-das-kunst-oder-kann-das-weg/
LOCATION:Webinar
CATEGORIES:Archiv,Hompage-Highlight,Veranstaltungsunterseite
ATTACH;FMTTYPE=image/jpeg:https://www.ife-institut-einzelfertiger.de/wp-content/uploads/2020/05/VS_Logo-200x200-1.jpg
END:VEVENT
BEGIN:VEVENT
DTSTART;TZID=Europe/Berlin:20230420T100000
DTEND;TZID=Europe/Berlin:20230420T110000
DTSTAMP:20260423T220507
CREATED:20230406T075734Z
LAST-MODIFIED:20240607T095659Z
UID:4564005-1681984800-1681988400@www.ife-institut-einzelfertiger.de
SUMMARY:Marken in China: Neue Entwicklungen
DESCRIPTION:[vc_row][vc_column][vc_column_text] \nWebinar\nIn China gibt es neue Entwicklungen\, die für ausländische Markeninhaber wichtig sind. So gelten ab Herbst 2023 Änderungen im chinesischen Markenrecht\, durch die bösgläubige Anmeldungen (Trademark-Grabbing) viel besser bekämpft werden können. Dazu kommen Verbesserungen beim Schadensersatz\, dessen Obergrenze deutlich erhöht wurde. Der Markenschutz im digitalen und virtuellen Raum gewinnt an Bedeutung\, ebenso effiziente Strategien der Pirateriebekämpfung. Schließlich macht es die neue politische Orientierung am Gemeinwohl erforderlich\, viele Marken neu zu positionieren. \nIn diesem Webinar informiert CHINABRAND über: \n\nÄnderungen im chinesischen Markengesetz\,\nMarkenschutz im digitalen und virtuellen Raum\,\neffiziente Strategien des Anti-Counterfeiting\,\nNeupositionierung in Richtung Gemeinwohl.\n\n  \nDie Teilnahme ist kostenfrei. \nMelden Sie sich gleich hier an »
URL:https://www.ife-institut-einzelfertiger.de/event/marken-in-china-neue-entwicklungen/
LOCATION:Online\, Deutschland
CATEGORIES:Archiv,Hompage-Highlight,Veranstaltungsunterseite
ATTACH;FMTTYPE=image/png:https://www.ife-institut-einzelfertiger.de/wp-content/uploads/2023/04/Logo-Transparent-e1707483039467.png
ORGANIZER;CN="CHINABRAND CONSULTING":MAILTO:info@chinabrand.de
END:VEVENT
END:VCALENDAR