BEGIN:VCALENDAR
VERSION:2.0
PRODID:-//ife - Netzwerk für Einzelfertiger - ECPv6.15.12.2//NONSGML v1.0//EN
CALSCALE:GREGORIAN
METHOD:PUBLISH
X-WR-CALNAME:ife - Netzwerk für Einzelfertiger
X-ORIGINAL-URL:https://www.ife-institut-einzelfertiger.de
X-WR-CALDESC:Veranstaltungen für ife - Netzwerk für Einzelfertiger
REFRESH-INTERVAL;VALUE=DURATION:PT1H
X-Robots-Tag:noindex
X-PUBLISHED-TTL:PT1H
BEGIN:VTIMEZONE
TZID:Europe/Berlin
BEGIN:DAYLIGHT
TZOFFSETFROM:+0100
TZOFFSETTO:+0200
TZNAME:CEST
DTSTART:20220327T010000
END:DAYLIGHT
BEGIN:STANDARD
TZOFFSETFROM:+0200
TZOFFSETTO:+0100
TZNAME:CET
DTSTART:20221030T010000
END:STANDARD
BEGIN:DAYLIGHT
TZOFFSETFROM:+0100
TZOFFSETTO:+0200
TZNAME:CEST
DTSTART:20230326T010000
END:DAYLIGHT
BEGIN:STANDARD
TZOFFSETFROM:+0200
TZOFFSETTO:+0100
TZNAME:CET
DTSTART:20231029T010000
END:STANDARD
BEGIN:DAYLIGHT
TZOFFSETFROM:+0100
TZOFFSETTO:+0200
TZNAME:CEST
DTSTART:20240331T010000
END:DAYLIGHT
BEGIN:STANDARD
TZOFFSETFROM:+0200
TZOFFSETTO:+0100
TZNAME:CET
DTSTART:20241027T010000
END:STANDARD
END:VTIMEZONE
BEGIN:VEVENT
DTSTART;TZID=Europe/Berlin:20230301T100000
DTEND;TZID=Europe/Berlin:20230301T110000
DTSTAMP:20260423T230822
CREATED:20230206T110423Z
LAST-MODIFIED:20230206T110423Z
UID:4560047-1677664800-1677668400@www.ife-institut-einzelfertiger.de
SUMMARY:Möglichkeiten der TopUp-Deckung
DESCRIPTION:Webinar\nZusatzlimite für Ihre Warenkreditversicherungs-Police: Funktionsweise und Möglichkeiten \nAlles rund um TopUp-Deckungen kompakt und verständlich aufbereitet. \n  \nDie Teilnahme ist kostenlos. \nMelden Sie sich gleich hier an »
URL:https://www.ife-institut-einzelfertiger.de/event/moeglichkeiten-der-topup-deckung/
LOCATION:Online\, Deutschland
CATEGORIES:Archiv
ATTACH;FMTTYPE=image/jpeg:https://www.ife-institut-einzelfertiger.de/wp-content/uploads/2020/11/GFL_Wort-Bild-Marke_rgb250x250-1-1.jpg
END:VEVENT
BEGIN:VEVENT
DTSTART;TZID=Europe/Berlin:20230302T100000
DTEND;TZID=Europe/Berlin:20230302T120000
DTSTAMP:20260423T230822
CREATED:20221222T101328Z
LAST-MODIFIED:20230319T113720Z
UID:4563407-1677751200-1677758400@www.ife-institut-einzelfertiger.de
SUMMARY:Erfolgreicher durch Fehler
DESCRIPTION:Online-Seminar\nFehlerkultur in einem Unternehmen hat einen der höchsten Effekte auf den Erfolg eines Projektes. Was bedeutet das genau und wie werden wir Fehlerfreundlicher? \nIst Fehlerfreundlichkeit eigentlich immer gut und warum brauchen wir eine neue Fehlerkultur? Um diese spannenden Fragen geht´s hier! \n  \nReferenten: \nHerr Torsten Bergmann\, Trainer \n  \nDie Teilnahme ist kostenlos. \nMelden Sie sich gleich hier an »
URL:https://www.ife-institut-einzelfertiger.de/event/fehlerfreundlichkeit-2/
LOCATION:Online\, Deutschland
CATEGORIES:Archiv,Test
ATTACH;FMTTYPE=image/jpeg:https://www.ife-institut-einzelfertiger.de/wp-content/uploads/2018/09/Logo_Lux-Lux_CMYK-1.jpg
END:VEVENT
BEGIN:VEVENT
DTSTART;TZID=Europe/Berlin:20230302T100000
DTEND;TZID=Europe/Berlin:20230302T120000
DTSTAMP:20260423T230822
CREATED:20221126T101328Z
LAST-MODIFIED:20230129T115423Z
UID:4562022-1677751200-1677758400@www.ife-institut-einzelfertiger.de
SUMMARY:Erfolgreicher durch Fehler
DESCRIPTION:Online-Seminar\nFehlerkultur in einem Unternehmen hat einen der höchsten Effekte auf den Erfolg eines Projektes. Was bedeutet das genau und wie werden wir Fehlerfreundlicher? \nIst Fehlerfreundlichkeit eigentlich immer gut und warum brauchen wir eine neue Fehlerkultur? Um diese spannenden Fragen geht´s hier! \n  \nReferenten: \nHerr Torsten Bergmann\, Trainer \n  \nDie Teilnahme ist kostenlos. \nMelden Sie sich gleich hier an »
URL:https://www.ife-institut-einzelfertiger.de/event/fehlerfreundlichkeit/
LOCATION:Online\, Deutschland
CATEGORIES:Hompage-Highlight,Veranstaltungsunterseite
ATTACH;FMTTYPE=image/jpeg:https://www.ife-institut-einzelfertiger.de/wp-content/uploads/2018/09/Logo_Lux-Lux_CMYK-1.jpg
END:VEVENT
BEGIN:VEVENT
DTSTART;VALUE=DATE:20230309
DTEND;VALUE=DATE:20230311
DTSTAMP:20260423T230822
CREATED:20230227T152340Z
LAST-MODIFIED:20230227T152340Z
UID:4560060-1678320000-1678492799@www.ife-institut-einzelfertiger.de
SUMMARY:Denkwerkstatt für saugute Führungsarbeit
DESCRIPTION:[vc_row][vc_column][vc_column_text] \n\n09.-10. März 2023 & 23.-24. März 2023\nSchulung\nOrganisationen lösen Probleme. Tagein\, tagaus. Probleme sind Ereignisse oder Umstände\, die eine Organisation nicht schadfrei ignorieren kann. Also zum Beispiel auch ein Kundenauftrag. Eine der Kernaufgaben einer Führungskraft liegt darin\, für passendeund zügige Lösung dieser Probleme zu sorgen\, einen Rahmen für “Saugute Zusammenarbeit” zu stiften. \n“Saugute Zusammenarbeit” als Führungskraft zu ermöglichen kann man nicht in einer Schulung lernen. Und trotzdem gibt es Denkmodelle und Tools\, die dabei helfen und Stolperfallen\, die man kennen muss. \nEntlang eines strukturierten Problemlösungskreislaufs lernen Sie in 2×2 Tagen alles Nötige und Hilfreiche kennen\, um wirtschaftlich relevante Probleme für Ihre Organisation besser und schneller zu lösen. Die inhaltlichen Theorie-Bausteine sind angereichert um praxisnahen Austausch vor Ort zu ermöglichen. \nDenn: Bei Herding läuft einiges anders\, Führung wird nicht strikt als Stelle oder Position verstanden. Vielmehr als Phänomen der freiwilligen Gefolgschaft. Trotzdem gibt es auch formelle Hierarchie und die Führung durch Macht – also Steuerung. Was das ganz konkret bedeutet und wie sich die im Training vermittelten Inhalts-Elemente für die Beteiligten vor Ort anfühlen und ihren Nutzen entfalten\, erfahren wir im direkten Praxis-Austausch vor Ort mit KollegInnen von Herding.[/vc_column_text][vc_column_text] \nInhalte\nJede Firma entwickelt sich ständig weiter und passt sich an den Wettbewerbsdruck an. Führung stiftet den Rahmen für diese Entwicklung. In manchen Firmen mehr\, in anderen weniger… Theoretisch können also Führungskräfte neue\, erfolgreiche Muster der Zusammenarbeit etablieren. Aber wie funktioniert das in der Praxis?[/vc_column_text][vc_column_text] \n\n\nDer Trainingsplan\n\n\n\n\n\n2 x 2 Tage bei Herding GmbH\, Amberg\nImpulse und neue Perspektiven auf Führungsarbeit\nReflexion gemeinsam mit verschiedenen Führungskräften der Firma Herding\nTrainer: B. Löffler (V&S)\, F. Schünke (CTO Herding)\, B. Wennicke\nReflexionsgespräch im Nachgang\nTrainings-Zertifikat\n\n\n\nGastgeber\nHerding GmbH Filtertechnik[/vc_column_text][/vc_column][/vc_row][vc_row][vc_column][vc_column_text] \nAnmeldung und Teilnahme\nDie Ausbildungskosten inklusive Mittagessen und Getränke betragen 1950\,00 € zzgl. MwSt. pro Person\, für ife-Mitglieder nur 1755\,00 €.\nMelden Sie sich an\, per Mail an info@ife-institut-einzelfertiger.de oder über unser Kontaktformular. \nAnmeldungen werden nach Anmeldeeingang berücksichtigt. \n  \nWeitere Infos finden Sie hier »[/vc_column_text][/vc_column][/vc_row]
URL:https://www.ife-institut-einzelfertiger.de/event/denkwerkstatt-fuer-saugute-fuehrungsarbeit/
LOCATION:Herding GmbH\, Amberg
CATEGORIES:Archiv
ATTACH;FMTTYPE=image/jpeg:https://www.ife-institut-einzelfertiger.de/wp-content/uploads/2022/04/vS-Herding-1.jpg
END:VEVENT
BEGIN:VEVENT
DTSTART;TZID=Europe/Berlin:20230315T170000
DTEND;TZID=Europe/Berlin:20230315T220000
DTSTAMP:20260423T230822
CREATED:20221127T120907Z
LAST-MODIFIED:20230129T115443Z
UID:4559901-1678899600-1678917600@www.ife-institut-einzelfertiger.de
SUMMARY:Datenschätze erkennen\, schützen und vergolden
DESCRIPTION:[vc_row][vc_column][vc_column_text] \nAfter-Work-Netzwerkevent\nDaten sind der neue Rohstoff des 21. Jahrhunderts. Viele Unternehmen nutzen und schützen diesen Rohstoff noch nicht ausreichend.\nDas Sammeln von Daten ist nicht neu und es findet überall statt. Jedes Unternehmen generiert und speichert heute Unmengen davon. Diese Daten sind der neue Rohstoff des 21. Jahrhunderts\, der auch der Herstellung von Produkten und Leistungen heutzutage dient. Mehr noch\, es können Geschäftsmodell entstehen\, die auf der Nutzung von Daten basieren\, sogenannte Daten-Monetarisierung. Die immensen Chancen\, die damit für die Umsatzsteigerung verbunden sind\, haben mittlerweile viele Unternehmen erkannt. \nWarum noch nicht alle Firmen ihr Geschäftsmodell angepasst haben und wie Sie ihre Datenschätze erkennen\, nachhaltig vor Angriffen schützen und vergolden können\, erfahren Sie in unseren beiden kurzen Impulsvorträgen an diesem Abend. \nAber noch mehr möchten wir Ihre individuellen Fragen beantworten und den gemeinsamen Austausch fördern. \nWir freuen uns auf das Netzwerken unter IT-Kollegen aus Neuss und Umgebung und lassen den Abend mit einer Verköstigung schottischen Goldes ausklingen. \n  \nHier können Sie sich kostenlos anmelden »
URL:https://www.ife-institut-einzelfertiger.de/event/datenschaetze-erkennen-schuetzen-und-vergolden/
LOCATION:OVS & bimanu\, Sperberweg 47\, Neuss\, NRW\, 41468
CATEGORIES:Hompage-Highlight,Veranstaltungsunterseite
ATTACH;FMTTYPE=image/png:https://www.ife-institut-einzelfertiger.de/wp-content/uploads/2020/06/logo-bimanu-v034x4-1-e1675005896222.png
ORGANIZER;CN="bimanu GmbH":MAILTO:info@bimanu.de
END:VEVENT
BEGIN:VEVENT
DTSTART;TZID=Europe/Berlin:20230315T170000
DTEND;TZID=Europe/Berlin:20230315T220000
DTSTAMP:20260423T230822
CREATED:20221123T120907Z
LAST-MODIFIED:20221123T120907Z
UID:4563403-1678899600-1678917600@www.ife-institut-einzelfertiger.de
SUMMARY:Datenschätze erkennen\, schützen und vergolden
DESCRIPTION:[vc_row][vc_column][vc_column_text] \nAfter-Work-Netzwerkevent\nDaten sind der neue Rohstoff des 21. Jahrhunderts. Viele Unternehmen nutzen und schützen diesen Rohstoff noch nicht ausreichend.\nDas Sammeln von Daten ist nicht neu und es findet überall statt. Jedes Unternehmen generiert und speichert heute Unmengen davon. Diese Daten sind der neue Rohstoff des 21. Jahrhunderts\, der auch der Herstellung von Produkten und Leistungen heutzutage dient. Mehr noch\, es können Geschäftsmodell entstehen\, die auf der Nutzung von Daten basieren\, sogenannte Daten-Monetarisierung. Die immensen Chancen\, die damit für die Umsatzsteigerung verbunden sind\, haben mittlerweile viele Unternehmen erkannt. \nWarum noch nicht alle Firmen ihr Geschäftsmodell angepasst haben und wie Sie ihre Datenschätze erkennen\, nachhaltig vor Angriffen schützen und vergolden können\, erfahren Sie in unseren beiden kurzen Impulsvorträgen an diesem Abend. \nAber noch mehr möchten wir Ihre individuellen Fragen beantworten und den gemeinsamen Austausch fördern. \nWir freuen uns auf das Netzwerken unter IT-Kollegen aus Neuss und Umgebung und lassen den Abend mit einer Verköstigung schottischen Goldes ausklingen. \n  \nHier können Sie sich kostenlos anmelden »
URL:https://www.ife-institut-einzelfertiger.de/event/datenschaetze-erkennen-schuetzen-und-vergolden-2/
LOCATION:OVS & bimanu\, Sperberweg 47\, Neuss\, NRW\, 41468
CATEGORIES:Archiv
ATTACH;FMTTYPE=image/png:https://www.ife-institut-einzelfertiger.de/wp-content/uploads/2020/06/logo-bimanu-v034x4-1-e1675005896222.png
ORGANIZER;CN="bimanu GmbH":MAILTO:info@bimanu.de
END:VEVENT
BEGIN:VEVENT
DTSTART;TZID=Europe/Berlin:20230316T100000
DTEND;TZID=Europe/Berlin:20230316T110000
DTSTAMP:20260423T230822
CREATED:20221128T145339Z
LAST-MODIFIED:20240607T095659Z
UID:4562024-1678960800-1678964400@www.ife-institut-einzelfertiger.de
SUMMARY:Corporate Metaverse für Einzelfertiger
DESCRIPTION:[vc_row][vc_column][vc_column_text] \nWebinar\nVirtual Reality (VR) und Augmented Reality (AR) setzen sich in der Industrie immer mehr durch. Das größte Interesse der Unternehmen gilt dabei den Anwendungen und Geschäftsmodellen\, aber auch dem Schutz des geistigen Eigentums\, der Cyber Security und der Datensicherheit. Im Chinageschäft gewinnt der grenzüberschreitende Transfer virtueller Daten im Corporate Metaverse an Bedeutung. \nDas Webinar konzentriert sich auf die geschäftlichen Chancen und zeigt\, wie Unternehmen mit den Risiken umgehen können. \nReferenten: \n   \nHerr Dr. Fuchs\, Geschäftsführender Gesellschafter \n  \nDie Teilnahme ist kostenlos. \nMelden Sie sich gleich hier an »
URL:https://www.ife-institut-einzelfertiger.de/event/corporate-metaverse-fuer-einzelfertiger/
LOCATION:Online\, Deutschland
CATEGORIES:Archiv,Hompage-Highlight,Veranstaltungsunterseite
ATTACH;FMTTYPE=:
ORGANIZER;CN="CHINABRAND CONSULTING":MAILTO:info@chinabrand.de
END:VEVENT
BEGIN:VEVENT
DTSTART;TZID=Europe/Berlin:20230316T100000
DTEND;TZID=Europe/Berlin:20230316T110000
DTSTAMP:20260423T230822
CREATED:20230116T145339Z
LAST-MODIFIED:20230116T145339Z
UID:4563409-1678960800-1678964400@www.ife-institut-einzelfertiger.de
SUMMARY:Corporate Metaverse für Einzelfertiger
DESCRIPTION:[vc_row][vc_column][vc_column_text] \nWebinar\nVirtual Reality (VR) und Augmented Reality (AR) setzen sich in der Industrie immer mehr durch. Das größte Interesse der Unternehmen gilt dabei den Anwendungen und Geschäftsmodellen\, aber auch dem Schutz des geistigen Eigentums\, der Cyber Security und der Datensicherheit. Im Chinageschäft gewinnt der grenzüberschreitende Transfer virtueller Daten im Corporate Metaverse an Bedeutung. \nDas Webinar konzentriert sich auf die geschäftlichen Chancen und zeigt\, wie Unternehmen mit den Risiken umgehen können. \nReferenten: \n   \nHerr Dr. Fuchs\, Geschäftsführender Gesellschafter \n  \nDie Teilnahme ist kostenlos. \nMelden Sie sich gleich hier an »
URL:https://www.ife-institut-einzelfertiger.de/event/corporate-metaverse-fuer-einzelfertiger-2/
LOCATION:Online\, Deutschland
CATEGORIES:Archiv
ATTACH;FMTTYPE=:
ORGANIZER;CN="CHINABRAND CONSULTING":MAILTO:info@chinabrand.de
END:VEVENT
END:VCALENDAR