BEGIN:VCALENDAR
VERSION:2.0
PRODID:-//ife - Netzwerk für Einzelfertiger - ECPv6.15.12.2//NONSGML v1.0//EN
CALSCALE:GREGORIAN
METHOD:PUBLISH
X-ORIGINAL-URL:https://www.ife-institut-einzelfertiger.de
X-WR-CALDESC:Veranstaltungen für ife - Netzwerk für Einzelfertiger
REFRESH-INTERVAL;VALUE=DURATION:PT1H
X-Robots-Tag:noindex
X-PUBLISHED-TTL:PT1H
BEGIN:VTIMEZONE
TZID:Europe/Berlin
BEGIN:DAYLIGHT
TZOFFSETFROM:+0100
TZOFFSETTO:+0200
TZNAME:CEST
DTSTART:20210328T010000
END:DAYLIGHT
BEGIN:STANDARD
TZOFFSETFROM:+0200
TZOFFSETTO:+0100
TZNAME:CET
DTSTART:20211031T010000
END:STANDARD
BEGIN:DAYLIGHT
TZOFFSETFROM:+0100
TZOFFSETTO:+0200
TZNAME:CEST
DTSTART:20220327T010000
END:DAYLIGHT
BEGIN:STANDARD
TZOFFSETFROM:+0200
TZOFFSETTO:+0100
TZNAME:CET
DTSTART:20221030T010000
END:STANDARD
BEGIN:DAYLIGHT
TZOFFSETFROM:+0100
TZOFFSETTO:+0200
TZNAME:CEST
DTSTART:20230326T010000
END:DAYLIGHT
BEGIN:STANDARD
TZOFFSETFROM:+0200
TZOFFSETTO:+0100
TZNAME:CET
DTSTART:20231029T010000
END:STANDARD
END:VTIMEZONE
BEGIN:VEVENT
DTSTART;TZID=Europe/Berlin:20221201T100000
DTEND;TZID=Europe/Berlin:20221201T120000
DTSTAMP:20260424T022709
CREATED:20201021T114350Z
LAST-MODIFIED:20201021T114350Z
UID:4550878-1669888800-1669896000@www.ife-institut-einzelfertiger.de
SUMMARY:Menschen\, Material & Energie
DESCRIPTION:Der Mittelstand ringt zunehmend mit Fundamentalproblemen: \n\npassende Menschen finden\nMaterial-Knappheit meistern\nEnergie-Preise verkraften\n\n  \nDie Führungsmannschaft wird angesichts der Vielzahl von Problemen zum Engpass der Organisation in verschiedener Hinsicht: \n\nKreativität / Ideen-Reichtum\, angesichts der Heftigkeit der Probleme.\nInformiertheit und Geschwindigkeit von Entscheidungen\, angesichts der ständigen Veränderung der Sachlage.\nKommunikation und Synchronisation der operativen Notwendigkeiten\, angesichts der Vielzahl täglicher Details.\n\n  \nWährend in einigen Firmen ein abteilungsübergreifendes  Zusammenrücken beobachtbar ist\, werden die Gräben in anderen Firmen tiefer. \nLetztlich geht es darum\, ideenreich\, gemeinsam und schnell zu handeln und zu lernen. Das entlastet die Führungskräfte und erfordert Rahmenbedingungen für „saugute Zusammenarbeit“. \nAm Beispiel von Material-Verfügbarkeit werden wir erörtern\, was Sie ganz praktisch tun können. \nDies ist eine kostenfreie V&S-Veranstaltung. Über Ihre verbindliche Anmeldung per Mail freut sich: Nicole Tietz \nOder telefonisch unter: 0700 / 88 63 7000
URL:https://www.ife-institut-einzelfertiger.de/event/menschen-material-energie/
LOCATION:Online\, Deutschland
CATEGORIES:Archiv
ATTACH;FMTTYPE=image/jpeg:https://www.ife-institut-einzelfertiger.de/wp-content/uploads/2019/02/VS_Logo_4C_RZ-1-e1700046855709.jpg
END:VEVENT
END:VCALENDAR