BEGIN:VCALENDAR
VERSION:2.0
PRODID:-//ife - Netzwerk für Einzelfertiger - ECPv6.15.12.2//NONSGML v1.0//EN
CALSCALE:GREGORIAN
METHOD:PUBLISH
X-ORIGINAL-URL:https://www.ife-institut-einzelfertiger.de
X-WR-CALDESC:Veranstaltungen für ife - Netzwerk für Einzelfertiger
REFRESH-INTERVAL;VALUE=DURATION:PT1H
X-Robots-Tag:noindex
X-PUBLISHED-TTL:PT1H
BEGIN:VTIMEZONE
TZID:Europe/Berlin
BEGIN:DAYLIGHT
TZOFFSETFROM:+0100
TZOFFSETTO:+0200
TZNAME:CEST
DTSTART:20210328T010000
END:DAYLIGHT
BEGIN:STANDARD
TZOFFSETFROM:+0200
TZOFFSETTO:+0100
TZNAME:CET
DTSTART:20211031T010000
END:STANDARD
BEGIN:DAYLIGHT
TZOFFSETFROM:+0100
TZOFFSETTO:+0200
TZNAME:CEST
DTSTART:20220327T010000
END:DAYLIGHT
BEGIN:STANDARD
TZOFFSETFROM:+0200
TZOFFSETTO:+0100
TZNAME:CET
DTSTART:20221030T010000
END:STANDARD
BEGIN:DAYLIGHT
TZOFFSETFROM:+0100
TZOFFSETTO:+0200
TZNAME:CEST
DTSTART:20230326T010000
END:DAYLIGHT
BEGIN:STANDARD
TZOFFSETFROM:+0200
TZOFFSETTO:+0100
TZNAME:CET
DTSTART:20231029T010000
END:STANDARD
END:VTIMEZONE
BEGIN:VEVENT
DTSTART;TZID=Europe/Berlin:20221117T093000
DTEND;TZID=Europe/Berlin:20221117T093000
DTSTAMP:20260424T031644
CREATED:20221101T100035Z
LAST-MODIFIED:20221101T100035Z
UID:4563395-1668677400-1668677400@www.ife-institut-einzelfertiger.de
SUMMARY:ams.erp Praxistag
DESCRIPTION:[vc_row][vc_column][vc_column_text] \nERP für Losgröße 1+\nSo funktioniert effizientes Projektmanagement\nSie möchten die organisatorischen Abläufe und Strukturen im Unternehmen verbessern und Ihre Geschäftsprozesse optimieren? \nDann brauchen Sie ein ERP-System\, das Ihre Projekte entlang der gesamten Wertschöpfungskette optimal unterstützt. \nUnsere branchenorientierte Business-Software ams.erp bildet die zentrale Datendrehscheibe für sämtliche Unternehmensprozesse. Die gewonnene Transparenz erhöht Ihre Planungssicherheit\, steigert die Profitabilität Ihres Unternehmens und damit Ihre Wettbewerbsfähigkeit\, für mehr Wachstum und eine sichere Zukunft. \nUnsere Praxisbeispiele zeigen Ihnen\, welchen Mehrwert Sie durch den Einsatz unserer ERP-Lösung für sich und Ihre Kunden schaffen können. \nAgenda \n\n\n\n09:30\nCome Together\n\n\n10:00\nBegrüßung der Teilnehmer und Kurzvorstellung\nAxel Schmidhäuser\, Branchenmanager\, ams.Solution AG\n\n\n10:15\nVorstellung ams.erp | Das moderne und flexible Projektmanagement-ERP für Ihre effiziente Projektsteuerung und -planung.\nRonny Friedel\, Presales\, ams.Solution AG\n\n\n11:45\nKaffee- und Diskussionspause\n\n\n\n12:15\nams.erp im Maschinenbau – ein Erfahrungsbericht aus der Praxis\n\n\n13:00\n\nMittagspause\n\n\n14:00\n\nVollständige Integration von CAD und PDM für mehr Produktivität in Konstruktion und Produktion\nMarkus Rieche\, PreSales Consultant\, ams.Solution AG\n\n\n14:45\n\nGesprächsrunde mit den Referenzkunden\nDie Gesprächsrunde ermöglicht Ihnen\, Ihre Fragen rund um den Einsatz von ams.erp und den gesamten Organisationsablauf direkt an unseren Kunden zu stellen.\n\n\n15:30\n\nVoraussichtliches Ende\n\n\n\n  \nDie Veranstaltung ist kostenlos! \nHier geht es zur Anmeldung » \nWeitere ams-Praxistage [/vc_column_text][/vc_column][/vc_row]
URL:https://www.ife-institut-einzelfertiger.de/event/ams-erp-praxistage-2/
LOCATION:Hotel Langwieder See\, Kreuzkapellenstraße 89\, München\, Bayern\, 81249
CATEGORIES:Archiv
ATTACH;FMTTYPE=image/png:https://www.ife-institut-einzelfertiger.de/wp-content/uploads/2020/11/LogoNEU_ams_web-1.png
END:VEVENT
BEGIN:VEVENT
DTSTART;TZID=Europe/Berlin:20221122T090000
DTEND;TZID=Europe/Berlin:20221122T160000
DTSTAMP:20260424T031644
CREATED:20221018T080014Z
LAST-MODIFIED:20221018T080014Z
UID:4157559-1669107600-1669132800@www.ife-institut-einzelfertiger.de
SUMMARY:fluss|aufwerts Praxistag – der Workout für den Arbeitsfluss
DESCRIPTION:[vc_row][vc_column][vc_column_text] \nLeben ist Fließen\nDas Leben ist wie ein Fluss. Es kann sich nur weiterentwickeln\, wenn es fließt. Dies gilt auch für das Arbeitsleben. fluss|aufwerts steht für die Vision\, Barrieren zu eliminieren\, um Raum für das Wesentliche zu schaffen. \nAllem\, was Menschen ausbremst und an ihrer Entfaltung hindert\, hat die aufwerts GmbH den Kampf angesagt. In jahrelanger Erfahrung hat das Beratungshaus Methoden perfektioniert und erweitert\, daraus einen Praxistag entwickelt und diesen fluss|aufwerts getauft. \n\nFließen bringt voran\naufwerts bringt Arbeit in Fluss. Sie halten sich nicht damit auf\, darüber Vorträge zu halten. Sie gehen direkt in die Praxis. \nEntwickeln Sie im Training ein tiefes Verständnis für Zusammenhänge\, die Zeitverschwendung bewirken\, und entdecken Sie den Weg zu Effizienz\, Motivation und Freude. Bringen Sie Ihre Arbeit in Fluss. \nIn lebhaften Diskussionen sowie praxisnahen Rollenspielen und Übungen erreichen Sie dies in kürzester Zeit. aufwerts vermittelt und macht erlebbar\, wie es funktioniert\, in weniger Zeit mehr zu schaffen. Agil und fokussiert. \n\n  \nZukunft ist fließend\nDie Qualität von fluss|aufwerts – an die Quelle gehen\, um Arbeitsabläufe nachhaltig zu verbessern. Dazu befragen sie regelmäßig ihre Teilnehmer. Sie bestätigen\, dass es funktioniert. Ein einziger Tag\, der das ganze Arbeitsleben verändert. Und das dauerhaft – mit Leichtigkeit und Freude. \nNehmen Sie an dem Praxistag: „fluss|aufwerts – Workout für meinen Arbeitsfluss“ in Oldenburg teil. Sie erwartet ein Tag voller Ideen\, lebhafter Diskussionen sowie praxisnaher Rollenspiele und Übungen mit Gleichgesinnten. Anbei erhalten Sie noch einige organisatorische Hinweise: \nZeitraum: 09:00 – 16:00 Uhr (bitte planen Sie ein wenig Reserve ein\, da das Training bei aktiven Gruppen maximal bis 17:00 dauern kann) \nFür Essen und Trinken ist gesorgt. \nEs ist toll\, wenn Sie Neugier\, gute Laune und eine gute Portion Erfahrungen aus Ihrem Arbeitsalltag mitbringen. \n\n  \nAnmeldung und Teilnahme\nDie Teilnahmegebühr beträgt 250 Euro zzgl. 19% USt.\nMelden Sie sich an\, per Mail an ingo.koerner@aufwerts.org oder über das Xing Event.[/vc_column_text][/vc_column][/vc_row][vc_row][vc_column][vc_separator][/vc_column][/vc_row][vc_row][vc_column][testimonials_list style=“quote“ category=“aufwerts“][/vc_column][/vc_row]
URL:https://www.ife-institut-einzelfertiger.de/event/flussaufwerts-praxistag-der-workout-fuer-den-arbeitsfluss-2/
LOCATION:Patentkrug\, Wilhelmshavener Heerstraße 359\, Oldenburg\, Niedersachsen\, 26125\, Deutschland
CATEGORIES:Archiv
ATTACH;FMTTYPE=image/png:https://www.ife-institut-einzelfertiger.de/wp-content/uploads/2021/12/Aufwerts-web-1.png
ORGANIZER;CN="aufwerts GmbH":MAILTO:hallo@aufwerts.org
END:VEVENT
BEGIN:VEVENT
DTSTART;TZID=Europe/Berlin:20221122T090000
DTEND;TZID=Europe/Berlin:20221122T160000
DTSTAMP:20260424T031644
CREATED:20221018T080014Z
LAST-MODIFIED:20221018T080014Z
UID:4563400-1669107600-1669132800@www.ife-institut-einzelfertiger.de
SUMMARY:fluss|aufwerts Praxistag – der Workout für den Arbeitsfluss
DESCRIPTION:[vc_row][vc_column][vc_column_text] \nLeben ist Fließen\nDas Leben ist wie ein Fluss. Es kann sich nur weiterentwickeln\, wenn es fließt. Dies gilt auch für das Arbeitsleben. fluss|aufwerts steht für die Vision\, Barrieren zu eliminieren\, um Raum für das Wesentliche zu schaffen. \nAllem\, was Menschen ausbremst und an ihrer Entfaltung hindert\, hat die aufwerts GmbH den Kampf angesagt. In jahrelanger Erfahrung hat das Beratungshaus Methoden perfektioniert und erweitert\, daraus einen Praxistag entwickelt und diesen fluss|aufwerts getauft. \n\nFließen bringt voran\naufwerts bringt Arbeit in Fluss. Sie halten sich nicht damit auf\, darüber Vorträge zu halten. Sie gehen direkt in die Praxis. \nEntwickeln Sie im Training ein tiefes Verständnis für Zusammenhänge\, die Zeitverschwendung bewirken\, und entdecken Sie den Weg zu Effizienz\, Motivation und Freude. Bringen Sie Ihre Arbeit in Fluss. \nIn lebhaften Diskussionen sowie praxisnahen Rollenspielen und Übungen erreichen Sie dies in kürzester Zeit. aufwerts vermittelt und macht erlebbar\, wie es funktioniert\, in weniger Zeit mehr zu schaffen. Agil und fokussiert. \n\n  \nZukunft ist fließend\nDie Qualität von fluss|aufwerts – an die Quelle gehen\, um Arbeitsabläufe nachhaltig zu verbessern. Dazu befragen sie regelmäßig ihre Teilnehmer. Sie bestätigen\, dass es funktioniert. Ein einziger Tag\, der das ganze Arbeitsleben verändert. Und das dauerhaft – mit Leichtigkeit und Freude. \nNehmen Sie an dem Praxistag: „fluss|aufwerts – Workout für meinen Arbeitsfluss“ in Oldenburg teil. Sie erwartet ein Tag voller Ideen\, lebhafter Diskussionen sowie praxisnaher Rollenspiele und Übungen mit Gleichgesinnten. Anbei erhalten Sie noch einige organisatorische Hinweise: \nZeitraum: 09:00 – 16:00 Uhr (bitte planen Sie ein wenig Reserve ein\, da das Training bei aktiven Gruppen maximal bis 17:00 dauern kann) \nFür Essen und Trinken ist gesorgt. \nEs ist toll\, wenn Sie Neugier\, gute Laune und eine gute Portion Erfahrungen aus Ihrem Arbeitsalltag mitbringen. \n\n  \nAnmeldung und Teilnahme\nDie Teilnahmegebühr beträgt 250 Euro zzgl. 19% USt.\nMelden Sie sich an\, per Mail an ingo.koerner@aufwerts.org oder über das Xing Event.[/vc_column_text][/vc_column][/vc_row][vc_row][vc_column][vc_separator][/vc_column][/vc_row][vc_row][vc_column][testimonials_list style=“quote“ category=“aufwerts“][/vc_column][/vc_row]
URL:https://www.ife-institut-einzelfertiger.de/event/flussaufwerts-praxistag-der-workout-fuer-den-arbeitsfluss-2-2/
LOCATION:Patentkrug\, Wilhelmshavener Heerstraße 359\, Oldenburg\, Niedersachsen\, 26125\, Deutschland
CATEGORIES:Archiv
ATTACH;FMTTYPE=image/png:https://www.ife-institut-einzelfertiger.de/wp-content/uploads/2021/12/Aufwerts-web-1.png
ORGANIZER;CN="aufwerts GmbH":MAILTO:hallo@aufwerts.org
END:VEVENT
BEGIN:VEVENT
DTSTART;VALUE=DATE:20221124
DTEND;VALUE=DATE:20221126
DTSTAMP:20260424T031644
CREATED:20201018T085142Z
LAST-MODIFIED:20201018T085142Z
UID:4527762-1669248000-1669420799@www.ife-institut-einzelfertiger.de
SUMMARY:Führung Fokus Wertschöpfung
DESCRIPTION:[vc_row][vc_column][vc_column_text] \nTraining\nOrganisationen lösen Probleme. Tagein\, tagaus. Probleme sind Ereignisse oder Umstände\, die eine Organisation nicht schadfrei ignorieren kann. Also zum Beispiel auch ein Kundenauftrag. Eine der Kernaufgaben einer Führungskraft liegt darin\, für passende und zügige Lösung dieser Probleme zu sorgen\, einen Rahmen für “Saugute Zusammenarbeit” zu stiften. \n“Saugute Zusammenarbeit” als Führungskraft zu ermöglichen kann man nicht in einer Schulung lernen. Und trotzdem gibt es Denkmodelle und Tools\, die dabei helfen und Stolperfallen\, die man kennen muss. \nEntlang eines strukturierten Problemlösungskreislaufs lernen Sie in 2×2 Tagen alles Nötige und Hilfreiche kennen\, um wirtschaftlich relevante Probleme für Ihre Organisation besser und schneller zu lösen. Die inhaltlichen Theorie-Bausteine sind angereichert um praxisnahen Austausch vor Ort zu ermöglichen. \nDenn: Bei Herding läuft einiges anders\, Führung wird nicht strikt als Stelle oder Position verstanden. Vielmehr als Phänomen der freiwilligen Gefolgschaft. Trotzdem gibt es auch formelle Hierarchie und die Führung durch Macht – also Steuerung. Was das ganz konkret bedeutet und wie sich die im Training vermittelten Inhalts-Elemente für die Beteiligten vor Ort anfühlen und ihren Nutzen entfalten\, erfahren wir im direkten Praxis-Austausch vor Ort mit KollegInnen von Herding.[/vc_column_text][vc_column_text] \nInhalte\nJede Firma entwickelt sich ständig weiter und passt sich an den Wettbewerbsdruck an. Führung stiftet den Rahmen für diese Entwicklung. In manchen Firmen mehr\, in anderen weniger… Theoretisch können also Führungskräfte neue\, erfolgreiche Muster der Zusammenarbeit etablieren. Aber wie funktioniert das in der Praxis?[/vc_column_text][vc_column_text] \n\n\nDer Trainingsplan\n\n\n\n\n\n2  Tage bei Herding GmbH\, Stuttgart\nImpulse und neue Perspektiven auf Führungsarbeit\nReflexion gemeinsam mit verschiedenen Führungskräften der Firma Herding\nTrainer: T. Comanns & B. Löffler (V&S)\, F. Schünke (CTO Herding)\, B. Wennicke\nReflexionsgespräch im Nachgang\nTrainings-Zertifikat\n\n\n\n[/vc_column_text][vc_column_text] \nGastgeber\nHerding GmbH Filtertechnik[/vc_column_text][vc_column_text] \nAnmeldung und Teilnahme\nDie Ausbildungskosten inklusive Mittagessen und Getränke betragen 990\,00 € zzgl. MwSt. pro Person\, für ife-Mitglieder nur 792 €.\nMelden Sie sich an\, per Mail an info@ife-institut-einzelfertiger.de oder über unser Kontaktformular. \nAnmeldungen werden nach Anmeldeeingang berücksichtigt. \n  \nWeitere Infos finden Sie hier »
URL:https://www.ife-institut-einzelfertiger.de/event/fuehrung-fokus-wertschoepfung/
LOCATION:Herding GmbH\, Stuttgart\, Deutschland
CATEGORIES:Archiv
ATTACH;FMTTYPE=image/jpeg:https://www.ife-institut-einzelfertiger.de/wp-content/uploads/2022/04/vS-Herding-1.jpg
END:VEVENT
BEGIN:VEVENT
DTSTART;VALUE=DATE:20221124
DTEND;VALUE=DATE:20221126
DTSTAMP:20260424T031644
CREATED:20201018T085142Z
LAST-MODIFIED:20201018T085142Z
UID:4563392-1669248000-1669420799@www.ife-institut-einzelfertiger.de
SUMMARY:Führung Fokus Wertschöpfung
DESCRIPTION:[vc_row][vc_column][vc_column_text] \nTraining\nOrganisationen lösen Probleme. Tagein\, tagaus. Probleme sind Ereignisse oder Umstände\, die eine Organisation nicht schadfrei ignorieren kann. Also zum Beispiel auch ein Kundenauftrag. Eine der Kernaufgaben einer Führungskraft liegt darin\, für passende und zügige Lösung dieser Probleme zu sorgen\, einen Rahmen für “Saugute Zusammenarbeit” zu stiften. \n“Saugute Zusammenarbeit” als Führungskraft zu ermöglichen kann man nicht in einer Schulung lernen. Und trotzdem gibt es Denkmodelle und Tools\, die dabei helfen und Stolperfallen\, die man kennen muss. \nEntlang eines strukturierten Problemlösungskreislaufs lernen Sie in 2×2 Tagen alles Nötige und Hilfreiche kennen\, um wirtschaftlich relevante Probleme für Ihre Organisation besser und schneller zu lösen. Die inhaltlichen Theorie-Bausteine sind angereichert um praxisnahen Austausch vor Ort zu ermöglichen. \nDenn: Bei Herding läuft einiges anders\, Führung wird nicht strikt als Stelle oder Position verstanden. Vielmehr als Phänomen der freiwilligen Gefolgschaft. Trotzdem gibt es auch formelle Hierarchie und die Führung durch Macht – also Steuerung. Was das ganz konkret bedeutet und wie sich die im Training vermittelten Inhalts-Elemente für die Beteiligten vor Ort anfühlen und ihren Nutzen entfalten\, erfahren wir im direkten Praxis-Austausch vor Ort mit KollegInnen von Herding.[/vc_column_text][vc_column_text] \nInhalte\nJede Firma entwickelt sich ständig weiter und passt sich an den Wettbewerbsdruck an. Führung stiftet den Rahmen für diese Entwicklung. In manchen Firmen mehr\, in anderen weniger… Theoretisch können also Führungskräfte neue\, erfolgreiche Muster der Zusammenarbeit etablieren. Aber wie funktioniert das in der Praxis?[/vc_column_text][vc_column_text] \n\n\nDer Trainingsplan\n\n\n\n\n\n2  Tage bei Herding GmbH\, Stuttgart\nImpulse und neue Perspektiven auf Führungsarbeit\nReflexion gemeinsam mit verschiedenen Führungskräften der Firma Herding\nTrainer: T. Comanns & B. Löffler (V&S)\, F. Schünke (CTO Herding)\, B. Wennicke\nReflexionsgespräch im Nachgang\nTrainings-Zertifikat\n\n\n\n[/vc_column_text][vc_column_text] \nGastgeber\nHerding GmbH Filtertechnik[/vc_column_text][vc_column_text] \nAnmeldung und Teilnahme\nDie Ausbildungskosten inklusive Mittagessen und Getränke betragen 990\,00 € zzgl. MwSt. pro Person\, für ife-Mitglieder nur 792 €.\nMelden Sie sich an\, per Mail an info@ife-institut-einzelfertiger.de oder über unser Kontaktformular. \nAnmeldungen werden nach Anmeldeeingang berücksichtigt. \n  \nWeitere Infos finden Sie hier »
URL:https://www.ife-institut-einzelfertiger.de/event/fuehrung-fokus-wertschoepfung-3/
LOCATION:Herding GmbH\, Stuttgart\, Deutschland
CATEGORIES:Archiv
ATTACH;FMTTYPE=image/jpeg:https://www.ife-institut-einzelfertiger.de/wp-content/uploads/2022/04/vS-Herding-1.jpg
END:VEVENT
END:VCALENDAR