BEGIN:VCALENDAR
VERSION:2.0
PRODID:-//ife - Netzwerk für Einzelfertiger - ECPv6.15.12.2//NONSGML v1.0//EN
CALSCALE:GREGORIAN
METHOD:PUBLISH
X-ORIGINAL-URL:https://www.ife-institut-einzelfertiger.de
X-WR-CALDESC:Veranstaltungen für ife - Netzwerk für Einzelfertiger
REFRESH-INTERVAL;VALUE=DURATION:PT1H
X-Robots-Tag:noindex
X-PUBLISHED-TTL:PT1H
BEGIN:VTIMEZONE
TZID:Europe/Berlin
BEGIN:DAYLIGHT
TZOFFSETFROM:+0100
TZOFFSETTO:+0200
TZNAME:CEST
DTSTART:20210328T010000
END:DAYLIGHT
BEGIN:STANDARD
TZOFFSETFROM:+0200
TZOFFSETTO:+0100
TZNAME:CET
DTSTART:20211031T010000
END:STANDARD
BEGIN:DAYLIGHT
TZOFFSETFROM:+0100
TZOFFSETTO:+0200
TZNAME:CEST
DTSTART:20220327T010000
END:DAYLIGHT
BEGIN:STANDARD
TZOFFSETFROM:+0200
TZOFFSETTO:+0100
TZNAME:CET
DTSTART:20221030T010000
END:STANDARD
BEGIN:DAYLIGHT
TZOFFSETFROM:+0100
TZOFFSETTO:+0200
TZNAME:CEST
DTSTART:20230326T010000
END:DAYLIGHT
BEGIN:STANDARD
TZOFFSETFROM:+0200
TZOFFSETTO:+0100
TZNAME:CET
DTSTART:20231029T010000
END:STANDARD
END:VTIMEZONE
BEGIN:VEVENT
DTSTART;TZID=Europe/Berlin:20220906T093000
DTEND;TZID=Europe/Berlin:20220906T170000
DTSTAMP:20260424T053236
CREATED:20210605T125530Z
LAST-MODIFIED:20210605T125530Z
UID:1533906-1662456600-1662483600@www.ife-institut-einzelfertiger.de
SUMMARY:Praxistag: Zukunftsstrategie Maschinenbau (kostenlos)
DESCRIPTION:[vc_row][vc_column][vc_column_text] \nIdeenreich\, engagiert mit hoher Dynamik umgehen.\nOptionen für eine wirksame Gestaltung der sprunghaften Zukunft im Maschinenbau.\nDynamik bedeutet\, dass Unvorhersehbares geschieht und bewältigt wird.\nBeispielsweise hoher Umsatz trotz Materialknappheit. Mitarbeiter finden. Engagement steigern.\nNun wird es sich zeigen\, wie „agil“ die Unternehmen wirklich sind. Wie schnell konnten sie umsteuern und den Materialmangel zu ihrem Vorteil nutzen? \nWie loyal\, originell\, ideen- und energiereich sind Mitarbeiter und Management? In einer Krise zeigen und prägen sich die Werte einer Organisation. Ideen\, Lösungen und Strukturen wachsen im Druck der Realität. \nEs gibt Firmen\, die sprudeln über vor Ideen und reagieren blitzschnell auf Konjunktur- und Marktänderungen. Sie reagieren schneller und wirksamer auf Unvorhergesehenes. Was ist deren Geheimnis? \nAn diesem Praxistag liegt der Fokus auf folgenden Themen: Führung\, Teams\, Material\, Flexibilität und Innovation. \nDie relevanten Fragen: \n\nWie entwickelt sich eine Verantwortungs-Kultur? Welche Rahmenbedingungen braucht es dafür?\nWie kann ich Dynamik\, Ideenreichtum und damit letztlich organisatorische Innovation entfesseln?\nWas sind die zentralen Aufgaben des Management-Teams um die Organisation zu entwickeln?\n\nInhalte\nImpuls: Krisenfeste Organisationen. Besonderheiten \nWorkshops zu Themenschwerpunkten: \n\nFührung: konstruktive Irritation wichtiger Vorgaben\nTeams: Verantwortung statt Abteilungen\nMaterial: Durchsatz wichtiger als Kosten\nFlexibilität: Vernetzung wichtiger als Prozesse\nInnovation: Experimente wichtiger als Planung\n\n[/vc_column_text][/vc_column][/vc_row][vc_row][vc_column][vc_column_text] \n\n \nBenno Löffler\, geschäftsführender Partner der Vollmer & Scheffczyk GmbH \n\nDer Referent: Benno Löffler\,\nist seit 2005 Geschäftsführender Partner von V&S. Maschinenbau hat er mal studiert. Jetzt denkt er gemeinsam mit seinen Klienten den Maschinenbau neu. Dabei denkt er nicht mehr an Maschinen\, sondern an der Leistungsfähigkeit der Organisation.[/vc_column_text][/vc_column][/vc_row][vc_row][vc_column][vc_column_text] \nGastgeber\nPHOENIX CONTACT Gmbh & Co. KG\, Blomberg[/vc_column_text][vc_column_text] \nAnmeldung und Teilnahme\nDie Teilnahme ist kostenlos.\nMelden Sie sich per Mail an: info@ife-institut-einzelfertiger.de oder über unser Kontaktformular.[/vc_column_text][/vc_column][/vc_row]
URL:https://www.ife-institut-einzelfertiger.de/event/praxistag-krise-als-beschleuniger/
LOCATION:PHOENIX CONTACT GmbH & Co. KG\, Flachsmarktstraße 8\, Blomberg\, 32825\, Deutschland
CATEGORIES:Archiv
ATTACH;FMTTYPE=image/jpeg:https://www.ife-institut-einzelfertiger.de/wp-content/uploads/2019/02/Phoenix_Contact_Logo.svg-1-e1695718790477.jpg
END:VEVENT
BEGIN:VEVENT
DTSTART;TZID=Europe/Berlin:20220906T093000
DTEND;TZID=Europe/Berlin:20220906T170000
DTSTAMP:20260424T053236
CREATED:20210605T125530Z
LAST-MODIFIED:20210605T125530Z
UID:4563374-1662456600-1662483600@www.ife-institut-einzelfertiger.de
SUMMARY:Praxistag: Zukunftsstrategie Maschinenbau (kostenlos)
DESCRIPTION:[vc_row][vc_column][vc_column_text] \nIdeenreich\, engagiert mit hoher Dynamik umgehen.\nOptionen für eine wirksame Gestaltung der sprunghaften Zukunft im Maschinenbau.\nDynamik bedeutet\, dass Unvorhersehbares geschieht und bewältigt wird.\nBeispielsweise hoher Umsatz trotz Materialknappheit. Mitarbeiter finden. Engagement steigern.\nNun wird es sich zeigen\, wie „agil“ die Unternehmen wirklich sind. Wie schnell konnten sie umsteuern und den Materialmangel zu ihrem Vorteil nutzen? \nWie loyal\, originell\, ideen- und energiereich sind Mitarbeiter und Management? In einer Krise zeigen und prägen sich die Werte einer Organisation. Ideen\, Lösungen und Strukturen wachsen im Druck der Realität. \nEs gibt Firmen\, die sprudeln über vor Ideen und reagieren blitzschnell auf Konjunktur- und Marktänderungen. Sie reagieren schneller und wirksamer auf Unvorhergesehenes. Was ist deren Geheimnis? \nAn diesem Praxistag liegt der Fokus auf folgenden Themen: Führung\, Teams\, Material\, Flexibilität und Innovation. \nDie relevanten Fragen: \n\nWie entwickelt sich eine Verantwortungs-Kultur? Welche Rahmenbedingungen braucht es dafür?\nWie kann ich Dynamik\, Ideenreichtum und damit letztlich organisatorische Innovation entfesseln?\nWas sind die zentralen Aufgaben des Management-Teams um die Organisation zu entwickeln?\n\nInhalte\nImpuls: Krisenfeste Organisationen. Besonderheiten \nWorkshops zu Themenschwerpunkten: \n\nFührung: konstruktive Irritation wichtiger Vorgaben\nTeams: Verantwortung statt Abteilungen\nMaterial: Durchsatz wichtiger als Kosten\nFlexibilität: Vernetzung wichtiger als Prozesse\nInnovation: Experimente wichtiger als Planung\n\n[/vc_column_text][/vc_column][/vc_row][vc_row][vc_column][vc_column_text] \n\n \nBenno Löffler\, geschäftsführender Partner der Vollmer & Scheffczyk GmbH \n\nDer Referent: Benno Löffler\,\nist seit 2005 Geschäftsführender Partner von V&S. Maschinenbau hat er mal studiert. Jetzt denkt er gemeinsam mit seinen Klienten den Maschinenbau neu. Dabei denkt er nicht mehr an Maschinen\, sondern an der Leistungsfähigkeit der Organisation.[/vc_column_text][/vc_column][/vc_row][vc_row][vc_column][vc_column_text] \nGastgeber\nPHOENIX CONTACT Gmbh & Co. KG\, Blomberg[/vc_column_text][vc_column_text] \nAnmeldung und Teilnahme\nDie Teilnahme ist kostenlos.\nMelden Sie sich per Mail an: info@ife-institut-einzelfertiger.de oder über unser Kontaktformular.[/vc_column_text][/vc_column][/vc_row]
URL:https://www.ife-institut-einzelfertiger.de/event/praxistag-krise-als-beschleuniger-2/
LOCATION:PHOENIX CONTACT GmbH & Co. KG\, Flachsmarktstraße 8\, Blomberg\, 32825\, Deutschland
CATEGORIES:Archiv
ATTACH;FMTTYPE=image/jpeg:https://www.ife-institut-einzelfertiger.de/wp-content/uploads/2019/02/Phoenix_Contact_Logo.svg-1-e1695718790477.jpg
END:VEVENT
BEGIN:VEVENT
DTSTART;TZID=Europe/Berlin:20220913T090000
DTEND;TZID=Europe/Berlin:20220917T180000
DTSTAMP:20260424T053236
CREATED:20210603T075450Z
LAST-MODIFIED:20210603T075450Z
UID:4563389-1663059600-1663437600@www.ife-institut-einzelfertiger.de
SUMMARY:AMB | Internationale Ausstellung für Metallbearbeitung
DESCRIPTION:AMB 2022\nInternationale Ausstellung für Metallbearbeitung\nDer Treffpunkt der Branche im Herzen Europas \nSeit 1982 präsentiert die AMB alle zwei Jahre die Highlights der internationalen Metallbearbeitungsindustrie. Dann stehen Produkte\, Technologien\, Innovationen\, Dienstleistungen und Konzepte im Fokus für Menschen\, die mit Leidenschaft und Herzblut für die Metallbearbeitung brennen. Damit ist sie Marktplatz\, Fortbildungsangebot und Netzwerkplattform zugleich. Ob BesucherIn oder AusstellerIn – die AMB ist über die Jahre hinweg zu einem der wichtigsten Termine im Branchenkalender geworden. \n13.-17. September 2022\, Stuttgart\nwww.messe-stuttgart.de/amb/ \n  \nams ist dabei und freut sich auf Sie!\n  \nTerminvereinbarung\nVereinbaren Sie hier einen persönlichen Termin » \n 
URL:https://www.ife-institut-einzelfertiger.de/event/amb-internationale-ausstellung-fuer-metallbearbeitung-2/
LOCATION:Stuttgart Messe\, Messepiazza 1\, Stuttgart\, BW\, 70629
CATEGORIES:Archiv
ATTACH;FMTTYPE=:
ORGANIZER;CN="ams.Solution AG":MAILTO:info@ams-erp.com
END:VEVENT
BEGIN:VEVENT
DTSTART;TZID=Europe/Berlin:20220913T090000
DTEND;TZID=Europe/Berlin:20220917T180000
DTSTAMP:20260424T053236
CREATED:20210603T075450Z
LAST-MODIFIED:20210603T075450Z
UID:4100885-1663059600-1663437600@www.ife-institut-einzelfertiger.de
SUMMARY:AMB | Internationale Ausstellung für Metallbearbeitung
DESCRIPTION:AMB 2022\nInternationale Ausstellung für Metallbearbeitung\nDer Treffpunkt der Branche im Herzen Europas \nSeit 1982 präsentiert die AMB alle zwei Jahre die Highlights der internationalen Metallbearbeitungsindustrie. Dann stehen Produkte\, Technologien\, Innovationen\, Dienstleistungen und Konzepte im Fokus für Menschen\, die mit Leidenschaft und Herzblut für die Metallbearbeitung brennen. Damit ist sie Marktplatz\, Fortbildungsangebot und Netzwerkplattform zugleich. Ob BesucherIn oder AusstellerIn – die AMB ist über die Jahre hinweg zu einem der wichtigsten Termine im Branchenkalender geworden. \n13.-17. September 2022\, Stuttgart\nwww.messe-stuttgart.de/amb/ \n  \nams ist dabei und freut sich auf Sie!\n  \nTerminvereinbarung\nVereinbaren Sie hier einen persönlichen Termin » \n 
URL:https://www.ife-institut-einzelfertiger.de/event/amb-internationale-ausstellung-fuer-metallbearbeitung/
LOCATION:Stuttgart Messe\, Messepiazza 1\, Stuttgart\, BW\, 70629
CATEGORIES:Archiv
ATTACH;FMTTYPE=:
ORGANIZER;CN="ams.Solution AG":MAILTO:info@ams-erp.com
END:VEVENT
END:VCALENDAR