BEGIN:VCALENDAR
VERSION:2.0
PRODID:-//ife - Netzwerk für Einzelfertiger - ECPv6.15.12.2//NONSGML v1.0//EN
CALSCALE:GREGORIAN
METHOD:PUBLISH
X-WR-CALNAME:ife - Netzwerk für Einzelfertiger
X-ORIGINAL-URL:https://www.ife-institut-einzelfertiger.de
X-WR-CALDESC:Veranstaltungen für ife - Netzwerk für Einzelfertiger
REFRESH-INTERVAL;VALUE=DURATION:PT1H
X-Robots-Tag:noindex
X-PUBLISHED-TTL:PT1H
BEGIN:VTIMEZONE
TZID:Europe/Berlin
BEGIN:DAYLIGHT
TZOFFSETFROM:+0100
TZOFFSETTO:+0200
TZNAME:CEST
DTSTART:20210328T010000
END:DAYLIGHT
BEGIN:STANDARD
TZOFFSETFROM:+0200
TZOFFSETTO:+0100
TZNAME:CET
DTSTART:20211031T010000
END:STANDARD
BEGIN:DAYLIGHT
TZOFFSETFROM:+0100
TZOFFSETTO:+0200
TZNAME:CEST
DTSTART:20220327T010000
END:DAYLIGHT
BEGIN:STANDARD
TZOFFSETFROM:+0200
TZOFFSETTO:+0100
TZNAME:CET
DTSTART:20221030T010000
END:STANDARD
BEGIN:DAYLIGHT
TZOFFSETFROM:+0100
TZOFFSETTO:+0200
TZNAME:CEST
DTSTART:20230326T010000
END:DAYLIGHT
BEGIN:STANDARD
TZOFFSETFROM:+0200
TZOFFSETTO:+0100
TZNAME:CET
DTSTART:20231029T010000
END:STANDARD
END:VTIMEZONE
BEGIN:VEVENT
DTSTART;TZID=Europe/Berlin:20220203T093000
DTEND;TZID=Europe/Berlin:20220203T113000
DTSTAMP:20260424T141704
CREATED:20220124T073334Z
LAST-MODIFIED:20220124T073334Z
UID:3705834-1643880600-1643887800@www.ife-institut-einzelfertiger.de
SUMMARY:Automatisierung von Geschäftsprozessen mit modernem ERP-Standard
DESCRIPTION:[vc_row][vc_column][vc_column_text] \nAutomatisierung von Geschäftsprozessen mit modernem ERP-Standard\nOnline-Event\nAutomatisierung von Geschäftsprozessen in einer flexiblen Lösung ist heute die Grundvoraussetzung\, um die eigene Wettbewerbsfähigkeit zu sichern! Deshalb bilden unsere Kunden ihr komplexes Projektgeschäft vollständig mit dem branchenorientierten ERP-System ams.erp ab. In unserem Online-Event erleben Sie Best Practice LIVE – direkt aus erster Hand. Bequem von Ihrem Schreibtisch aus! Einfach\, unverbindlich und kostenfrei. \nAgenda \n\n\n\n09:30\nBegrüßung und Kurzvorstellung ams.Solution AG\nRalf Ilsemann\, Branchenmanager ams.erp\, ams.Solution AG\n\n\n09:45\nEine ERP-Reise: vom Inselsystem zum SPoT (Single Point of Truth)\nPatrick Pirnay\, Bereichsleiter IT\, Rhein-Nadel Automation GmbH\n\n\n10:15\nVorstellung ams.erp | Das moderne und flexible Projektmanagement-ERP\nfür Ihre effiziente Projektsteuerung und -planung.\nRonny Friedel\, Presales Consultant\, ams.Solution AG\n\n\n\n11:00\nGesprächsrunde\n\n\n11:15\nEnde\n\n\n\nDie Veranstaltung ist kostenlos! \nHier geht es zur Anmeldung »[/vc_column_text][/vc_column][/vc_row]
URL:https://www.ife-institut-einzelfertiger.de/event/automatisierung-von-geschaeftsprozessen-mit-modernem-erp-standard/
LOCATION:Online\, Deutschland
CATEGORIES:Archiv
ATTACH;FMTTYPE=image/png:https://www.ife-institut-einzelfertiger.de/wp-content/uploads/2020/11/LogoNEU_ams_web-1.png
ORGANIZER;CN="ams.Solutio AG":MAILTO:info@ams-erp.com
END:VEVENT
BEGIN:VEVENT
DTSTART;TZID=Europe/Berlin:20220203T093000
DTEND;TZID=Europe/Berlin:20220203T113000
DTSTAMP:20260424T141704
CREATED:20220124T073334Z
LAST-MODIFIED:20220124T073334Z
UID:4563397-1643880600-1643887800@www.ife-institut-einzelfertiger.de
SUMMARY:Automatisierung von Geschäftsprozessen mit modernem ERP-Standard
DESCRIPTION:[vc_row][vc_column][vc_column_text] \nAutomatisierung von Geschäftsprozessen mit modernem ERP-Standard\nOnline-Event\nAutomatisierung von Geschäftsprozessen in einer flexiblen Lösung ist heute die Grundvoraussetzung\, um die eigene Wettbewerbsfähigkeit zu sichern! Deshalb bilden unsere Kunden ihr komplexes Projektgeschäft vollständig mit dem branchenorientierten ERP-System ams.erp ab. In unserem Online-Event erleben Sie Best Practice LIVE – direkt aus erster Hand. Bequem von Ihrem Schreibtisch aus! Einfach\, unverbindlich und kostenfrei. \nAgenda \n\n\n\n09:30\nBegrüßung und Kurzvorstellung ams.Solution AG\nRalf Ilsemann\, Branchenmanager ams.erp\, ams.Solution AG\n\n\n09:45\nEine ERP-Reise: vom Inselsystem zum SPoT (Single Point of Truth)\nPatrick Pirnay\, Bereichsleiter IT\, Rhein-Nadel Automation GmbH\n\n\n10:15\nVorstellung ams.erp | Das moderne und flexible Projektmanagement-ERP\nfür Ihre effiziente Projektsteuerung und -planung.\nRonny Friedel\, Presales Consultant\, ams.Solution AG\n\n\n\n11:00\nGesprächsrunde\n\n\n11:15\nEnde\n\n\n\nDie Veranstaltung ist kostenlos! \nHier geht es zur Anmeldung »[/vc_column_text][/vc_column][/vc_row]
URL:https://www.ife-institut-einzelfertiger.de/event/automatisierung-von-geschaeftsprozessen-mit-modernem-erp-standard-2/
LOCATION:Online\, Deutschland
CATEGORIES:Archiv
ATTACH;FMTTYPE=image/png:https://www.ife-institut-einzelfertiger.de/wp-content/uploads/2020/11/LogoNEU_ams_web-1.png
ORGANIZER;CN="ams.Solutio AG":MAILTO:info@ams-erp.com
END:VEVENT
END:VCALENDAR