BEGIN:VCALENDAR
VERSION:2.0
PRODID:-//ife - Netzwerk für Einzelfertiger - ECPv6.15.12.2//NONSGML v1.0//EN
CALSCALE:GREGORIAN
METHOD:PUBLISH
X-ORIGINAL-URL:https://www.ife-institut-einzelfertiger.de
X-WR-CALDESC:Veranstaltungen für ife - Netzwerk für Einzelfertiger
REFRESH-INTERVAL;VALUE=DURATION:PT1H
X-Robots-Tag:noindex
X-PUBLISHED-TTL:PT1H
BEGIN:VTIMEZONE
TZID:Europe/Berlin
BEGIN:DAYLIGHT
TZOFFSETFROM:+0100
TZOFFSETTO:+0200
TZNAME:CEST
DTSTART:20200329T010000
END:DAYLIGHT
BEGIN:STANDARD
TZOFFSETFROM:+0200
TZOFFSETTO:+0100
TZNAME:CET
DTSTART:20201025T010000
END:STANDARD
BEGIN:DAYLIGHT
TZOFFSETFROM:+0100
TZOFFSETTO:+0200
TZNAME:CEST
DTSTART:20210328T010000
END:DAYLIGHT
BEGIN:STANDARD
TZOFFSETFROM:+0200
TZOFFSETTO:+0100
TZNAME:CET
DTSTART:20211031T010000
END:STANDARD
BEGIN:DAYLIGHT
TZOFFSETFROM:+0100
TZOFFSETTO:+0200
TZNAME:CEST
DTSTART:20220327T010000
END:DAYLIGHT
BEGIN:STANDARD
TZOFFSETFROM:+0200
TZOFFSETTO:+0100
TZNAME:CET
DTSTART:20221030T010000
END:STANDARD
END:VTIMEZONE
BEGIN:VEVENT
DTSTART;TZID=Europe/Berlin:20211214T163000
DTEND;TZID=Europe/Berlin:20211214T183000
DTSTAMP:20260424T170714
CREATED:20201120T132012Z
LAST-MODIFIED:20201120T132012Z
UID:2717269-1639499400-1639506600@www.ife-institut-einzelfertiger.de
SUMMARY:Web-Seminar: Zukunftsstrategie Maschinenbau
DESCRIPTION:[vc_row][vc_column][vc_column_text] \nInhalt\nGerade jetzt steht der deutsche Maschinenbau vor einer vielleicht noch nie dagewesenen Herausforderung\, er ist gezwungen sich neu zu erfinden. Es geht nicht nur um die nächste Produktinnovation\, es geht um mehr. Viel mehr. \nGeschwindigkeit. Geschäftsmodelle. Organisation. Produkte. \nFür diese Facetten der Veränderung herrscht grundsätzlich kein Mangel an Ideen. Es herrscht vielmehr ein Mangel an Fokussierung\, notwendigem Umfeld\, Lernen und Energie. Das wirkt sich trotz guter Ideen negativ auf Ihre Zukunftsfähigkeit aus. \nUnter dem Begriff V&S Zukunftsstrategie Maschinenbau hat V&S  Ansätze konzipiert und zusammengetragen\, um die Hürden auf dem Weg zu einer gesteigerten Zukunftsfähigkeit zu überwinden. V&S arbeitet mit Ihnen an: \nInnovations-Energie freisetzen – konkrete Ideen entwickeln\, die Ihre Wettbewerbsfähigkeit steigern \nRessourcen fokussieren – die Hierarchie einer Organisation einsetzen\, wo sie am meisten nützt \nRahmenbedingungen ändern – eine nachhaltige Struktur schaffen\, die eine Innovations-Kultur entstehen lässt[/vc_column_text][vc_column_text]Es gibt Firmen\, die sprudeln über vor Ideen und reagieren blitzschnell auf Konjunktur- und Marktänderungen.\nWas ist deren Geheimnis? \nDie WebSeminare „Zukunftsstrategie Maschinenbau“ legen den Fokus auf Innovation. Und zwar dem Dreiklang aus Produkt-\, Geschäftsmodell- und Organisations-Innovation. Hier kondensiert V&S die Inhalte auf die Essenz\, regt zur Reflektion an und bietet auch online die Chance\, Erfahrungen aus der Praxis auszutauschen. \nAußerdem haben Sie im Anschluss die Möglichkeit ein weiteres Vertiefungs-WebSeminar für sich und Ihre Kolleg*innen zu buchen. Themenschwerpunkte\, Dauer und Gruppengröße werden individuell mit Ihnen zusammengestellt.[/vc_column_text][vc_column_text] \n\n \nBenno Löffler\, geschäftsführender Partner der Vollmer & Scheffczyk GmbH \n\nDer Referent: Benno Löffler\,\nist seit 2005 Geschäftsführender Partner von V&S. Maschinenbau hat er mal studiert. Jetzt denkt er gemeinsam mit seinen Klienten den Maschinenbau neu. Dabei denkt er nicht mehr an Maschinen\, sondern an der Leistungsfähigkeit der Organisation.[/vc_column_text][/vc_column][/vc_row][vc_row][vc_column][vc_column_text] \nAnmeldung\nDie Veranstaltung ist kostenfrei! \nMelden Sie sich an\, per Mail an info@ife-institut-einzelfertiger.de oder über unser Kontaktformular.[/vc_column_text][/vc_column][/vc_row]
URL:https://www.ife-institut-einzelfertiger.de/event/zukunftsstrategie-maschinenbau/
LOCATION:Online\, Deutschland
CATEGORIES:Archiv
ATTACH;FMTTYPE=image/jpeg:https://www.ife-institut-einzelfertiger.de/wp-content/uploads/2020/05/VS_Logo-200x200-1.jpg
END:VEVENT
BEGIN:VEVENT
DTSTART;TZID=Europe/Berlin:20211214T163000
DTEND;TZID=Europe/Berlin:20211214T183000
DTSTAMP:20260424T170714
CREATED:20201120T132012Z
LAST-MODIFIED:20201120T132012Z
UID:4563378-1639499400-1639506600@www.ife-institut-einzelfertiger.de
SUMMARY:Web-Seminar: Zukunftsstrategie Maschinenbau
DESCRIPTION:[vc_row][vc_column][vc_column_text] \nInhalt\nGerade jetzt steht der deutsche Maschinenbau vor einer vielleicht noch nie dagewesenen Herausforderung\, er ist gezwungen sich neu zu erfinden. Es geht nicht nur um die nächste Produktinnovation\, es geht um mehr. Viel mehr. \nGeschwindigkeit. Geschäftsmodelle. Organisation. Produkte. \nFür diese Facetten der Veränderung herrscht grundsätzlich kein Mangel an Ideen. Es herrscht vielmehr ein Mangel an Fokussierung\, notwendigem Umfeld\, Lernen und Energie. Das wirkt sich trotz guter Ideen negativ auf Ihre Zukunftsfähigkeit aus. \nUnter dem Begriff V&S Zukunftsstrategie Maschinenbau hat V&S  Ansätze konzipiert und zusammengetragen\, um die Hürden auf dem Weg zu einer gesteigerten Zukunftsfähigkeit zu überwinden. V&S arbeitet mit Ihnen an: \nInnovations-Energie freisetzen – konkrete Ideen entwickeln\, die Ihre Wettbewerbsfähigkeit steigern \nRessourcen fokussieren – die Hierarchie einer Organisation einsetzen\, wo sie am meisten nützt \nRahmenbedingungen ändern – eine nachhaltige Struktur schaffen\, die eine Innovations-Kultur entstehen lässt[/vc_column_text][vc_column_text]Es gibt Firmen\, die sprudeln über vor Ideen und reagieren blitzschnell auf Konjunktur- und Marktänderungen.\nWas ist deren Geheimnis? \nDie WebSeminare „Zukunftsstrategie Maschinenbau“ legen den Fokus auf Innovation. Und zwar dem Dreiklang aus Produkt-\, Geschäftsmodell- und Organisations-Innovation. Hier kondensiert V&S die Inhalte auf die Essenz\, regt zur Reflektion an und bietet auch online die Chance\, Erfahrungen aus der Praxis auszutauschen. \nAußerdem haben Sie im Anschluss die Möglichkeit ein weiteres Vertiefungs-WebSeminar für sich und Ihre Kolleg*innen zu buchen. Themenschwerpunkte\, Dauer und Gruppengröße werden individuell mit Ihnen zusammengestellt.[/vc_column_text][vc_column_text] \n\n \nBenno Löffler\, geschäftsführender Partner der Vollmer & Scheffczyk GmbH \n\nDer Referent: Benno Löffler\,\nist seit 2005 Geschäftsführender Partner von V&S. Maschinenbau hat er mal studiert. Jetzt denkt er gemeinsam mit seinen Klienten den Maschinenbau neu. Dabei denkt er nicht mehr an Maschinen\, sondern an der Leistungsfähigkeit der Organisation.[/vc_column_text][/vc_column][/vc_row][vc_row][vc_column][vc_column_text] \nAnmeldung\nDie Veranstaltung ist kostenfrei! \nMelden Sie sich an\, per Mail an info@ife-institut-einzelfertiger.de oder über unser Kontaktformular.[/vc_column_text][/vc_column][/vc_row]
URL:https://www.ife-institut-einzelfertiger.de/event/zukunftsstrategie-maschinenbau-2/
LOCATION:Online\, Deutschland
CATEGORIES:Archiv
ATTACH;FMTTYPE=image/jpeg:https://www.ife-institut-einzelfertiger.de/wp-content/uploads/2020/05/VS_Logo-200x200-1.jpg
END:VEVENT
END:VCALENDAR